PDS_VERSION_ID = PDS3
/* FILE DATA ELEMENTS */
RECORD_TYPE = STREAM
/* POINTERS TO DATA OBJECTS */
^COMPRESSED_FILE = "H4153_0000_S23.JP2"
/* IDENTIFICATION DATA ELEMENTS */
DATA_SET_ID = "MEX-M-HRSC-5-REFDR-MAPPROJECTED-V3.0"
DATA_SET_NAME = "MARS EXPRESS HRSC MAP PROJECTED REFDR V3.0"
DETECTOR_ID = MEX_HRSC_S2
EVENT_TYPE = "MARS-REGIONAL-MAPPING-Vo-Te-Im"
INSTRUMENT_HOST_ID = MEX
INSTRUMENT_HOST_NAME = "MARS EXPRESS"
INSTRUMENT_ID = HRSC
INSTRUMENT_NAME = "HIGH RESOLUTION STEREO CAMERA"
MISSION_NAME = "MARS EXPRESS"
MISSION_PHASE_NAME = ME_Phase_7
PROCESSING_LEVEL_ID = 3
PRODUCT_CREATION_TIME = 2016-04-20T19:30:25.000Z
PRODUCT_ID = "H4153_0000_S23.JP2"
RELEASE_ID = 0047
REVISION_ID = 0000
/* QUALITY DATA ELEMENTS */
DATA_QUALITY_ID = 2
DATA_QUALITY_DESC = "Data calculated based on photogrammetrically improved orbit and attitude data"
/* TIME DATA ELEMENTS */
SPACECRAFT_CLOCK_START_COUNT = "1/0123429069.07296"
SPACECRAFT_CLOCK_STOP_COUNT = "1/0123429420.22946"
START_TIME = 2007-03-31T13:51:13.287Z
STOP_TIME = 2007-03-31T13:56:07.682Z
/* ORBITAL DATA ELEMENTS */
ASCENDING_NODE_LONGITUDE = 141.29
MAXIMUM_RESOLUTION = 26.1
FOOTPRINT_POINT_LATITUDE = (-35.3883,-35.4084,-35.4236,-35.4239, -34.8018,-34.3866,-33.9746,-33.5693, -33.1677,-32.764,-32.3704,-31.976, -31.5802,-31.1836,-30.7856,-30.3865, -29.9853,-29.5837,-29.1811,-28.7766, -28.371,-27.8277,-27.486,-27.1437, -26.6285,-26.2846,-25.9395,-25.5943, -25.2478,-24.9001,-24.5521,-24.2036, -23.8545,-23.3324,-22.8227,-22.4825, -22.1417,-21.8002,-21.4579,-21.1188, -20.7873,-20.4549,-20.1222,-19.7887, -19.4543,-19.1198,-18.7849,-18.2857, -17.9616,-17.6367,-17.3117,-17.2766, -17.2542,-17.3877,-17.7126,-18.0373, -18.5312,-18.8661,-19.2003,-19.5347, -19.8685,-20.2018,-20.5341,-21.0335, -21.3714,-21.7136,-22.0552,-22.3959, -22.9064,-23.2462,-23.594,-23.9441, -24.2936,-24.6418,-24.9897,-25.3371, -25.683,-26.0288,-26.3738,-26.7177, -27.0611,-27.4036,-27.7456,-28.0867, -28.4892,-28.894,-29.298,-29.7012, -30.3032,-30.7028,-31.1017,-31.4992, -31.8953,-32.2906,-32.8886,-33.2914, -33.694,-34.1045,-34.7207,-35.3883)
FOOTPRINT_POINT_LONGITUDE = (276.376,275.787,275.207,274.649, 274.677,274.695,274.712,274.728,274.743 ,274.758,274.772,274.786,274.799, 274.812,274.825,274.837,274.849,274.86, 274.871,274.881,274.892,274.905,274.913 ,274.92,274.931,274.938,274.945,274.951 ,274.958,274.964,274.969,274.975,274.98 ,274.988,274.995,274.999,275.003, 275.007,275.011,275.015,275.018,275.021 ,275.024,275.027,275.029,275.032, 275.034,275.037,275.039,275.041,275.042 ,275.336,275.725,276.2,276.204,276.208, 276.214,276.219,276.223,276.228,276.232 ,276.237,276.242,276.248,276.254, 276.259,276.264,276.27,276.278,276.283, 276.289,276.295,276.3,276.306,276.312, 276.318,276.324,276.33,276.337,276.343, 276.35,276.356,276.363,276.37,276.377, 276.386,276.394,276.402,276.415,276.424 ,276.433,276.442,276.451,276.46,276.472 ,276.482,276.491,276.501,276.517, 276.376)
ORBIT_NUMBER = 4153
ORBITAL_ECCENTRICITY = 0.571
ORBITAL_INCLINATION = 86.67
ORBITAL_SEMIMAJOR_AXIS = 8627.73
PERIAPSIS_ALTITUDE = 302.42
PERIAPSIS_ARGUMENT_ANGLE = 346.54
PERIAPSIS_TIME = 2007-03-31T13:57:34.000Z
SPACECRAFT_ORIENTATION = (0.0,1.0,0.0)
^MEX_ORIENTATION_DESC = "MEX_ORIENTATION_DESC.TXT"
SPACECRAFT_POINTING_MODE = ACROSSTRACK
^MEX_POINTING_DESC = "MEX_POINTING_DESC.TXT"
RIGHT_ASCENSION = -1e+32
DECLINATION = -1e+32
OFFSET_ANGLE = -0.8
SPACECRAFT_SOLAR_DISTANCE = 2.11009e+08
TARGET_NAME = MARS
/* CAMERA DATA ELEMENTS */
DETECTOR_TEMPERATURE = 18.9822
FOCAL_PLANE_TEMPERATURE = 9.3989
INST_CMPRS_NAME = "DISCRETE COSINE TRANSFORMATION (DCT)"
INST_CMPRS_RATIO = 11.0113
INST_CMPRS_QUALITY = 0
INST_CMPRS_QUANTZ_TBL_ID = 0
INSTRUMENT_TEMPERATURE = 11.4379
LENS_TEMPERATURE = 9.8067
MACROPIXEL_SIZE = 2
MISSING_FRAMES = 0
PIXEL_SUBSAMPLING_FLAG = N
SIGNAL_CHAIN_ID = 1
/* RADIOMETRIC DATA ELEMENTS */
BANDWIDTH = 178.0
CENTER_FILTER_WAVELENGTH = 679.0
RADIANCE_OFFSET = 2.18014
RADIANCE_SCALING_FACTOR = 0.0145342
REFLECTANCE_SCALING_FACTOR = 0.00034271
MEX:REFLECTANCE_OFFSET = 0.0514065
/* IMAGE OBJECT DEFINITIONS */
OBJECT = IMAGE
  INTERCHANGE_FORMAT = BINARY
  LINES = 43015
  LINE_SAMPLES = 3586
  SAMPLE_TYPE = UNSIGNED_INTEGER
  SAMPLE_BITS = 8
  BANDS = 1
  BAND_STORAGE_TYPE = BAND_SEQUENTIAL
  MAXIMUM = 255
  MEAN = 97.4066
  MINIMUM = 1
  STANDARD_DEVIATION = 13.1856
END_OBJECT = IMAGE
/* MAP OBJECT DEFINITIONS */
OBJECT = IMAGE_MAP_PROJECTION
  ^DATA_SET_MAP_PROJECTION_CATALOG= "DSMAP.CAT"
  A_AXIS_RADIUS = 3396.0
  B_AXIS_RADIUS = 3396.0
  C_AXIS_RADIUS = 3396.0
  CENTER_LATITUDE = 0.0
  CENTER_LONGITUDE = 276.0
  COORDINATE_SYSTEM_NAME = PLANETOGRAPHIC
  COORDINATE_SYSTEM_TYPE = "BODY-FIXED ROTATING"
  EASTERNMOST_LONGITUDE = 276.517
  FIRST_STANDARD_PARALLEL = "N/A"
  LINE_FIRST_PIXEL = 1
  LINE_LAST_PIXEL = 43015
  LINE_PROJECTION_OFFSET = -40862.75
  MAP_PROJECTION_ROTATION = 0.0
  MAP_PROJECTION_TYPE = SINUSOIDAL
  MAP_RESOLUTION = 2370.85521546667
  MAP_SCALE = 0.025
  MAXIMUM_LATITUDE = -17.2542
  MINIMUM_LATITUDE = -35.4239
  POSITIVE_LONGITUDE_DIRECTION = EAST
  REFERENCE_LATITUDE = "N/A"
  REFERENCE_LONGITUDE = "N/A"
  SAMPLE_FIRST_PIXEL = 1
  SAMPLE_LAST_PIXEL = 3586
  SAMPLE_PROJECTION_OFFSET = 2506.25
  SECOND_STANDARD_PARALLEL = "N/A"
  WESTERNMOST_LONGITUDE = 274.649
END_OBJECT = IMAGE_MAP_PROJECTION
/* The JPEG2000 image data file associated with this label. */
OBJECT = COMPRESSED_FILE
  FILE_NAME = "H4153_0000_S23.JP2"
  RECORD_TYPE = UNDEFINED
  FILE_RECORDS = UNK
  ENCODING_TYPE = "JP2"
  INTERCHANGE_FORMAT = BINARY
  UNCOMPRESSED_FILE_NAME = "H4153_0000_S23.IMG"
  REQUIRED_STORAGE_BYTES = "154273306"
  ^DESCRIPTION = "JP2INFO.TXT"
END_OBJECT = COMPRESSED_FILE
END
