PDS_VERSION_ID = PDS3
/* FILE DATA ELEMENTS */
RECORD_TYPE = STREAM
/* POINTERS TO DATA OBJECTS */
^COMPRESSED_FILE = "H4157_0000_GR3.JP2"
/* IDENTIFICATION DATA ELEMENTS */
DATA_SET_ID = "MEX-M-HRSC-5-REFDR-MAPPROJECTED-V3.0"
DATA_SET_NAME = "MARS EXPRESS HRSC MAP PROJECTED REFDR V3.0"
DETECTOR_ID = MEX_HRSC_GREEN
EVENT_TYPE = "MARS-REGIONAL-MAPPING-Vo-Im"
INSTRUMENT_HOST_ID = MEX
INSTRUMENT_HOST_NAME = "MARS EXPRESS"
INSTRUMENT_ID = HRSC
INSTRUMENT_NAME = "HIGH RESOLUTION STEREO CAMERA"
MISSION_NAME = "MARS EXPRESS"
MISSION_PHASE_NAME = ME_Phase_7
PROCESSING_LEVEL_ID = 3
PRODUCT_CREATION_TIME = 2016-04-20T19:30:25.000Z
PRODUCT_ID = "H4157_0000_GR3.JP2"
RELEASE_ID = 0047
REVISION_ID = 0000
/* QUALITY DATA ELEMENTS */
DATA_QUALITY_ID = 2
DATA_QUALITY_DESC = "Data calculated based on photogrammetrically improved orbit and attitude data"
/* TIME DATA ELEMENTS */
SPACECRAFT_CLOCK_START_COUNT = "1/0123525766.09052"
SPACECRAFT_CLOCK_STOP_COUNT = "1/0123526122.33930"
START_TIME = 2007-04-01T16:43:42.240Z
STOP_TIME = 2007-04-01T16:48:22.079Z
/* ORBITAL DATA ELEMENTS */
ASCENDING_NODE_LONGITUDE = 141.21
MAXIMUM_RESOLUTION = 98
FOOTPRINT_POINT_LATITUDE = (-38.8861,-38.876,-38.8633,-38.6433, -38.2209,-37.8056,-37.186,-36.7793, -36.1724,-35.774,-35.3753,-34.9759, -34.5758,-34.175,-33.7735,-33.3714, -32.9686,-32.5652,-32.1611,-31.562, -31.2222,-30.8821,-30.5415,-30.2006, -29.8593,-29.5176,-29.1756,-28.8332, -28.4905,-28.1474,-27.804,-27.4603, -27.1163,-26.7737,-26.4402,-26.1063, -25.7723,-25.4379,-25.1034,-24.6059, -24.2819,-23.9577,-23.6334,-23.3088, -22.9841,-22.6592,-22.334,-22.0131, -21.3846,-21.0701,-20.8554,-20.8563, -21.1727,-21.4874,-21.802,-22.1165, -22.4413,-22.7666,-23.0919,-23.4169, -23.7418,-24.0664,-24.391,-24.7152, -25.0493,-25.3843,-25.7191,-26.0537, -26.388,-26.722,-27.0631,-27.4078, -27.7521,-28.096,-28.4397,-28.7831, -29.1261,-29.4688,-29.8112,-30.1532, -30.4948,-30.8361,-31.177,-31.5175, -32.1059,-32.5103,-32.9153,-33.3191, -33.7223,-34.1249,-34.527,-34.9281, -35.3277,-35.9267,-36.3261,-36.7342, -37.3468,-37.9706,-38.3876,-38.8861)
FOOTPRINT_POINT_LONGITUDE = (241.537,240.971,240.403,240.034, 240.066,240.095,240.135,240.161,240.2, 240.226,240.249,240.272,240.294,240.316 ,240.337,240.358,240.378,240.397, 240.416,240.443,240.458,240.473,240.487 ,240.501,240.515,240.528,240.541, 240.553,240.565,240.577,240.588,240.6, 240.61,240.621,240.631,240.641,240.65, 240.66,240.669,240.681,240.69,240.697, 240.705,240.712,240.719,240.726,240.733 ,240.74,240.752,240.758,241.287,241.785 ,241.898,241.898,241.899,241.899,241.9, 241.901,241.901,241.902,241.902,241.903 ,241.904,241.904,241.905,241.906, 241.906,241.907,241.908,241.909,241.909 ,241.91,241.911,241.911,241.912,241.913 ,241.913,241.914,241.915,241.915, 241.916,241.917,241.917,241.918,241.919 ,241.919,241.921,241.921,241.922, 241.923,241.923,241.924,241.923,241.923 ,241.924,241.925,241.926,241.926, 241.926,241.537)
ORBIT_NUMBER = 4157
ORBITAL_ECCENTRICITY = 0.572
ORBITAL_INCLINATION = 86.68
ORBITAL_SEMIMAJOR_AXIS = 8630.27
PERIAPSIS_ALTITUDE = 301.92
PERIAPSIS_ARGUMENT_ANGLE = 345.81
PERIAPSIS_TIME = 2007-04-01T16:50:00.000Z
SPACECRAFT_ORIENTATION = (0.0,1.0,0.0)
^MEX_ORIENTATION_DESC = "MEX_ORIENTATION_DESC.TXT"
SPACECRAFT_POINTING_MODE = ACROSSTRACK
^MEX_POINTING_DESC = "MEX_POINTING_DESC.TXT"
RIGHT_ASCENSION = -1e+32
DECLINATION = -1e+32
OFFSET_ANGLE = 0.38
SPACECRAFT_SOLAR_DISTANCE = 2.10868e+08
TARGET_NAME = MARS
/* CAMERA DATA ELEMENTS */
DETECTOR_TEMPERATURE = 18.5744
FOCAL_PLANE_TEMPERATURE = 9.195
INST_CMPRS_NAME = "DISCRETE COSINE TRANSFORMATION (DCT)"
INST_CMPRS_RATIO = 13.17
INST_CMPRS_QUALITY = 0
INST_CMPRS_QUANTZ_TBL_ID = 0
INSTRUMENT_TEMPERATURE = 11.234
LENS_TEMPERATURE = 10.4184
MACROPIXEL_SIZE = 8
MISSING_FRAMES = 0
PIXEL_SUBSAMPLING_FLAG = N
SIGNAL_CHAIN_ID = 2
/* RADIOMETRIC DATA ELEMENTS */
BANDWIDTH = 88.0
CENTER_FILTER_WAVELENGTH = 538.0
RADIANCE_OFFSET = 1.01651
RADIANCE_SCALING_FACTOR = 0.00627117
REFLECTANCE_SCALING_FACTOR = 0.000240082
MEX:REFLECTANCE_OFFSET = 0.0389156
/* IMAGE OBJECT DEFINITIONS */
OBJECT = IMAGE
  INTERCHANGE_FORMAT = BINARY
  LINES = 10694
  LINE_SAMPLES = 994
  SAMPLE_TYPE = UNSIGNED_INTEGER
  SAMPLE_BITS = 8
  BANDS = 1
  BAND_STORAGE_TYPE = BAND_SEQUENTIAL
  MAXIMUM = 255
  MEAN = 105.034
  MINIMUM = 1
  STANDARD_DEVIATION = 13.1753
END_OBJECT = IMAGE
/* MAP OBJECT DEFINITIONS */
OBJECT = IMAGE_MAP_PROJECTION
  ^DATA_SET_MAP_PROJECTION_CATALOG= "DSMAP.CAT"
  A_AXIS_RADIUS = 3396.0
  B_AXIS_RADIUS = 3396.0
  C_AXIS_RADIUS = 3396.0
  CENTER_LATITUDE = 0.0
  CENTER_LONGITUDE = 241.0
  COORDINATE_SYSTEM_NAME = PLANETOGRAPHIC
  COORDINATE_SYSTEM_TYPE = "BODY-FIXED ROTATING"
  EASTERNMOST_LONGITUDE = 241.926
  FIRST_STANDARD_PARALLEL = "N/A"
  LINE_FIRST_PIXEL = 1
  LINE_LAST_PIXEL = 10694
  LINE_PROJECTION_OFFSET = -12364.4375
  MAP_PROJECTION_ROTATION = 0.0
  MAP_PROJECTION_TYPE = SINUSOIDAL
  MAP_RESOLUTION = 592.713803866667
  MAP_SCALE = 0.1
  MAXIMUM_LATITUDE = -20.8554
  MINIMUM_LATITUDE = -38.8861
  POSITIVE_LONGITUDE_DIRECTION = EAST
  REFERENCE_LATITUDE = "N/A"
  REFERENCE_LONGITUDE = "N/A"
  SAMPLE_FIRST_PIXEL = 1
  SAMPLE_LAST_PIXEL = 994
  SAMPLE_PROJECTION_OFFSET = 486.8125
  SECOND_STANDARD_PARALLEL = "N/A"
  WESTERNMOST_LONGITUDE = 240.034
END_OBJECT = IMAGE_MAP_PROJECTION
/* The JPEG2000 image data file associated with this label. */
OBJECT = COMPRESSED_FILE
  FILE_NAME = "H4157_0000_GR3.JP2"
  RECORD_TYPE = UNDEFINED
  FILE_RECORDS = UNK
  ENCODING_TYPE = "JP2"
  INTERCHANGE_FORMAT = BINARY
  UNCOMPRESSED_FILE_NAME = "H4157_0000_GR3.IMG"
  REQUIRED_STORAGE_BYTES = "10648722"
  ^DESCRIPTION = "JP2INFO.TXT"
END_OBJECT = COMPRESSED_FILE
END
