PDS_VERSION_ID = PDS3
/* FILE DATA ELEMENTS */
RECORD_TYPE = STREAM
/* POINTERS TO DATA OBJECTS */
^COMPRESSED_FILE = "H4160_0000_ND3.JP2"
/* IDENTIFICATION DATA ELEMENTS */
DATA_SET_ID = "MEX-M-HRSC-5-REFDR-MAPPROJECTED-V3.0"
DATA_SET_NAME = "MARS EXPRESS HRSC MAP PROJECTED REFDR V3.0"
DETECTOR_ID = MEX_HRSC_NADIR
EVENT_TYPE = "MARS-LOCAL-STEREO-Fl-Lc-La"
INSTRUMENT_HOST_ID = MEX
INSTRUMENT_HOST_NAME = "MARS EXPRESS"
INSTRUMENT_ID = HRSC
INSTRUMENT_NAME = "HIGH RESOLUTION STEREO CAMERA"
MISSION_NAME = "MARS EXPRESS"
MISSION_PHASE_NAME = ME_Phase_7
PROCESSING_LEVEL_ID = 3
PRODUCT_CREATION_TIME = 2016-04-20T19:30:25.000Z
PRODUCT_ID = "H4160_0000_ND3.JP2"
RELEASE_ID = 0047
REVISION_ID = 0000
/* QUALITY DATA ELEMENTS */
DATA_QUALITY_ID = 2
DATA_QUALITY_DESC = "Data calculated based on photogrammetrically improved orbit and attitude data"
/* TIME DATA ELEMENTS */
SPACECRAFT_CLOCK_START_COUNT = "1/0123598685.07289"
SPACECRAFT_CLOCK_STOP_COUNT = "1/0123598935.63554"
START_TIME = 2007-04-02T12:58:36.914Z
STOP_TIME = 2007-04-02T13:01:48.915Z
/* ORBITAL DATA ELEMENTS */
ASCENDING_NODE_LONGITUDE = 141.15
MAXIMUM_RESOLUTION = 12
FOOTPRINT_POINT_LATITUDE = (-18.0968,-18.0972,-18.0968,-17.8398, -17.4557,-17.2077,-16.9597,-16.7116, -16.4636,-16.2153,-15.9671,-15.7186, -15.4701,-15.222,-14.8498,-14.6014, -14.3532,-13.8575,-13.6092,-13.361, -13.1128,-12.8646,-12.6164,-12.3683, -12.1202,-11.8721,-11.6241,-11.3761, -10.8802,-10.4972,-10.2402,-9.98332, -9.72644,-9.46962,-9.21288,-8.95622, -8.69963,-8.44315,-8.18675,-7.93043, -7.67422,-7.4181,-7.16209,-6.90618, -6.65039,-6.3947,-5.99981,-5.7353, -5.4709,-5.45219,-5.45077,-5.44852, -5.71294,-5.97753,-6.37306,-6.6288, -6.88464,-7.14056,-7.39632,-7.65219, -7.90842,-8.16482,-8.42128,-8.67779, -8.93484,-9.32032,-9.57714,-9.83406, -10.091,-10.348,-10.6051,-10.8602, -11.1082,-11.3563,-11.6044,-11.8525, -12.1007,-12.3489,-12.5971,-12.8453, -13.3418,-13.7139,-13.9619,-14.2102, -14.4585,-14.7068,-14.9552,-15.2035, -15.4518,-15.7003,-15.9491,-16.1974, -16.4457,-16.6939,-16.9421,-17.1902, -17.4383,-17.822,-18.0791,-18.0968)
FOOTPRINT_POINT_LONGITUDE = (307.644,307.288,306.943,306.944, 306.946,306.947,306.948,306.948,306.949 ,306.95,306.95,306.951,306.952,306.952, 306.952,306.952,306.952,306.951,306.951 ,306.951,306.95,306.95,306.949,306.949, 306.948,306.947,306.947,306.946,306.944 ,306.942,306.941,306.939,306.938, 306.936,306.935,306.933,306.931,306.93, 306.928,306.926,306.924,306.922,306.92, 306.917,306.915,306.913,306.909,306.907 ,306.904,307.352,307.618,308.029, 308.029,308.029,308.029,308.029,308.03, 308.032,308.041,308.05,308.052,308.051, 308.052,308.053,308.042,308.032,308.033 ,308.033,308.033,308.035,308.035, 308.036,308.036,308.038,308.039,308.039 ,308.041,308.042,308.043,308.044, 308.051,308.063,308.073,308.076,308.077 ,308.081,308.079,308.082,308.083, 308.077,308.063,308.064,308.064,308.065 ,308.067,308.068,308.07,308.073,308.075 ,307.644)
ORBIT_NUMBER = 4160
ORBITAL_ECCENTRICITY = 0.571
ORBITAL_INCLINATION = 86.68
ORBITAL_SEMIMAJOR_AXIS = 8616.98
PERIAPSIS_ALTITUDE = 302.27
PERIAPSIS_ARGUMENT_ANGLE = 345.33
PERIAPSIS_TIME = 2007-04-02T12:59:30.000Z
SPACECRAFT_ORIENTATION = (0.0,1.0,0.0)
^MEX_ORIENTATION_DESC = "MEX_ORIENTATION_DESC.TXT"
SPACECRAFT_POINTING_MODE = ACROSSTRACK
^MEX_POINTING_DESC = "MEX_POINTING_DESC.TXT"
RIGHT_ASCENSION = -1e+32
DECLINATION = -1e+32
OFFSET_ANGLE = -0.55
SPACECRAFT_SOLAR_DISTANCE = 2.10763e+08
TARGET_NAME = MARS
/* CAMERA DATA ELEMENTS */
DETECTOR_TEMPERATURE = 18.3705
FOCAL_PLANE_TEMPERATURE = 7.3599
INST_CMPRS_NAME = "DISCRETE COSINE TRANSFORMATION (DCT)"
INST_CMPRS_RATIO = 6.39409
INST_CMPRS_QUALITY = 0
INST_CMPRS_QUANTZ_TBL_ID = 0
INSTRUMENT_TEMPERATURE = 11.4379
LENS_TEMPERATURE = 9.6028
MACROPIXEL_SIZE = 1
MISSING_FRAMES = 0
PIXEL_SUBSAMPLING_FLAG = N
SIGNAL_CHAIN_ID = 0
/* RADIOMETRIC DATA ELEMENTS */
BANDWIDTH = 177.0
CENTER_FILTER_WAVELENGTH = 677.5
RADIANCE_OFFSET = 2.09362
RADIANCE_SCALING_FACTOR = 0.0121066
REFLECTANCE_SCALING_FACTOR = 0.000285691
MEX:REFLECTANCE_OFFSET = 0.0494048
/* IMAGE OBJECT DEFINITIONS */
OBJECT = IMAGE
  INTERCHANGE_FORMAT = BINARY
  LINES = 59980
  LINE_SAMPLES = 5743
  SAMPLE_TYPE = UNSIGNED_INTEGER
  SAMPLE_BITS = 8
  BANDS = 1
  BAND_STORAGE_TYPE = BAND_SEQUENTIAL
  MAXIMUM = 255
  MEAN = 97.4406
  MINIMUM = 1
  STANDARD_DEVIATION = 23.5992
END_OBJECT = IMAGE
/* MAP OBJECT DEFINITIONS */
OBJECT = IMAGE_MAP_PROJECTION
  ^DATA_SET_MAP_PROJECTION_CATALOG= "DSMAP.CAT"
  A_AXIS_RADIUS = 3396.0
  B_AXIS_RADIUS = 3396.0
  C_AXIS_RADIUS = 3396.0
  CENTER_LATITUDE = 0.0
  CENTER_LONGITUDE = 307.0
  COORDINATE_SYSTEM_NAME = PLANETOGRAPHIC
  COORDINATE_SYSTEM_TYPE = "BODY-FIXED ROTATING"
  EASTERNMOST_LONGITUDE = 308.083
  FIRST_STANDARD_PARALLEL = "N/A"
  LINE_FIRST_PIXEL = 1
  LINE_LAST_PIXEL = 59980
  LINE_PROJECTION_OFFSET = -25832.0
  MAP_PROJECTION_ROTATION = 0.0
  MAP_PROJECTION_TYPE = SINUSOIDAL
  MAP_RESOLUTION = 4741.71043093333
  MAP_SCALE = 0.0125
  MAXIMUM_LATITUDE = -5.44852
  MINIMUM_LATITUDE = -18.0972
  POSITIVE_LONGITUDE_DIRECTION = EAST
  REFERENCE_LATITUDE = "N/A"
  REFERENCE_LONGITUDE = "N/A"
  SAMPLE_FIRST_PIXEL = 1
  SAMPLE_LAST_PIXEL = 5743
  SAMPLE_PROJECTION_OFFSET = 462.0
  SECOND_STANDARD_PARALLEL = "N/A"
  WESTERNMOST_LONGITUDE = 306.904
END_OBJECT = IMAGE_MAP_PROJECTION
/* The JPEG2000 image data file associated with this label. */
OBJECT = COMPRESSED_FILE
  FILE_NAME = "H4160_0000_ND3.JP2"
  RECORD_TYPE = UNDEFINED
  FILE_RECORDS = UNK
  ENCODING_TYPE = "JP2"
  INTERCHANGE_FORMAT = BINARY
  UNCOMPRESSED_FILE_NAME = "H4160_0000_ND3.IMG"
  REQUIRED_STORAGE_BYTES = "344493855"
  ^DESCRIPTION = "JP2INFO.TXT"
END_OBJECT = COMPRESSED_FILE
END
