PDS_VERSION_ID = PDS3
/* FILE DATA ELEMENTS */
RECORD_TYPE = STREAM
/* POINTERS TO DATA OBJECTS */
^COMPRESSED_FILE = "H4161_0000_ND3.JP2"
/* IDENTIFICATION DATA ELEMENTS */
DATA_SET_ID = "MEX-M-HRSC-5-REFDR-MAPPROJECTED-V3.0"
DATA_SET_NAME = "MARS EXPRESS HRSC MAP PROJECTED REFDR V3.0"
DETECTOR_ID = MEX_HRSC_NADIR
EVENT_TYPE = "MARS-REGIONAL-MAPPING-Vo-Te-Fl"
INSTRUMENT_HOST_ID = MEX
INSTRUMENT_HOST_NAME = "MARS EXPRESS"
INSTRUMENT_ID = HRSC
INSTRUMENT_NAME = "HIGH RESOLUTION STEREO CAMERA"
MISSION_NAME = "MARS EXPRESS"
MISSION_PHASE_NAME = ME_Phase_7
PROCESSING_LEVEL_ID = 3
PRODUCT_CREATION_TIME = 2016-04-20T19:30:25.000Z
PRODUCT_ID = "H4161_0000_ND3.JP2"
RELEASE_ID = 0047
REVISION_ID = 0000
/* QUALITY DATA ELEMENTS */
DATA_QUALITY_ID = 2
DATA_QUALITY_DESC = "Data calculated based on photogrammetrically improved orbit and attitude data"
/* TIME DATA ELEMENTS */
SPACECRAFT_CLOCK_START_COUNT = "1/0123622718.09064"
SPACECRAFT_CLOCK_STOP_COUNT = "1/0123622991.58525"
START_TIME = 2007-04-02T19:39:14.433Z
STOP_TIME = 2007-04-02T19:42:47.451Z
/* ORBITAL DATA ELEMENTS */
ASCENDING_NODE_LONGITUDE = 141.13
MAXIMUM_RESOLUTION = 12.1
FOOTPRINT_POINT_LATITUDE = (-27.8946,-27.8913,-27.7332,-27.4307, -27.1325,-26.8392,-26.5457,-26.2519, -25.958,-25.6638,-25.3692,-24.9369, -24.6518,-24.3666,-24.0811,-23.7954, -23.5096,-23.2236,-22.9373,-22.6517, -22.375,-22.0982,-21.8213,-21.5443, -21.2671,-20.9898,-20.7124,-20.435, -20.1574,-19.8797,-19.602,-19.3241, -19.0461,-18.7694,-18.2329,-17.6963, -17.4279,-17.1594,-16.8907,-16.6221, -16.3537,-16.0851,-15.8164,-15.5477, -15.279,-15.0103,-14.7416,-14.4728, -14.2041,-13.9354,-13.9216,-13.921, -14.4584,-14.7272,-14.9961,-15.3994, -15.6682,-15.9371,-16.3403,-16.609, -16.8777,-17.1464,-17.4151,-17.6837, -17.9522,-18.2207,-18.4892,-18.7575, -19.0339,-19.312,-19.5901,-19.8681, -20.146,-20.4238,-20.7015,-20.9791, -21.2566,-21.534,-21.8113,-22.0884, -22.3654,-22.6423,-22.9276,-23.214, -23.5003,-23.7865,-24.0725,-24.3583, -24.6439,-24.9293,-25.2146,-25.509, -25.8036,-26.0981,-26.3923,-26.6863, -26.9801,-27.2737,-27.5765,-27.8946)
FOOTPRINT_POINT_LONGITUDE = (209.154,208.655,208.059,208.068, 208.075,208.083,208.09,208.097,208.105, 208.113,208.117,208.126,208.132,208.139 ,208.145,208.151,208.157,208.162, 208.166,208.17,208.172,208.176,208.18, 208.184,208.188,208.191,208.195,208.198 ,208.201,208.205,208.208,208.212, 208.214,208.216,208.22,208.224,208.226, 208.228,208.227,208.229,208.233,208.234 ,208.235,208.236,208.237,208.237, 208.238,208.238,208.239,208.239,208.634 ,209.138,209.328,209.329,209.33,209.331 ,209.332,209.333,209.334,209.335, 209.336,209.337,209.338,209.339,209.341 ,209.342,209.343,209.344,209.345, 209.347,209.348,209.349,209.351,209.352 ,209.353,209.355,209.356,209.357, 209.358,209.361,209.363,209.364,209.366 ,209.368,209.369,209.371,209.373, 209.375,209.376,209.378,209.38,209.382, 209.384,209.386,209.388,209.39,209.392, 209.393,209.395,209.154)
ORBIT_NUMBER = 4161
ORBITAL_ECCENTRICITY = 0.571
ORBITAL_INCLINATION = 86.69
ORBITAL_SEMIMAJOR_AXIS = 8617.32
PERIAPSIS_ALTITUDE = 302.02
PERIAPSIS_ARGUMENT_ANGLE = 345.12
PERIAPSIS_TIME = 2007-04-02T19:42:34.000Z
SPACECRAFT_ORIENTATION = (0.0,1.0,0.0)
^MEX_ORIENTATION_DESC = "MEX_ORIENTATION_DESC.TXT"
SPACECRAFT_POINTING_MODE = ACROSSTRACK
^MEX_POINTING_DESC = "MEX_POINTING_DESC.TXT"
RIGHT_ASCENSION = -1e+32
DECLINATION = -1e+32
OFFSET_ANGLE = -0.1
SPACECRAFT_SOLAR_DISTANCE = 2.10728e+08
TARGET_NAME = MARS
/* CAMERA DATA ELEMENTS */
DETECTOR_TEMPERATURE = 18.7783
FOCAL_PLANE_TEMPERATURE = 9.8067
INST_CMPRS_NAME = "DISCRETE COSINE TRANSFORMATION (DCT)"
INST_CMPRS_RATIO = 6.78562
INST_CMPRS_QUALITY = 0
INST_CMPRS_QUANTZ_TBL_ID = 0
INSTRUMENT_TEMPERATURE = 11.8457
LENS_TEMPERATURE = 10.2145
MACROPIXEL_SIZE = 1
MISSING_FRAMES = 0
PIXEL_SUBSAMPLING_FLAG = N
SIGNAL_CHAIN_ID = 0
/* RADIOMETRIC DATA ELEMENTS */
BANDWIDTH = 177.0
CENTER_FILTER_WAVELENGTH = 677.5
RADIANCE_OFFSET = 2.80438
RADIANCE_SCALING_FACTOR = 0.0227536
REFLECTANCE_SCALING_FACTOR = 0.000536758
MEX:REFLECTANCE_OFFSET = 0.0661554
/* IMAGE OBJECT DEFINITIONS */
OBJECT = IMAGE
  INTERCHANGE_FORMAT = BINARY
  LINES = 66264
  LINE_SAMPLES = 5914
  SAMPLE_TYPE = UNSIGNED_INTEGER
  SAMPLE_BITS = 8
  BANDS = 1
  BAND_STORAGE_TYPE = BAND_SEQUENTIAL
  MAXIMUM = 255
  MEAN = 111.728
  MINIMUM = 1
  STANDARD_DEVIATION = 24.0219
END_OBJECT = IMAGE
/* MAP OBJECT DEFINITIONS */
OBJECT = IMAGE_MAP_PROJECTION
  ^DATA_SET_MAP_PROJECTION_CATALOG= "DSMAP.CAT"
  A_AXIS_RADIUS = 3396.0
  B_AXIS_RADIUS = 3396.0
  C_AXIS_RADIUS = 3396.0
  CENTER_LATITUDE = 0.0
  CENTER_LONGITUDE = 209.0
  COORDINATE_SYSTEM_NAME = PLANETOGRAPHIC
  COORDINATE_SYSTEM_TYPE = "BODY-FIXED ROTATING"
  EASTERNMOST_LONGITUDE = 209.395
  FIRST_STANDARD_PARALLEL = "N/A"
  LINE_FIRST_PIXEL = 1
  LINE_LAST_PIXEL = 66264
  LINE_PROJECTION_OFFSET = -66009.0
  MAP_PROJECTION_ROTATION = 0.0
  MAP_PROJECTION_TYPE = SINUSOIDAL
  MAP_RESOLUTION = 4741.71043093333
  MAP_SCALE = 0.0125
  MAXIMUM_LATITUDE = -13.921
  MINIMUM_LATITUDE = -27.8946
  POSITIVE_LONGITUDE_DIRECTION = EAST
  REFERENCE_LATITUDE = "N/A"
  REFERENCE_LONGITUDE = "N/A"
  SAMPLE_FIRST_PIXEL = 1
  SAMPLE_LAST_PIXEL = 5914
  SAMPLE_PROJECTION_OFFSET = 4055.0
  SECOND_STANDARD_PARALLEL = "N/A"
  WESTERNMOST_LONGITUDE = 208.059
END_OBJECT = IMAGE_MAP_PROJECTION
/* The JPEG2000 image data file associated with this label. */
OBJECT = COMPRESSED_FILE
  FILE_NAME = "H4161_0000_ND3.JP2"
  RECORD_TYPE = UNDEFINED
  FILE_RECORDS = UNK
  ENCODING_TYPE = "JP2"
  INTERCHANGE_FORMAT = BINARY
  UNCOMPRESSED_FILE_NAME = "H4161_0000_ND3.IMG"
  REQUIRED_STORAGE_BYTES = "391914866"
  ^DESCRIPTION = "JP2INFO.TXT"
END_OBJECT = COMPRESSED_FILE
END
