PDS_VERSION_ID = PDS3
/* FILE DATA ELEMENTS */
RECORD_TYPE = STREAM
/* POINTERS TO DATA OBJECTS */
^COMPRESSED_FILE = "H4161_0000_S13.JP2"
/* IDENTIFICATION DATA ELEMENTS */
DATA_SET_ID = "MEX-M-HRSC-5-REFDR-MAPPROJECTED-V3.0"
DATA_SET_NAME = "MARS EXPRESS HRSC MAP PROJECTED REFDR V3.0"
DETECTOR_ID = MEX_HRSC_S1
EVENT_TYPE = "MARS-REGIONAL-MAPPING-Vo-Te-Fl"
INSTRUMENT_HOST_ID = MEX
INSTRUMENT_HOST_NAME = "MARS EXPRESS"
INSTRUMENT_ID = HRSC
INSTRUMENT_NAME = "HIGH RESOLUTION STEREO CAMERA"
MISSION_NAME = "MARS EXPRESS"
MISSION_PHASE_NAME = ME_Phase_7
PROCESSING_LEVEL_ID = 3
PRODUCT_CREATION_TIME = 2016-04-20T19:30:25.000Z
PRODUCT_ID = "H4161_0000_S13.JP2"
RELEASE_ID = 0047
REVISION_ID = 0000
/* QUALITY DATA ELEMENTS */
DATA_QUALITY_ID = 2
DATA_QUALITY_DESC = "Data calculated based on photogrammetrically improved orbit and attitude data"
/* TIME DATA ELEMENTS */
SPACECRAFT_CLOCK_START_COUNT = "1/0123622718.09064"
SPACECRAFT_CLOCK_STOP_COUNT = "1/0123622991.58525"
START_TIME = 2007-04-02T19:39:44.205Z
STOP_TIME = 2007-04-02T19:43:14.083Z
/* ORBITAL DATA ELEMENTS */
ASCENDING_NODE_LONGITUDE = 141.13
MAXIMUM_RESOLUTION = 25.6
FOOTPRINT_POINT_LATITUDE = (-27.8622,-27.8597,-27.8572,-27.8545, -27.869,-27.5656,-27.2626,-26.9635, -26.67,-26.3791,-25.9341,-25.6399, -25.3552,-25.0631,-24.7687,-24.4699, -24.1889,-23.904,-23.6193,-23.1945, -22.9164,-22.4988,-22.2194,-21.938, -21.6557,-21.3735,-21.0919,-20.8108, -20.5314,-20.1234,-19.8509,-19.5773, -19.3051,-19.0369,-18.7677,-18.4973, -18.2277,-17.8245,-17.5511,-17.2803, -16.8859,-16.6165,-16.3344,-15.9336, -15.6653,-15.3968,-15.1289,-14.8608, -14.5936,-14.3258,-14.0588,-13.9244, -13.9258,-13.9285,-13.9296,-13.9313, -14.333,-14.6005,-15.0033,-15.2718, -15.5402,-15.8093,-16.2128,-16.6171, -16.8866,-17.1565,-17.4262,-17.696, -17.9667,-18.372,-18.778,-19.1842, -19.455,-19.7261,-19.9973,-20.2687, -20.5391,-20.9606,-21.2425,-21.6609, -21.9461,-22.371,-22.7946,-23.0771, -23.5009,-23.7834,-24.2074,-24.4901, -24.7816,-25.0746,-25.3674,-25.6598, -25.9528,-26.2459,-26.6853,-26.978, -27.2762,-27.5778,-27.8815,-27.8622)
FOOTPRINT_POINT_LONGITUDE = (209.087,208.886,208.686,208.486, 208.076,208.084,208.091,208.098,208.105 ,208.111,208.122,208.129,208.132, 208.138,208.144,208.151,208.156,208.161 ,208.167,208.174,208.177,208.181, 208.184,208.188,208.192,208.195,208.198 ,208.201,208.204,208.209,208.212, 208.215,208.217,208.219,208.221,208.222 ,208.224,208.226,208.228,208.23,208.229 ,208.23,208.235,208.235,208.236,208.236 ,208.237,208.237,208.237,208.237, 208.237,208.416,208.681,208.988,209.169 ,209.333,209.333,209.333,209.334, 209.335,209.335,209.336,209.337,209.338 ,209.338,209.339,209.34,209.34,209.341, 209.342,209.344,209.345,209.346,209.347 ,209.348,209.349,209.349,209.351, 209.353,209.352,209.355,209.357,209.359 ,209.361,209.362,209.364,209.366, 209.367,209.368,209.37,209.371,209.373, 209.374,209.376,209.378,209.379,209.381 ,209.382,209.384,209.087)
ORBIT_NUMBER = 4161
ORBITAL_ECCENTRICITY = 0.571
ORBITAL_INCLINATION = 86.69
ORBITAL_SEMIMAJOR_AXIS = 8617.32
PERIAPSIS_ALTITUDE = 302.02
PERIAPSIS_ARGUMENT_ANGLE = 345.12
PERIAPSIS_TIME = 2007-04-02T19:42:34.000Z
SPACECRAFT_ORIENTATION = (0.0,1.0,0.0)
^MEX_ORIENTATION_DESC = "MEX_ORIENTATION_DESC.TXT"
SPACECRAFT_POINTING_MODE = ACROSSTRACK
^MEX_POINTING_DESC = "MEX_POINTING_DESC.TXT"
RIGHT_ASCENSION = -1e+32
DECLINATION = -1e+32
OFFSET_ANGLE = -0.1
SPACECRAFT_SOLAR_DISTANCE = 2.10728e+08
TARGET_NAME = MARS
/* CAMERA DATA ELEMENTS */
DETECTOR_TEMPERATURE = 17.9627
FOCAL_PLANE_TEMPERATURE = 9.8067
INST_CMPRS_NAME = "DISCRETE COSINE TRANSFORMATION (DCT)"
INST_CMPRS_RATIO = 10.2847
INST_CMPRS_QUALITY = 0
INST_CMPRS_QUANTZ_TBL_ID = 0
INSTRUMENT_TEMPERATURE = 11.8457
LENS_TEMPERATURE = 10.2145
MACROPIXEL_SIZE = 2
MISSING_FRAMES = 0
PIXEL_SUBSAMPLING_FLAG = N
SIGNAL_CHAIN_ID = 1
/* RADIOMETRIC DATA ELEMENTS */
BANDWIDTH = 180.0
CENTER_FILTER_WAVELENGTH = 677.0
RADIANCE_OFFSET = 3.50599
RADIANCE_SCALING_FACTOR = 0.0238698
REFLECTANCE_SCALING_FACTOR = 0.000553015
MEX:REFLECTANCE_OFFSET = 0.0812268
/* IMAGE OBJECT DEFINITIONS */
OBJECT = IMAGE
  INTERCHANGE_FORMAT = BINARY
  LINES = 33132
  LINE_SAMPLES = 2957
  SAMPLE_TYPE = UNSIGNED_INTEGER
  SAMPLE_BITS = 8
  BANDS = 1
  BAND_STORAGE_TYPE = BAND_SEQUENTIAL
  MAXIMUM = 255
  MEAN = 116.243
  MINIMUM = 1
  STANDARD_DEVIATION = 23.9134
END_OBJECT = IMAGE
/* MAP OBJECT DEFINITIONS */
OBJECT = IMAGE_MAP_PROJECTION
  ^DATA_SET_MAP_PROJECTION_CATALOG= "DSMAP.CAT"
  A_AXIS_RADIUS = 3396.0
  B_AXIS_RADIUS = 3396.0
  C_AXIS_RADIUS = 3396.0
  CENTER_LATITUDE = 0.0
  CENTER_LONGITUDE = 209.0
  COORDINATE_SYSTEM_NAME = PLANETOGRAPHIC
  COORDINATE_SYSTEM_TYPE = "BODY-FIXED ROTATING"
  EASTERNMOST_LONGITUDE = 209.384
  FIRST_STANDARD_PARALLEL = "N/A"
  LINE_FIRST_PIXEL = 1
  LINE_LAST_PIXEL = 33132
  LINE_PROJECTION_OFFSET = -33004.75
  MAP_PROJECTION_ROTATION = 0.0
  MAP_PROJECTION_TYPE = SINUSOIDAL
  MAP_RESOLUTION = 2370.85521546667
  MAP_SCALE = 0.025
  MAXIMUM_LATITUDE = -13.9244
  MINIMUM_LATITUDE = -27.8815
  POSITIVE_LONGITUDE_DIRECTION = EAST
  REFERENCE_LATITUDE = "N/A"
  REFERENCE_LONGITUDE = "N/A"
  SAMPLE_FIRST_PIXEL = 1
  SAMPLE_LAST_PIXEL = 2957
  SAMPLE_PROJECTION_OFFSET = 2027.25
  SECOND_STANDARD_PARALLEL = "N/A"
  WESTERNMOST_LONGITUDE = 208.076
END_OBJECT = IMAGE_MAP_PROJECTION
/* The JPEG2000 image data file associated with this label. */
OBJECT = COMPRESSED_FILE
  FILE_NAME = "H4161_0000_S13.JP2"
  RECORD_TYPE = UNDEFINED
  FILE_RECORDS = UNK
  ENCODING_TYPE = "JP2"
  INTERCHANGE_FORMAT = BINARY
  UNCOMPRESSED_FILE_NAME = "H4161_0000_S13.IMG"
  REQUIRED_STORAGE_BYTES = "97994980"
  ^DESCRIPTION = "JP2INFO.TXT"
END_OBJECT = COMPRESSED_FILE
END
