PDS_VERSION_ID = PDS3
/* FILE DATA ELEMENTS */
RECORD_TYPE = STREAM
/* POINTERS TO DATA OBJECTS */
^COMPRESSED_FILE = "H4162_0000_RE3.JP2"
/* IDENTIFICATION DATA ELEMENTS */
DATA_SET_ID = "MEX-M-HRSC-5-REFDR-MAPPROJECTED-V3.0"
DATA_SET_NAME = "MARS EXPRESS HRSC MAP PROJECTED REFDR V3.0"
DETECTOR_ID = MEX_HRSC_RED
EVENT_TYPE = "MARS-REGIONAL-VARIABLE-Gl-At"
INSTRUMENT_HOST_ID = MEX
INSTRUMENT_HOST_NAME = "MARS EXPRESS"
INSTRUMENT_ID = HRSC
INSTRUMENT_NAME = "HIGH RESOLUTION STEREO CAMERA"
MISSION_NAME = "MARS EXPRESS"
MISSION_PHASE_NAME = ME_Phase_7
PROCESSING_LEVEL_ID = 3
PRODUCT_CREATION_TIME = 2016-04-20T19:30:25.000Z
PRODUCT_ID = "H4162_0000_RE3.JP2"
RELEASE_ID = 0047
REVISION_ID = 0000
/* QUALITY DATA ELEMENTS */
DATA_QUALITY_ID = 2
DATA_QUALITY_DESC = "Data calculated based on photogrammetrically improved orbit and attitude data"
/* TIME DATA ELEMENTS */
SPACECRAFT_CLOCK_START_COUNT = "1/0123645286.09094"
SPACECRAFT_CLOCK_STOP_COUNT = "1/0123646248.34207"
START_TIME = 2007-04-03T01:57:02.311Z
STOP_TIME = 2007-04-03T02:06:19.168Z
/* ORBITAL DATA ELEMENTS */
ASCENDING_NODE_LONGITUDE = 141.1
MAXIMUM_RESOLUTION = 110.6
FOOTPRINT_POINT_LATITUDE = (-88.8649,-88.9884,-89.0317,-88.9848, -88.6777,-88.2194,-87.7656,-87.2192, -86.6573,-86.0869,-85.727,-85.1479, -84.5643,-83.9769,-83.6817,-83.3854, -83.0136,-82.8979,-82.819,-82.6737, -82.5207,-82.338,-82.121,-81.8701, -81.587,-81.2751,-80.9329,-80.5653, -80.1665,-79.7439,-79.2976,-79.0651, -78.8273,-78.5833,-78.2062,-77.8188, -77.5549,-77.285,-77.0093,-76.7281, -76.441,-76.0029,-75.7078,-75.3993, -75.0953,-74.7822,-74.4629,-74.1376, -73.8124,-73.4795,-73.1429,-72.7749, -72.9054,-73.0123,-73.1229,-73.1935, -73.3099,-73.4203,-73.4783,-73.5336, -73.574,-73.6037,-73.6389,-74.0147, -74.3843,-74.9378,-75.3024,-75.8403, -76.2036,-76.5552,-77.074,-77.4195, -77.7633,-78.1031,-78.441,-78.7785, -79.11,-79.4378,-79.7621,-80.0805,-80.4 ,-80.8763,-81.1873,-81.4962,-81.8023, -82.1057,-82.4063,-82.7039,-83.2907, -83.8701,-84.437,-84.9911,-85.5354, -86.0653,-86.5846,-87.0874,-87.5709, -88.0281,-88.4455,-88.8649)
FOOTPRINT_POINT_LONGITUDE = (149.42,134.851,117.724,100.691,75.3947 ,61.4044,54.2689,49.1131,45.7205, 43.3579,42.2217,40.7839,39.6823,38.8202 ,38.4585,38.1347,37.7767,40.6058, 44.3101,48.8988,52.4887,55.9567,59.3205 ,62.5589,65.6492,68.5722,71.3349, 73.9243,76.3626,78.6375,80.7586,81.7654 ,82.7364,83.6741,85.0196,86.2925,87.103 ,87.8856,88.641,89.3699,90.0734,91.0816 ,91.7231,92.3449,92.9424,93.5202,94.078 ,94.6165,95.136,95.6378,96.1223,96.9499 ,98.262,99.4408,100.782,101.838,103.352 ,105.357,106.605,108.02,109.286,110.398 ,112.542,112.601,112.667,112.764, 112.833,112.949,113.016,113.101,113.244 ,113.339,113.437,113.542,113.651, 113.761,113.885,114.017,114.16,114.318, 114.478,114.731,114.923,115.126,115.345 ,115.579,115.832,116.106,116.724, 117.444,118.313,119.374,120.681,122.341 ,124.48,127.348,131.342,137.184,146.222 ,149.42)
ORBIT_NUMBER = 4162
ORBITAL_ECCENTRICITY = 0.571
ORBITAL_INCLINATION = 86.67
ORBITAL_SEMIMAJOR_AXIS = 8622.42
PERIAPSIS_ALTITUDE = 301.6
PERIAPSIS_ARGUMENT_ANGLE = 344.94
PERIAPSIS_TIME = 2007-04-03T02:25:46.000Z
SPACECRAFT_ORIENTATION = (0.0,1.0,0.0)
^MEX_ORIENTATION_DESC = "MEX_ORIENTATION_DESC.TXT"
SPACECRAFT_POINTING_MODE = NADIR
^MEX_POINTING_DESC = "MEX_POINTING_DESC.TXT"
RIGHT_ASCENSION = -1e+32
DECLINATION = -1e+32
OFFSET_ANGLE = -1e+32
SPACECRAFT_SOLAR_DISTANCE = 2.10694e+08
TARGET_NAME = MARS
/* CAMERA DATA ELEMENTS */
DETECTOR_TEMPERATURE = 19.1861
FOCAL_PLANE_TEMPERATURE = 9.195
INST_CMPRS_NAME = "DISCRETE COSINE TRANSFORMATION (DCT)"
INST_CMPRS_RATIO = 7.60683
INST_CMPRS_QUALITY = 0
INST_CMPRS_QUANTZ_TBL_ID = 0
INSTRUMENT_TEMPERATURE = 11.4379
LENS_TEMPERATURE = 9.6028
MACROPIXEL_SIZE = 2
MISSING_FRAMES = 0
PIXEL_SUBSAMPLING_FLAG = N
SIGNAL_CHAIN_ID = 3
/* RADIOMETRIC DATA ELEMENTS */
BANDWIDTH = 48.0
CENTER_FILTER_WAVELENGTH = 748.0
RADIANCE_OFFSET = 0.685947
RADIANCE_SCALING_FACTOR = 0.00611651
REFLECTANCE_SCALING_FACTOR = 0.000619647
MEX:REFLECTANCE_OFFSET = 0.0694913
/* IMAGE OBJECT DEFINITIONS */
OBJECT = IMAGE
  INTERCHANGE_FORMAT = BINARY
  LINES = 8926
  LINE_SAMPLES = 6330
  SAMPLE_TYPE = UNSIGNED_INTEGER
  SAMPLE_BITS = 8
  BANDS = 1
  BAND_STORAGE_TYPE = BAND_SEQUENTIAL
  MAXIMUM = 255
  MEAN = 119.543
  MINIMUM = 1
  STANDARD_DEVIATION = 60.5768
END_OBJECT = IMAGE
/* MAP OBJECT DEFINITIONS */
OBJECT = IMAGE_MAP_PROJECTION
  ^DATA_SET_MAP_PROJECTION_CATALOG= "DSMAP.CAT"
  A_AXIS_RADIUS = 3396.0
  B_AXIS_RADIUS = 3396.0
  C_AXIS_RADIUS = 3396.0
  CENTER_LATITUDE = 0.0
  CENTER_LONGITUDE = 95.0
  COORDINATE_SYSTEM_NAME = PLANETOGRAPHIC
  COORDINATE_SYSTEM_TYPE = "BODY-FIXED ROTATING"
  EASTERNMOST_LONGITUDE = 149.42
  FIRST_STANDARD_PARALLEL = "N/A"
  LINE_FIRST_PIXEL = 1
  LINE_LAST_PIXEL = 8926
  LINE_PROJECTION_OFFSET = -43199.75
  MAP_PROJECTION_ROTATION = 0.0
  MAP_PROJECTION_TYPE = SINUSOIDAL
  MAP_RESOLUTION = 592.713803866667
  MAP_SCALE = 0.1
  MAXIMUM_LATITUDE = -72.7749
  MINIMUM_LATITUDE = -89.0317
  POSITIVE_LONGITUDE_DIRECTION = EAST
  REFERENCE_LATITUDE = "N/A"
  REFERENCE_LONGITUDE = "N/A"
  SAMPLE_FIRST_PIXEL = 1
  SAMPLE_LAST_PIXEL = 6330
  SAMPLE_PROJECTION_OFFSET = 3670.25
  SECOND_STANDARD_PARALLEL = "N/A"
  WESTERNMOST_LONGITUDE = 37.7767
END_OBJECT = IMAGE_MAP_PROJECTION
/* The JPEG2000 image data file associated with this label. */
OBJECT = COMPRESSED_FILE
  FILE_NAME = "H4162_0000_RE3.JP2"
  RECORD_TYPE = UNDEFINED
  FILE_RECORDS = UNK
  ENCODING_TYPE = "JP2"
  INTERCHANGE_FORMAT = BINARY
  UNCOMPRESSED_FILE_NAME = "H4162_0000_RE3.IMG"
  REQUIRED_STORAGE_BYTES = "56533230"
  ^DESCRIPTION = "JP2INFO.TXT"
END_OBJECT = COMPRESSED_FILE
END
