PDS_VERSION_ID = PDS3
/* FILE DATA ELEMENTS */
RECORD_TYPE = STREAM
/* POINTERS TO DATA OBJECTS */
^COMPRESSED_FILE = "H4162_0001_P23.JP2"
/* IDENTIFICATION DATA ELEMENTS */
DATA_SET_ID = "MEX-M-HRSC-5-REFDR-MAPPROJECTED-V3.0"
DATA_SET_NAME = "MARS EXPRESS HRSC MAP PROJECTED REFDR V3.0"
DETECTOR_ID = MEX_HRSC_P2
EVENT_TYPE = "MARS-REGIONAL-MAPPING-Vo-Te-Im"
INSTRUMENT_HOST_ID = MEX
INSTRUMENT_HOST_NAME = "MARS EXPRESS"
INSTRUMENT_ID = HRSC
INSTRUMENT_NAME = "HIGH RESOLUTION STEREO CAMERA"
MISSION_NAME = "MARS EXPRESS"
MISSION_PHASE_NAME = ME_Phase_7
PROCESSING_LEVEL_ID = 3
PRODUCT_CREATION_TIME = 2016-04-20T19:30:25.000Z
PRODUCT_ID = "H4162_0001_P23.JP2"
RELEASE_ID = 0047
REVISION_ID = 0000
/* QUALITY DATA ELEMENTS */
DATA_QUALITY_ID = 2
DATA_QUALITY_DESC = "Data calculated based on photogrammetrically improved orbit and attitude data"
/* TIME DATA ELEMENTS */
SPACECRAFT_CLOCK_START_COUNT = "1/0123646913.07281"
SPACECRAFT_CLOCK_STOP_COUNT = "1/0123647153.31226"
START_TIME = 2007-04-03T02:22:08.525Z
STOP_TIME = 2007-04-03T02:25:11.564Z
/* ORBITAL DATA ELEMENTS */
ASCENDING_NODE_LONGITUDE = 141.1
MAXIMUM_RESOLUTION = 24.8
FOOTPRINT_POINT_LATITUDE = (-27.9228,-27.9195,-27.9172,-27.9142, -27.9006,-27.6525,-27.4037,-27.1546, -26.905,-26.5319,-26.2827,-25.92, -25.678,-25.4355,-25.1928,-24.9499, -24.7066,-24.4632,-24.2224,-23.9863, -23.7498,-23.395,-23.1583,-22.9208, -22.5646,-22.2079,-21.9702,-21.6202, -21.2748,-21.0445,-20.8142,-20.5833, -20.2368,-20.0058,-19.7741,-19.5425, -19.3103,-19.0784,-18.8464,-18.6143, -18.3815,-18.1493,-17.9238,-17.6995, -17.4746,-17.2498,-17.0249,-16.6872, -16.3491,-16.1237,-16.1081,-16.1086, -16.1088,-16.2219,-16.4472,-16.6727, -16.8978,-17.123,-17.3483,-17.573, -17.7979,-18.0223,-18.2513,-18.4837, -18.7162,-18.9489,-19.1809,-19.413, -19.6449,-19.877,-20.1086,-20.4555, -20.802,-21.0326,-21.263,-21.4936, -21.7239,-21.9584,-22.1967,-22.4346, -22.6724,-22.9101,-23.2664,-23.6214, -23.8579,-24.2123,-24.4529,-24.697, -24.9411,-25.1848,-25.4286,-25.671, -26.0345,-26.2765,-26.6495,-27.0237, -27.2728,-27.6459,-27.8946,-27.9228)
FOOTPRINT_POINT_LONGITUDE = (110.599,110.232,110.035,109.824, 109.631,109.638,109.646,109.653,109.659 ,109.67,109.677,109.686,109.693,109.699 ,109.705,109.711,109.716,109.722, 109.727,109.732,109.737,109.744,109.749 ,109.753,109.759,109.766,109.77,109.775 ,109.781,109.784,109.788,109.791, 109.796,109.799,109.802,109.805,109.807 ,109.81,109.812,109.815,109.817,109.82, 109.822,109.824,109.826,109.827,109.829 ,109.832,109.834,109.835,110.165, 110.473,110.729,110.935,110.936,110.937 ,110.937,110.938,110.939,110.94,110.941 ,110.942,110.943,110.944,110.945, 110.946,110.947,110.948,110.949,110.95, 110.951,110.953,110.955,110.956,110.957 ,110.958,110.96,110.961,110.962,110.964 ,110.965,110.966,110.968,110.97,110.972 ,110.974,110.976,110.977,110.978,110.98 ,110.981,110.983,110.986,110.987,110.99 ,110.993,110.995,110.998,110.999, 110.599)
ORBIT_NUMBER = 4162
ORBITAL_ECCENTRICITY = 0.571
ORBITAL_INCLINATION = 86.67
ORBITAL_SEMIMAJOR_AXIS = 8622.42
PERIAPSIS_ALTITUDE = 301.6
PERIAPSIS_ARGUMENT_ANGLE = 344.94
PERIAPSIS_TIME = 2007-04-03T02:25:46.000Z
SPACECRAFT_ORIENTATION = (0.0,1.0,0.0)
^MEX_ORIENTATION_DESC = "MEX_ORIENTATION_DESC.TXT"
SPACECRAFT_POINTING_MODE = NADIR
^MEX_POINTING_DESC = "MEX_POINTING_DESC.TXT"
RIGHT_ASCENSION = -1e+32
DECLINATION = -1e+32
OFFSET_ANGLE = -1e+32
SPACECRAFT_SOLAR_DISTANCE = 2.10694e+08
TARGET_NAME = MARS
/* CAMERA DATA ELEMENTS */
DETECTOR_TEMPERATURE = 23.468
FOCAL_PLANE_TEMPERATURE = 10.0106
INST_CMPRS_NAME = "DISCRETE COSINE TRANSFORMATION (DCT)"
INST_CMPRS_RATIO = 7.75369
INST_CMPRS_QUALITY = 0
INST_CMPRS_QUANTZ_TBL_ID = 0
INSTRUMENT_TEMPERATURE = 15.9237
LENS_TEMPERATURE = 10.6223
MACROPIXEL_SIZE = 2
MISSING_FRAMES = 0
PIXEL_SUBSAMPLING_FLAG = N
SIGNAL_CHAIN_ID = 3
/* RADIOMETRIC DATA ELEMENTS */
BANDWIDTH = 177.0
CENTER_FILTER_WAVELENGTH = 676.5
RADIANCE_OFFSET = 3.31974
RADIANCE_SCALING_FACTOR = 0.00926747
REFLECTANCE_SCALING_FACTOR = 0.000218134
MEX:REFLECTANCE_OFFSET = 0.0781387
/* IMAGE OBJECT DEFINITIONS */
OBJECT = IMAGE
  INTERCHANGE_FORMAT = BINARY
  LINES = 27984
  LINE_SAMPLES = 3011
  SAMPLE_TYPE = UNSIGNED_INTEGER
  SAMPLE_BITS = 8
  BANDS = 1
  BAND_STORAGE_TYPE = BAND_SEQUENTIAL
  MAXIMUM = 255
  MEAN = 105.558
  MINIMUM = 1
  STANDARD_DEVIATION = 24.4051
END_OBJECT = IMAGE
/* MAP OBJECT DEFINITIONS */
OBJECT = IMAGE_MAP_PROJECTION
  ^DATA_SET_MAP_PROJECTION_CATALOG= "DSMAP.CAT"
  A_AXIS_RADIUS = 3396.0
  B_AXIS_RADIUS = 3396.0
  C_AXIS_RADIUS = 3396.0
  CENTER_LATITUDE = 0.0
  CENTER_LONGITUDE = 110.0
  COORDINATE_SYSTEM_NAME = PLANETOGRAPHIC
  COORDINATE_SYSTEM_TYPE = "BODY-FIXED ROTATING"
  EASTERNMOST_LONGITUDE = 110.999
  FIRST_STANDARD_PARALLEL = "N/A"
  LINE_FIRST_PIXEL = 1
  LINE_LAST_PIXEL = 27984
  LINE_PROJECTION_OFFSET = -38170.25
  MAP_PROJECTION_ROTATION = 0.0
  MAP_PROJECTION_TYPE = SINUSOIDAL
  MAP_RESOLUTION = 2370.85521546667
  MAP_SCALE = 0.025
  MAXIMUM_LATITUDE = -16.1081
  MINIMUM_LATITUDE = -27.9228
  POSITIVE_LONGITUDE_DIRECTION = EAST
  REFERENCE_LATITUDE = "N/A"
  REFERENCE_LONGITUDE = "N/A"
  SAMPLE_FIRST_PIXEL = 1
  SAMPLE_LAST_PIXEL = 3011
  SAMPLE_PROJECTION_OFFSET = 793.75
  SECOND_STANDARD_PARALLEL = "N/A"
  WESTERNMOST_LONGITUDE = 109.631
END_OBJECT = IMAGE_MAP_PROJECTION
/* The JPEG2000 image data file associated with this label. */
OBJECT = COMPRESSED_FILE
  FILE_NAME = "H4162_0001_P23.JP2"
  RECORD_TYPE = UNDEFINED
  FILE_RECORDS = UNK
  ENCODING_TYPE = "JP2"
  INTERCHANGE_FORMAT = BINARY
  UNCOMPRESSED_FILE_NAME = "H4162_0001_P23.IMG"
  REQUIRED_STORAGE_BYTES = "84283912"
  ^DESCRIPTION = "JP2INFO.TXT"
END_OBJECT = COMPRESSED_FILE
END
