PDS_VERSION_ID = PDS3
/* FILE DATA ELEMENTS */
RECORD_TYPE = STREAM
/* POINTERS TO DATA OBJECTS */
^COMPRESSED_FILE = "H4164_0000_P13.JP2"
/* IDENTIFICATION DATA ELEMENTS */
DATA_SET_ID = "MEX-M-HRSC-5-REFDR-MAPPROJECTED-V3.0"
DATA_SET_NAME = "MARS EXPRESS HRSC MAP PROJECTED REFDR V3.0"
DETECTOR_ID = MEX_HRSC_P1
EVENT_TYPE = "MARS-REGIONAL-MAPPING-Vo-Te-Im"
INSTRUMENT_HOST_ID = MEX
INSTRUMENT_HOST_NAME = "MARS EXPRESS"
INSTRUMENT_ID = HRSC
INSTRUMENT_NAME = "HIGH RESOLUTION STEREO CAMERA"
MISSION_NAME = "MARS EXPRESS"
MISSION_PHASE_NAME = ME_Phase_7
PROCESSING_LEVEL_ID = 3
PRODUCT_CREATION_TIME = 2016-04-20T19:30:25.000Z
PRODUCT_ID = "H4164_0000_P13.JP2"
RELEASE_ID = 0047
REVISION_ID = 0000
/* QUALITY DATA ELEMENTS */
DATA_QUALITY_ID = 2
DATA_QUALITY_DESC = "Data calculated based on photogrammetrically improved orbit and attitude data"
/* TIME DATA ELEMENTS */
SPACECRAFT_CLOCK_START_COUNT = "1/0123695178.09072"
SPACECRAFT_CLOCK_STOP_COUNT = "1/0123695503.50688"
START_TIME = 2007-04-03T15:47:24.202Z
STOP_TIME = 2007-04-03T15:51:36.819Z
/* ORBITAL DATA ELEMENTS */
ASCENDING_NODE_LONGITUDE = 141.06
MAXIMUM_RESOLUTION = 24.6
FOOTPRINT_POINT_LATITUDE = (-35.2637,-35.2564,-35.2487,-35.2326, -35.2278,-35.02,-34.6128,-34.4065, -33.9986,-33.5928,-33.2504,-32.9088, -32.5663,-32.2232,-31.8799,-31.5365, -31.1928,-30.849,-30.5051,-30.1609, -29.8165,-29.4719,-29.1275,-28.7825, -28.2744,-27.7735,-27.4393,-27.1045, -26.77,-26.271,-25.9478,-25.6241, -25.3004,-24.9767,-24.6529,-24.3288, -23.8429,-23.3613,-23.0488,-22.7361, -22.4233,-22.1102,-21.7975,-21.4845, -21.1719,-20.7032,-20.3907,-20.0781, -19.7659,-19.4534,-18.9849,-18.6728, -18.5206,-18.5354,-18.5467,-19.0189, -19.331,-19.6437,-20.1123,-20.4251, -20.8943,-21.3634,-21.6762,-22.1457, -22.4588,-22.7717,-23.0849,-23.398, -23.7173,-24.0413,-24.5271,-25.0129, -25.3369,-25.8227,-26.147,-26.4733, -26.8082,-27.1426,-27.4776,-27.812, -28.1465,-28.4806,-28.8217,-29.167, -29.512,-29.8566,-30.2016,-30.546, -30.8902,-31.4064,-31.7503,-32.0939, -32.4374,-32.7807,-33.1237,-33.6377, -34.0448,-34.4519,-34.86,-35.2637)
FOOTPRINT_POINT_LONGITUDE = (275.318,275.061,274.807,274.308, 273.829,273.836,273.85,273.857,273.87, 273.883,273.894,273.905,273.915,273.924 ,273.934,273.943,273.952,273.96,273.969 ,273.977,273.985,273.992,273.999, 274.006,274.016,274.025,274.031,274.037 ,274.042,274.05,274.055,274.059,274.063 ,274.068,274.071,274.075,274.08,274.085 ,274.088,274.091,274.094,274.096, 274.098,274.1,274.102,274.105,274.107, 274.108,274.11,274.111,274.112,274.113, 274.38,274.806,275.142,275.252,275.254, 275.257,275.262,275.265,275.269,275.274 ,275.277,275.282,275.286,275.289, 275.293,275.297,275.3,275.304,275.309, 275.315,275.318,275.324,275.329,275.333 ,275.337,275.341,275.345,275.35,275.354 ,275.358,275.363,275.368,275.372, 275.377,275.382,275.387,275.391,275.399 ,275.404,275.409,275.414,275.42,275.425 ,275.433,275.437,275.442,275.449, 275.318)
ORBIT_NUMBER = 4164
ORBITAL_ECCENTRICITY = 0.572
ORBITAL_INCLINATION = 86.67
ORBITAL_SEMIMAJOR_AXIS = 8626.16
PERIAPSIS_ALTITUDE = 301.52
PERIAPSIS_ARGUMENT_ANGLE = 344.6
PERIAPSIS_TIME = 2007-04-03T15:52:08.000Z
SPACECRAFT_ORIENTATION = (0.0,1.0,0.0)
^MEX_ORIENTATION_DESC = "MEX_ORIENTATION_DESC.TXT"
SPACECRAFT_POINTING_MODE = ACROSSTRACK
^MEX_POINTING_DESC = "MEX_POINTING_DESC.TXT"
RIGHT_ASCENSION = -1e+32
DECLINATION = -1e+32
OFFSET_ANGLE = -0.8
SPACECRAFT_SOLAR_DISTANCE = 2.10625e+08
TARGET_NAME = MARS
/* CAMERA DATA ELEMENTS */
DETECTOR_TEMPERATURE = 17.7588
FOCAL_PLANE_TEMPERATURE = 9.3989
INST_CMPRS_NAME = "DISCRETE COSINE TRANSFORMATION (DCT)"
INST_CMPRS_RATIO = 9.31792
INST_CMPRS_QUALITY = 0
INST_CMPRS_QUANTZ_TBL_ID = 0
INSTRUMENT_TEMPERATURE = 11.6418
LENS_TEMPERATURE = 9.6028
MACROPIXEL_SIZE = 2
MISSING_FRAMES = 0
PIXEL_SUBSAMPLING_FLAG = N
SIGNAL_CHAIN_ID = 3
/* RADIOMETRIC DATA ELEMENTS */
BANDWIDTH = 174.0
CENTER_FILTER_WAVELENGTH = 675.0
RADIANCE_OFFSET = 2.18646
RADIANCE_SCALING_FACTOR = 0.0131913
REFLECTANCE_SCALING_FACTOR = 0.00031477
MEX:REFLECTANCE_OFFSET = 0.0521731
/* IMAGE OBJECT DEFINITIONS */
OBJECT = IMAGE
  INTERCHANGE_FORMAT = BINARY
  LINES = 39686
  LINE_SAMPLES = 3442
  SAMPLE_TYPE = UNSIGNED_INTEGER
  SAMPLE_BITS = 8
  BANDS = 1
  BAND_STORAGE_TYPE = BAND_SEQUENTIAL
  MAXIMUM = 255
  MEAN = 104.596
  MINIMUM = 1
  STANDARD_DEVIATION = 14.5043
END_OBJECT = IMAGE
/* MAP OBJECT DEFINITIONS */
OBJECT = IMAGE_MAP_PROJECTION
  ^DATA_SET_MAP_PROJECTION_CATALOG= "DSMAP.CAT"
  A_AXIS_RADIUS = 3396.0
  B_AXIS_RADIUS = 3396.0
  C_AXIS_RADIUS = 3396.0
  CENTER_LATITUDE = 0.0
  CENTER_LONGITUDE = 275.0
  COORDINATE_SYSTEM_NAME = PLANETOGRAPHIC
  COORDINATE_SYSTEM_TYPE = "BODY-FIXED ROTATING"
  EASTERNMOST_LONGITUDE = 275.449
  FIRST_STANDARD_PARALLEL = "N/A"
  LINE_FIRST_PIXEL = 1
  LINE_LAST_PIXEL = 39686
  LINE_PROJECTION_OFFSET = -43960.25
  MAP_PROJECTION_ROTATION = 0.0
  MAP_PROJECTION_TYPE = SINUSOIDAL
  MAP_RESOLUTION = 2370.85521546667
  MAP_SCALE = 0.025
  MAXIMUM_LATITUDE = -18.5206
  MINIMUM_LATITUDE = -35.2637
  POSITIVE_LONGITUDE_DIRECTION = EAST
  REFERENCE_LATITUDE = "N/A"
  REFERENCE_LONGITUDE = "N/A"
  SAMPLE_FIRST_PIXEL = 1
  SAMPLE_LAST_PIXEL = 3442
  SAMPLE_PROJECTION_OFFSET = 2325.75
  SECOND_STANDARD_PARALLEL = "N/A"
  WESTERNMOST_LONGITUDE = 273.829
END_OBJECT = IMAGE_MAP_PROJECTION
/* The JPEG2000 image data file associated with this label. */
OBJECT = COMPRESSED_FILE
  FILE_NAME = "H4164_0000_P13.JP2"
  RECORD_TYPE = UNDEFINED
  FILE_RECORDS = UNK
  ENCODING_TYPE = "JP2"
  INTERCHANGE_FORMAT = BINARY
  UNCOMPRESSED_FILE_NAME = "H4164_0000_P13.IMG"
  REQUIRED_STORAGE_BYTES = "136623306"
  ^DESCRIPTION = "JP2INFO.TXT"
END_OBJECT = COMPRESSED_FILE
END
