PDS_VERSION_ID = PDS3
/* FILE DATA ELEMENTS */
RECORD_TYPE = STREAM
/* POINTERS TO DATA OBJECTS */
^COMPRESSED_FILE = "H4165_0000_P23.JP2"
/* IDENTIFICATION DATA ELEMENTS */
DATA_SET_ID = "MEX-M-HRSC-5-REFDR-MAPPROJECTED-V3.0"
DATA_SET_NAME = "MARS EXPRESS HRSC MAP PROJECTED REFDR V3.0"
DETECTOR_ID = MEX_HRSC_P2
EVENT_TYPE = "MARS-LOCAL-VARIABLE-Eo-Ot-At"
INSTRUMENT_HOST_ID = MEX
INSTRUMENT_HOST_NAME = "MARS EXPRESS"
INSTRUMENT_ID = HRSC
INSTRUMENT_NAME = "HIGH RESOLUTION STEREO CAMERA"
MISSION_NAME = "MARS EXPRESS"
MISSION_PHASE_NAME = ME_Phase_7
PROCESSING_LEVEL_ID = 3
PRODUCT_CREATION_TIME = 2016-04-20T19:30:25.000Z
PRODUCT_ID = "H4165_0000_P23.JP2"
RELEASE_ID = 0047
REVISION_ID = 0000
/* QUALITY DATA ELEMENTS */
DATA_QUALITY_ID = 2
DATA_QUALITY_DESC = "Data calculated based on photogrammetrically improved orbit and attitude data"
/* TIME DATA ELEMENTS */
SPACECRAFT_CLOCK_START_COUNT = "1/0123719668.08257"
SPACECRAFT_CLOCK_STOP_COUNT = "1/0123719787.00693"
START_TIME = 2007-04-03T22:34:41.692Z
STOP_TIME = 2007-04-03T22:35:44.544Z
/* ORBITAL DATA ELEMENTS */
ASCENDING_NODE_LONGITUDE = 141.04
MAXIMUM_RESOLUTION = 25
FOOTPRINT_POINT_LATITUDE = (-16.4845,-16.484,-16.4833,-16.4827, -16.4815,-16.48,-16.4276,-16.3446, -16.1793,-16.0962,-15.9717,-15.8889, -15.8048,-15.7209,-15.6375,-15.5538, -15.4708,-15.3881,-15.2227,-15.1399, -15.0572,-14.9744,-14.8917,-14.809, -14.7262,-14.6435,-14.5607,-14.4779, -14.3537,-14.2709,-14.188,-14.1052, -14.0224,-13.9397,-13.8569,-13.774, -13.6912,-13.6084,-13.4439,-13.3611, -13.2781,-13.1129,-13.0298,-12.9458, -12.8623,-12.7793,-12.6963,-12.6133, -12.5304,-12.4473,-12.3642,-12.3202, -12.321,-12.3215,-12.3219,-12.3226, -12.323,-12.3225,-12.3219,-12.322, -12.364,-12.4472,-12.5307,-12.614, -12.6973,-12.7811,-12.8659,-12.9499, -13.0335,-13.1166,-13.1996,-13.2829, -13.3662,-13.5304,-13.693,-13.8997, -13.9826,-14.107,-14.1899,-14.3142, -14.3971,-14.4799,-14.6453,-14.7284, -14.8115,-14.977,-15.1419,-15.2248, -15.3076,-15.3902,-15.4734,-15.5571, -15.641,-15.7243,-15.9316,-16.0951, -16.2203,-16.3038,-16.429,-16.4845)
FOOTPRINT_POINT_LONGITUDE = (175.925,175.755,175.584,175.467, 175.296,175.125,174.935,174.935,174.936 ,174.936,174.936,174.937,174.936, 174.936,174.936,174.936,174.936,174.937 ,174.937,174.938,174.938,174.938, 174.939,174.939,174.939,174.94,174.94, 174.94,174.941,174.941,174.941,174.941, 174.942,174.942,174.942,174.942,174.942 ,174.943,174.944,174.944,174.944, 174.945,174.945,174.944,174.944,174.944 ,174.944,174.944,174.944,174.944, 174.944,175.093,175.199,175.284,175.369 ,175.496,175.623,175.708,175.825,175.92 ,176.04,176.04,176.04,176.04,176.04, 176.04,176.039,176.039,176.039,176.039, 176.039,176.039,176.039,176.04,176.042, 176.043,176.043,176.043,176.043,176.044 ,176.044,176.044,176.044,176.045, 176.045,176.045,176.046,176.046,176.046 ,176.046,176.046,176.046,176.046, 176.046,176.046,176.047,176.047,176.047 ,176.047,175.925)
ORBIT_NUMBER = 4165
ORBITAL_ECCENTRICITY = 0.571
ORBITAL_INCLINATION = 86.69
ORBITAL_SEMIMAJOR_AXIS = 8613.67
PERIAPSIS_ALTITUDE = 302.05
PERIAPSIS_ARGUMENT_ANGLE = 344.43
PERIAPSIS_TIME = 2007-04-03T22:35:14.000Z
SPACECRAFT_ORIENTATION = (0.0,1.0,0.0)
^MEX_ORIENTATION_DESC = "MEX_ORIENTATION_DESC.TXT"
SPACECRAFT_POINTING_MODE = ACROSSTRACK
^MEX_POINTING_DESC = "MEX_POINTING_DESC.TXT"
RIGHT_ASCENSION = -1e+32
DECLINATION = -1e+32
OFFSET_ANGLE = 0.08
SPACECRAFT_SOLAR_DISTANCE = 2.10591e+08
TARGET_NAME = MARS
/* CAMERA DATA ELEMENTS */
DETECTOR_TEMPERATURE = 19.39
FOCAL_PLANE_TEMPERATURE = 10.4184
INST_CMPRS_NAME = "DISCRETE COSINE TRANSFORMATION (DCT)"
INST_CMPRS_RATIO = 7.22621
INST_CMPRS_QUALITY = 0
INST_CMPRS_QUANTZ_TBL_ID = 0
INSTRUMENT_TEMPERATURE = 12.2535
LENS_TEMPERATURE = 9.195
MACROPIXEL_SIZE = 2
MISSING_FRAMES = 0
PIXEL_SUBSAMPLING_FLAG = N
SIGNAL_CHAIN_ID = 3
/* RADIOMETRIC DATA ELEMENTS */
BANDWIDTH = 177.0
CENTER_FILTER_WAVELENGTH = 676.5
RADIANCE_OFFSET = 4.04503
RADIANCE_SCALING_FACTOR = 0.0146011
REFLECTANCE_SCALING_FACTOR = 0.000343335
MEX:REFLECTANCE_OFFSET = 0.0951166
/* IMAGE OBJECT DEFINITIONS */
OBJECT = IMAGE
  INTERCHANGE_FORMAT = BINARY
  LINES = 9854
  LINE_SAMPLES = 2716
  SAMPLE_TYPE = UNSIGNED_INTEGER
  SAMPLE_BITS = 8
  BANDS = 1
  BAND_STORAGE_TYPE = BAND_SEQUENTIAL
  MAXIMUM = 255
  MEAN = 137.459
  MINIMUM = 1
  STANDARD_DEVIATION = 23.3644
END_OBJECT = IMAGE
/* MAP OBJECT DEFINITIONS */
OBJECT = IMAGE_MAP_PROJECTION
  ^DATA_SET_MAP_PROJECTION_CATALOG= "DSMAP.CAT"
  A_AXIS_RADIUS = 3396.0
  B_AXIS_RADIUS = 3396.0
  C_AXIS_RADIUS = 3396.0
  CENTER_LATITUDE = 0.0
  CENTER_LONGITUDE = 175.0
  COORDINATE_SYSTEM_NAME = PLANETOGRAPHIC
  COORDINATE_SYSTEM_TYPE = "BODY-FIXED ROTATING"
  EASTERNMOST_LONGITUDE = 176.047
  FIRST_STANDARD_PARALLEL = "N/A"
  LINE_FIRST_PIXEL = 1
  LINE_LAST_PIXEL = 9854
  LINE_PROJECTION_OFFSET = -29226.75
  MAP_PROJECTION_ROTATION = 0.0
  MAP_PROJECTION_TYPE = SINUSOIDAL
  MAP_RESOLUTION = 2370.85521546667
  MAP_SCALE = 0.025
  MAXIMUM_LATITUDE = -12.3202
  MINIMUM_LATITUDE = -16.4845
  POSITIVE_LONGITUDE_DIRECTION = EAST
  REFERENCE_LATITUDE = "N/A"
  REFERENCE_LONGITUDE = "N/A"
  SAMPLE_FIRST_PIXEL = 1
  SAMPLE_LAST_PIXEL = 2716
  SAMPLE_PROJECTION_OFFSET = 237.75
  SECOND_STANDARD_PARALLEL = "N/A"
  WESTERNMOST_LONGITUDE = 174.935
END_OBJECT = IMAGE_MAP_PROJECTION
/* The JPEG2000 image data file associated with this label. */
OBJECT = COMPRESSED_FILE
  FILE_NAME = "H4165_0000_P23.JP2"
  RECORD_TYPE = UNDEFINED
  FILE_RECORDS = UNK
  ENCODING_TYPE = "JP2"
  INTERCHANGE_FORMAT = BINARY
  UNCOMPRESSED_FILE_NAME = "H4165_0000_P23.IMG"
  REQUIRED_STORAGE_BYTES = "26785192"
  ^DESCRIPTION = "JP2INFO.TXT"
END_OBJECT = COMPRESSED_FILE
END
