PDS_VERSION_ID = PDS3
/* FILE DATA ELEMENTS */
RECORD_TYPE = STREAM
/* POINTERS TO DATA OBJECTS */
^COMPRESSED_FILE = "H4165_0002_SR3.JP2"
/* IDENTIFICATION DATA ELEMENTS */
DATA_SET_ID = "MEX-M-HRSC-5-REFDR-MAPPROJECTED-V3.0"
DATA_SET_NAME = "MARS EXPRESS HRSC MAP PROJECTED REFDR V3.0"
DETECTOR_ID = MEX_HRSC_SRC
EVENT_TYPE = "MARS-LOCAL-VARIABLE-Eo-Ot-At"
INSTRUMENT_HOST_ID = MEX
INSTRUMENT_HOST_NAME = "MARS EXPRESS"
INSTRUMENT_ID = HRSC
INSTRUMENT_NAME = "HIGH RESOLUTION STEREO CAMERA"
MISSION_NAME = "MARS EXPRESS"
MISSION_PHASE_NAME = ME_Phase_7
PROCESSING_LEVEL_ID = 3
PRODUCT_CREATION_TIME = 2016-04-20T19:30:25.000Z
PRODUCT_ID = "H4165_0002_SR3.JP2"
RELEASE_ID = 0047
REVISION_ID = 0000
/* QUALITY DATA ELEMENTS */
DATA_QUALITY_ID = 1
DATA_QUALITY_DESC = "Data calculated based on original SPICE kernels"
/* TIME DATA ELEMENTS */
SPACECRAFT_CLOCK_START_COUNT = "1/0123719668.08257"
SPACECRAFT_CLOCK_STOP_COUNT = "1/0123719787.00693"
IMAGE_TIME = 2007-04-03T22:35:28.165Z
START_TIME = 2007-04-03T22:35:28.163Z
STOP_TIME = 2007-04-03T22:35:28.168Z
/* ORBITAL DATA ELEMENTS */
ASCENDING_NODE_LONGITUDE = 141.04
MAXIMUM_RESOLUTION = 2.784
FOOTPRINT_POINT_LATITUDE = (-14.6184,-14.6158,-14.614,-14.6124, -14.6103,-14.609,-14.607,-14.6054, -14.6035,-14.6018,-14.5997,-14.5971, -14.5954,-14.5937,-14.5913,-14.5896, -14.5872,-14.5857,-14.5834,-14.5808, -14.5784,-14.5759,-14.5744,-14.5727, -14.571,-14.571,-14.571,-14.571,-14.571 ,-14.571,-14.571,-14.571,-14.571, -14.571,-14.571,-14.571,-14.571,-14.571 ,-14.571,-14.571,-14.571,-14.571, -14.571,-14.571,-14.571,-14.571,-14.571 ,-14.571,-14.571,-14.5717,-14.5731, -14.5744,-14.5765,-14.5779,-14.5792, -14.5809,-14.5825,-14.5841,-14.5867, -14.5891,-14.591,-14.5931,-14.5959, -14.5974,-14.5992,-14.6013,-14.6031, -14.6045,-14.6068,-14.6085,-14.6106, -14.6122,-14.6141,-14.6156,-14.6184, -14.6184,-14.6184,-14.6184,-14.6184, -14.6184,-14.6184,-14.6184,-14.6184, -14.6184,-14.6184,-14.6184,-14.6184, -14.6184,-14.6184,-14.6184,-14.6184, -14.6184,-14.6184,-14.6184,-14.6184, -14.6184,-14.6184,-14.6184,-14.6184, -14.6184)
FOOTPRINT_POINT_LONGITUDE = (175.473,175.473,175.473,175.473, 175.473,175.473,175.473,175.473,175.473 ,175.473,175.473,175.473,175.473, 175.473,175.473,175.473,175.473,175.473 ,175.473,175.473,175.473,175.473, 175.473,175.473,175.474,175.476,175.478 ,175.48,175.482,175.484,175.486,175.488 ,175.49,175.492,175.494,175.496,175.497 ,175.499,175.501,175.503,175.505, 175.507,175.509,175.511,175.513,175.515 ,175.517,175.519,175.521,175.522, 175.522,175.522,175.522,175.522,175.522 ,175.522,175.522,175.522,175.522, 175.522,175.522,175.522,175.522,175.522 ,175.522,175.522,175.522,175.522, 175.522,175.522,175.522,175.522,175.522 ,175.522,175.522,175.52,175.518,175.516 ,175.514,175.512,175.51,175.508,175.506 ,175.504,175.502,175.5,175.498,175.496, 175.494,175.492,175.49,175.488,175.487, 175.485,175.483,175.481,175.479,175.477 ,175.475,175.473)
ORBIT_NUMBER = 4165
ORBITAL_ECCENTRICITY = 0.571
ORBITAL_INCLINATION = 86.69
ORBITAL_SEMIMAJOR_AXIS = 8613.67
PERIAPSIS_ALTITUDE = 302.05
PERIAPSIS_ARGUMENT_ANGLE = 344.43
PERIAPSIS_TIME = 2007-04-03T22:35:14.000Z
SPACECRAFT_ORIENTATION = (0.0,1.0,0.0)
^MEX_ORIENTATION_DESC = "MEX_ORIENTATION_DESC.TXT"
SPACECRAFT_POINTING_MODE = ACROSSTRACK
^MEX_POINTING_DESC = "MEX_POINTING_DESC.TXT"
RIGHT_ASCENSION = -1e+32
DECLINATION = -1e+32
OFFSET_ANGLE = 0.08
SPACECRAFT_SOLAR_DISTANCE = 2.10591e+08
TARGET_NAME = MARS
/* CAMERA DATA ELEMENTS */
BUFFER_MODE_ID = BUFFER_8
EXPOSURE_DURATION = 5.04
INST_CMPRS_NAME = NONE
INST_CMPRS_RATIO = 1.0
INST_CMPRS_QUALITY = -2147483648
INST_CMPRS_QUANTZ_TBL_ID = -2147483648
INSTRUMENT_TEMPERATURE = 13.1047
MISSING_FRAMES = 0
START_BIT = 0
/* RADIOMETRIC DATA ELEMENTS */
BANDWIDTH = 250.0
CENTER_FILTER_WAVELENGTH = 600.0
RADIANCE_OFFSET = -9.99e+31
RADIANCE_SCALING_FACTOR = -9.99e+31
REFLECTANCE_SCALING_FACTOR = -9.99e+31
MEX:REFLECTANCE_OFFSET = -9.99e+31
/* IMAGE OBJECT DEFINITIONS */
OBJECT = IMAGE
  INTERCHANGE_FORMAT = BINARY
  LINES = 1168
  LINE_SAMPLES = 1181
  SAMPLE_TYPE = UNSIGNED_INTEGER
  SAMPLE_BITS = 8
  BANDS = 1
  BAND_STORAGE_TYPE = BAND_SEQUENTIAL
  MAXIMUM = 249
  MEAN = 131.507
  MINIMUM = 4
  STANDARD_DEVIATION = 17.2183
END_OBJECT = IMAGE
/* MAP OBJECT DEFINITIONS */
OBJECT = IMAGE_MAP_PROJECTION
  ^DATA_SET_MAP_PROJECTION_CATALOG= "DSMAP.CAT"
  A_AXIS_RADIUS = 3396.19
  B_AXIS_RADIUS = 3396.19
  C_AXIS_RADIUS = 3396.19
  CENTER_LATITUDE = 0.0
  CENTER_LONGITUDE = 175.0
  COORDINATE_SYSTEM_NAME = PLANETOGRAPHIC
  COORDINATE_SYSTEM_TYPE = "BODY-FIXED ROTATING"
  EASTERNMOST_LONGITUDE = 175.522
  FIRST_STANDARD_PARALLEL = "N/A"
  LINE_FIRST_PIXEL = 1
  LINE_LAST_PIXEL = 1168
  LINE_PROJECTION_OFFSET = -345409.0
  MAP_PROJECTION_ROTATION = 0.0
  MAP_PROJECTION_TYPE = SINUSOIDAL
  MAP_RESOLUTION = 23709.8786048756
  MAP_SCALE = 0.0025
  MAXIMUM_LATITUDE = -14.571
  MINIMUM_LATITUDE = -14.6184
  POSITIVE_LONGITUDE_DIRECTION = EAST
  REFERENCE_LATITUDE = "N/A"
  REFERENCE_LONGITUDE = "N/A"
  SAMPLE_FIRST_PIXEL = 1
  SAMPLE_LAST_PIXEL = 1181
  SAMPLE_PROJECTION_OFFSET = -10811.0
  SECOND_STANDARD_PARALLEL = "N/A"
  WESTERNMOST_LONGITUDE = 175.473
END_OBJECT = IMAGE_MAP_PROJECTION
/* The JPEG2000 image data file associated with this label. */
OBJECT = COMPRESSED_FILE
  FILE_NAME = "H4165_0002_SR3.JP2"
  RECORD_TYPE = UNDEFINED
  FILE_RECORDS = UNK
  ENCODING_TYPE = "JP2"
  INTERCHANGE_FORMAT = BINARY
  UNCOMPRESSED_FILE_NAME = "H4165_0002_SR3.IMG"
  REQUIRED_STORAGE_BYTES = "1398304"
  ^DESCRIPTION = "JP2INFO.TXT"
END_OBJECT = COMPRESSED_FILE
END
