PDS_VERSION_ID = PDS3
/* FILE DATA ELEMENTS */
RECORD_TYPE = STREAM
/* POINTERS TO DATA OBJECTS */
^COMPRESSED_FILE = "H4172_0000_ND3.JP2"
/* IDENTIFICATION DATA ELEMENTS */
DATA_SET_ID = "MEX-M-HRSC-5-REFDR-MAPPROJECTED-V3.0"
DATA_SET_NAME = "MARS EXPRESS HRSC MAP PROJECTED REFDR V3.0"
DETECTOR_ID = MEX_HRSC_NADIR
EVENT_TYPE = "MARS-REGIONAL-MAPPING-Vo-Te-Fl"
INSTRUMENT_HOST_ID = MEX
INSTRUMENT_HOST_NAME = "MARS EXPRESS"
INSTRUMENT_ID = HRSC
INSTRUMENT_NAME = "HIGH RESOLUTION STEREO CAMERA"
MISSION_NAME = "MARS EXPRESS"
MISSION_PHASE_NAME = ME_Phase_7
PROCESSING_LEVEL_ID = 3
PRODUCT_CREATION_TIME = 2016-04-20T19:30:25.000Z
PRODUCT_ID = "H4172_0000_ND3.JP2"
RELEASE_ID = 0047
REVISION_ID = 0000
/* QUALITY DATA ELEMENTS */
DATA_QUALITY_ID = 2
DATA_QUALITY_DESC = "Data calculated based on photogrammetrically improved orbit and attitude data"
/* TIME DATA ELEMENTS */
SPACECRAFT_CLOCK_START_COUNT = "1/0123888828.08236"
SPACECRAFT_CLOCK_STOP_COUNT = "1/0123889088.25448"
START_TIME = 2007-04-05T21:34:22.782Z
STOP_TIME = 2007-04-05T21:37:43.803Z
/* ORBITAL DATA ELEMENTS */
ASCENDING_NODE_LONGITUDE = 140.9
MAXIMUM_RESOLUTION = 12
FOOTPRINT_POINT_LATITUDE = (-27.5338,-27.5306,-27.5258,-27.2456, -26.9743,-26.7029,-26.4313,-26.1595, -25.8875,-25.6153,-25.3431,-25.0706, -24.6662,-24.4028,-24.1393,-23.8757, -23.6119,-23.348,-23.084,-22.82, -22.5558,-22.2915,-22.0271,-21.7626, -21.4981,-21.1021,-20.5915,-20.3361, -20.0806,-19.825,-19.5693,-19.3137, -19.058,-18.8024,-18.5466,-18.2909, -18.0352,-17.7778,-17.522,-17.2661, -17.0103,-16.7542,-16.4983,-16.2425, -15.8586,-15.6026,-15.2189,-14.9629, -14.5792,-14.3233,-14.3081,-14.3076, -14.5633,-14.8193,-15.2033,-15.4593, -15.8434,-16.2275,-16.4836,-16.7395, -16.9957,-17.2518,-17.5078,-17.7638, -18.0213,-18.2772,-18.5331,-18.917, -19.1729,-19.5566,-19.8124,-20.0681, -20.3238,-20.5794,-20.835,-21.0905, -21.3539,-21.6187,-21.8835,-22.1481, -22.4127,-22.6772,-22.9417,-23.206, -23.4701,-23.7341,-23.9981,-24.2619, -24.5256,-24.789,-25.0615,-25.3343, -25.607,-25.8792,-26.1515,-26.4236, -26.6955,-26.9673,-27.2389,-27.5338)
FOOTPRINT_POINT_LONGITUDE = (208.201,207.723,207.247,207.155, 207.162,207.168,207.175,207.18,207.186, 207.191,207.197,207.202,207.21,207.215, 207.22,207.224,207.228,207.232,207.236, 207.24,207.244,207.247,207.251,207.254, 207.258,207.263,207.27,207.273,207.275, 207.276,207.277,207.28,207.282,207.285, 207.287,207.289,207.291,207.292,207.294 ,207.295,207.297,207.296,207.297, 207.299,207.3,207.3,207.302,207.301, 207.301,207.302,207.697,208.202,208.39, 208.391,208.391,208.391,208.392,208.392 ,208.393,208.396,208.394,208.395, 208.396,208.398,208.399,208.398,208.399 ,208.4,208.402,208.403,208.404,208.404, 208.405,208.406,208.407,208.408,208.408 ,208.41,208.411,208.412,208.413,208.412 ,208.411,208.412,208.413,208.415, 208.417,208.418,208.418,208.423,208.425 ,208.424,208.423,208.428,208.429, 208.431,208.432,208.433,208.435, 208.201)
ORBIT_NUMBER = 4172
ORBITAL_ECCENTRICITY = 0.571
ORBITAL_INCLINATION = 86.69
ORBITAL_SEMIMAJOR_AXIS = 8615.27
PERIAPSIS_ALTITUDE = 301.17
PERIAPSIS_ARGUMENT_ANGLE = 343.18
PERIAPSIS_TIME = 2007-04-05T21:37:07.000Z
SPACECRAFT_ORIENTATION = (0.0,1.0,0.0)
^MEX_ORIENTATION_DESC = "MEX_ORIENTATION_DESC.TXT"
SPACECRAFT_POINTING_MODE = ACROSSTRACK
^MEX_POINTING_DESC = "MEX_POINTING_DESC.TXT"
RIGHT_ASCENSION = -1e+32
DECLINATION = -1e+32
OFFSET_ANGLE = -0.1
SPACECRAFT_SOLAR_DISTANCE = 2.10355e+08
TARGET_NAME = MARS
/* CAMERA DATA ELEMENTS */
DETECTOR_TEMPERATURE = 19.39
FOCAL_PLANE_TEMPERATURE = 9.195
INST_CMPRS_NAME = "DISCRETE COSINE TRANSFORMATION (DCT)"
INST_CMPRS_RATIO = 6.53012
INST_CMPRS_QUALITY = 0
INST_CMPRS_QUANTZ_TBL_ID = 0
INSTRUMENT_TEMPERATURE = 11.6418
LENS_TEMPERATURE = 9.6028
MACROPIXEL_SIZE = 1
MISSING_FRAMES = 85
PIXEL_SUBSAMPLING_FLAG = N
SIGNAL_CHAIN_ID = 0
/* RADIOMETRIC DATA ELEMENTS */
BANDWIDTH = 177.0
CENTER_FILTER_WAVELENGTH = 677.5
RADIANCE_OFFSET = 3.24758
RADIANCE_SCALING_FACTOR = 0.0211607
REFLECTANCE_SCALING_FACTOR = 0.000497418
MEX:REFLECTANCE_OFFSET = 0.0763399
/* IMAGE OBJECT DEFINITIONS */
OBJECT = IMAGE
  INTERCHANGE_FORMAT = BINARY
  LINES = 62713
  LINE_SAMPLES = 5747
  SAMPLE_TYPE = UNSIGNED_INTEGER
  SAMPLE_BITS = 8
  BANDS = 1
  BAND_STORAGE_TYPE = BAND_SEQUENTIAL
  MAXIMUM = 255
  MEAN = 126.126
  MINIMUM = 1
  STANDARD_DEVIATION = 26.7811
END_OBJECT = IMAGE
/* MAP OBJECT DEFINITIONS */
OBJECT = IMAGE_MAP_PROJECTION
  ^DATA_SET_MAP_PROJECTION_CATALOG= "DSMAP.CAT"
  A_AXIS_RADIUS = 3396.0
  B_AXIS_RADIUS = 3396.0
  C_AXIS_RADIUS = 3396.0
  CENTER_LATITUDE = 0.0
  CENTER_LONGITUDE = 208.0
  COORDINATE_SYSTEM_NAME = PLANETOGRAPHIC
  COORDINATE_SYSTEM_TYPE = "BODY-FIXED ROTATING"
  EASTERNMOST_LONGITUDE = 208.435
  FIRST_STANDARD_PARALLEL = "N/A"
  LINE_FIRST_PIXEL = 1
  LINE_LAST_PIXEL = 62713
  LINE_PROJECTION_OFFSET = -67835.0
  MAP_PROJECTION_ROTATION = 0.0
  MAP_PROJECTION_TYPE = SINUSOIDAL
  MAP_RESOLUTION = 4741.71043093333
  MAP_SCALE = 0.0125
  MAXIMUM_LATITUDE = -14.3076
  MINIMUM_LATITUDE = -27.5338
  POSITIVE_LONGITUDE_DIRECTION = EAST
  REFERENCE_LATITUDE = "N/A"
  REFERENCE_LONGITUDE = "N/A"
  SAMPLE_FIRST_PIXEL = 1
  SAMPLE_LAST_PIXEL = 5747
  SAMPLE_PROJECTION_OFFSET = 3714.0
  SECOND_STANDARD_PARALLEL = "N/A"
  WESTERNMOST_LONGITUDE = 207.155
END_OBJECT = IMAGE_MAP_PROJECTION
/* The JPEG2000 image data file associated with this label. */
OBJECT = COMPRESSED_FILE
  FILE_NAME = "H4172_0000_ND3.JP2"
  RECORD_TYPE = UNDEFINED
  FILE_RECORDS = UNK
  ENCODING_TYPE = "JP2"
  INTERCHANGE_FORMAT = BINARY
  UNCOMPRESSED_FILE_NAME = "H4172_0000_ND3.IMG"
  REQUIRED_STORAGE_BYTES = "360440346"
  ^DESCRIPTION = "JP2INFO.TXT"
END_OBJECT = COMPRESSED_FILE
END
