PDS_VERSION_ID = PDS3
/* FILE DATA ELEMENTS */
RECORD_TYPE = STREAM
/* POINTERS TO DATA OBJECTS */
^COMPRESSED_FILE = "H4172_0000_RE3.JP2"
/* IDENTIFICATION DATA ELEMENTS */
DATA_SET_ID = "MEX-M-HRSC-5-REFDR-MAPPROJECTED-V3.0"
DATA_SET_NAME = "MARS EXPRESS HRSC MAP PROJECTED REFDR V3.0"
DETECTOR_ID = MEX_HRSC_RED
EVENT_TYPE = "MARS-REGIONAL-MAPPING-Vo-Te-Fl"
INSTRUMENT_HOST_ID = MEX
INSTRUMENT_HOST_NAME = "MARS EXPRESS"
INSTRUMENT_ID = HRSC
INSTRUMENT_NAME = "HIGH RESOLUTION STEREO CAMERA"
MISSION_NAME = "MARS EXPRESS"
MISSION_PHASE_NAME = ME_Phase_7
PROCESSING_LEVEL_ID = 3
PRODUCT_CREATION_TIME = 2016-04-20T19:30:25.000Z
PRODUCT_ID = "H4172_0000_RE3.JP2"
RELEASE_ID = 0047
REVISION_ID = 0000
/* QUALITY DATA ELEMENTS */
DATA_QUALITY_ID = 2
DATA_QUALITY_DESC = "Data calculated based on photogrammetrically improved orbit and attitude data"
/* TIME DATA ELEMENTS */
SPACECRAFT_CLOCK_START_COUNT = "1/0123888828.08236"
SPACECRAFT_CLOCK_STOP_COUNT = "1/0123889088.25448"
START_TIME = 2007-04-05T21:33:57.732Z
STOP_TIME = 2007-04-05T21:37:21.699Z
/* ORBITAL DATA ELEMENTS */
ASCENDING_NODE_LONGITUDE = 140.9
MAXIMUM_RESOLUTION = 100.5
FOOTPRINT_POINT_LATITUDE = (-27.5585,-27.5573,-27.5372,-27.2634, -26.9924,-26.7202,-26.4494,-26.1749, -25.9016,-25.6303,-25.3647,-25.0992, -24.8331,-24.5674,-24.3007,-24.0371, -23.7674,-23.4987,-23.2319,-22.9725, -22.7138,-22.4548,-22.0656,-21.8061, -21.4173,-21.1584,-20.9004,-20.6415, -20.3801,-20.1172,-19.8539,-19.463, -19.2115,-18.8372,-18.5841,-18.331, -18.0771,-17.8232,-17.5694,-17.3162, -17.0644,-16.8042,-16.4817,-16.2324, -15.8484,-15.5897,-15.3384,-15.0797, -14.697,-14.3157,-14.3153,-14.3143, -14.3123,-14.4394,-14.6959,-15.0804, -15.3363,-15.5913,-15.8475,-16.2303, -16.4864,-16.8033,-17.1871,-17.4418, -17.693,-17.9464,-18.2031,-18.5823, -18.8361,-19.2151,-19.5941,-19.9849, -20.377,-20.6384,-20.8997,-21.1616, -21.423,-21.6816,-21.9418,-22.2018, -22.4614,-22.7238,-22.9869,-23.2467, -23.5135,-23.7784,-24.0449,-24.3116, -24.5803,-24.8384,-25.1043,-25.3769, -25.7697,-26.0432,-26.3171,-26.5904, -26.8633,-27.1356,-27.4078,-27.5585)
FOOTPRINT_POINT_LONGITUDE = (208.067,207.676,207.142,207.149, 207.156,207.163,207.17,207.176,207.182, 207.188,207.194,207.199,207.205,207.21, 207.215,207.221,207.225,207.229,207.234 ,207.238,207.242,207.246,207.252, 207.255,207.261,207.265,207.269,207.272 ,207.275,207.278,207.28,207.282,207.285 ,207.29,207.292,207.294,207.296,207.298 ,207.299,207.301,207.303,207.303, 207.304,207.307,207.308,207.308,207.31, 207.309,207.31,207.311,207.542,207.845, 208.18,208.39,208.391,208.391,208.392, 208.393,208.393,208.394,208.395,208.398 ,208.398,208.399,208.401,208.402, 208.402,208.404,208.405,208.407,208.409 ,208.411,208.412,208.414,208.415, 208.416,208.416,208.419,208.42,208.421, 208.423,208.423,208.422,208.423,208.425 ,208.427,208.429,208.431,208.431, 208.437,208.439,208.437,208.442,208.444 ,208.446,208.448,208.45,208.452,208.454 ,208.067)
ORBIT_NUMBER = 4172
ORBITAL_ECCENTRICITY = 0.571
ORBITAL_INCLINATION = 86.69
ORBITAL_SEMIMAJOR_AXIS = 8615.27
PERIAPSIS_ALTITUDE = 301.17
PERIAPSIS_ARGUMENT_ANGLE = 343.18
PERIAPSIS_TIME = 2007-04-05T21:37:07.000Z
SPACECRAFT_ORIENTATION = (0.0,1.0,0.0)
^MEX_ORIENTATION_DESC = "MEX_ORIENTATION_DESC.TXT"
SPACECRAFT_POINTING_MODE = ACROSSTRACK
^MEX_POINTING_DESC = "MEX_POINTING_DESC.TXT"
RIGHT_ASCENSION = -1e+32
DECLINATION = -1e+32
OFFSET_ANGLE = -0.1
SPACECRAFT_SOLAR_DISTANCE = 2.10355e+08
TARGET_NAME = MARS
/* CAMERA DATA ELEMENTS */
DETECTOR_TEMPERATURE = 18.7783
FOCAL_PLANE_TEMPERATURE = 9.195
INST_CMPRS_NAME = "DISCRETE COSINE TRANSFORMATION (DCT)"
INST_CMPRS_RATIO = 8.22455
INST_CMPRS_QUALITY = 0
INST_CMPRS_QUANTZ_TBL_ID = 0
INSTRUMENT_TEMPERATURE = 11.6418
LENS_TEMPERATURE = 9.6028
MACROPIXEL_SIZE = 8
MISSING_FRAMES = 16
PIXEL_SUBSAMPLING_FLAG = N
SIGNAL_CHAIN_ID = 2
/* RADIOMETRIC DATA ELEMENTS */
BANDWIDTH = 48.0
CENTER_FILTER_WAVELENGTH = 748.0
RADIANCE_OFFSET = 1.02352
RADIANCE_SCALING_FACTOR = 0.00624367
REFLECTANCE_SCALING_FACTOR = 0.000630481
MEX:REFLECTANCE_OFFSET = 0.103354
/* IMAGE OBJECT DEFINITIONS */
OBJECT = IMAGE
  INTERCHANGE_FORMAT = BINARY
  LINES = 7840
  LINE_SAMPLES = 719
  SAMPLE_TYPE = UNSIGNED_INTEGER
  SAMPLE_BITS = 8
  BANDS = 1
  BAND_STORAGE_TYPE = BAND_SEQUENTIAL
  MAXIMUM = 255
  MEAN = 130.71
  MINIMUM = 1
  STANDARD_DEVIATION = 27.862
END_OBJECT = IMAGE
/* MAP OBJECT DEFINITIONS */
OBJECT = IMAGE_MAP_PROJECTION
  ^DATA_SET_MAP_PROJECTION_CATALOG= "DSMAP.CAT"
  A_AXIS_RADIUS = 3396.0
  B_AXIS_RADIUS = 3396.0
  C_AXIS_RADIUS = 3396.0
  CENTER_LATITUDE = 0.0
  CENTER_LONGITUDE = 208.0
  COORDINATE_SYSTEM_NAME = PLANETOGRAPHIC
  COORDINATE_SYSTEM_TYPE = "BODY-FIXED ROTATING"
  EASTERNMOST_LONGITUDE = 208.454
  FIRST_STANDARD_PARALLEL = "N/A"
  LINE_FIRST_PIXEL = 1
  LINE_LAST_PIXEL = 7840
  LINE_PROJECTION_OFFSET = -8479.8125
  MAP_PROJECTION_ROTATION = 0.0
  MAP_PROJECTION_TYPE = SINUSOIDAL
  MAP_RESOLUTION = 592.713803866667
  MAP_SCALE = 0.1
  MAXIMUM_LATITUDE = -14.3123
  MINIMUM_LATITUDE = -27.5585
  POSITIVE_LONGITUDE_DIRECTION = EAST
  REFERENCE_LATITUDE = "N/A"
  REFERENCE_LONGITUDE = "N/A"
  SAMPLE_FIRST_PIXEL = 1
  SAMPLE_LAST_PIXEL = 719
  SAMPLE_PROJECTION_OFFSET = 463.8125
  SECOND_STANDARD_PARALLEL = "N/A"
  WESTERNMOST_LONGITUDE = 207.142
END_OBJECT = IMAGE_MAP_PROJECTION
/* The JPEG2000 image data file associated with this label. */
OBJECT = COMPRESSED_FILE
  FILE_NAME = "H4172_0000_RE3.JP2"
  RECORD_TYPE = UNDEFINED
  FILE_RECORDS = UNK
  ENCODING_TYPE = "JP2"
  INTERCHANGE_FORMAT = BINARY
  UNCOMPRESSED_FILE_NAME = "H4172_0000_RE3.IMG"
  REQUIRED_STORAGE_BYTES = "5654935"
  ^DESCRIPTION = "JP2INFO.TXT"
END_OBJECT = COMPRESSED_FILE
END
