PDS_VERSION_ID = PDS3
/* FILE DATA ELEMENTS */
RECORD_TYPE = STREAM
/* POINTERS TO DATA OBJECTS */
^COMPRESSED_FILE = "H4174_0000_BL3.JP2"
/* IDENTIFICATION DATA ELEMENTS */
DATA_SET_ID = "MEX-M-HRSC-5-REFDR-MAPPROJECTED-V3.0"
DATA_SET_NAME = "MARS EXPRESS HRSC MAP PROJECTED REFDR V3.0"
DETECTOR_ID = MEX_HRSC_BLUE
EVENT_TYPE = "MARS-REGIONAL-MAPPING-Im"
INSTRUMENT_HOST_ID = MEX
INSTRUMENT_HOST_NAME = "MARS EXPRESS"
INSTRUMENT_ID = HRSC
INSTRUMENT_NAME = "HIGH RESOLUTION STEREO CAMERA"
MISSION_NAME = "MARS EXPRESS"
MISSION_PHASE_NAME = ME_Phase_7
PROCESSING_LEVEL_ID = 3
PRODUCT_CREATION_TIME = 2016-04-20T19:30:25.000Z
PRODUCT_ID = "H4174_0000_BL3.JP2"
RELEASE_ID = 0047
REVISION_ID = 0000
/* QUALITY DATA ELEMENTS */
DATA_QUALITY_ID = 2
DATA_QUALITY_DESC = "Data calculated based on photogrammetrically improved orbit and attitude data"
/* TIME DATA ELEMENTS */
SPACECRAFT_CLOCK_START_COUNT = "1/0123937197.07286"
SPACECRAFT_CLOCK_STOP_COUNT = "1/0123937413.46514"
START_TIME = 2007-04-06T11:00:28.958Z
STOP_TIME = 2007-04-06T11:03:02.359Z
/* ORBITAL DATA ELEMENTS */
ASCENDING_NODE_LONGITUDE = 140.86
MAXIMUM_RESOLUTION = 100.4
FOOTPRINT_POINT_LATITUDE = (-28.4188,-28.4263,-28.4333,-28.4396, -28.4453,-28.4506,-28.4504,-28.1471, -27.9448,-27.7424,-27.5399,-27.3372, -27.1344,-26.9314,-26.7283,-26.5252, -26.322,-26.1187,-25.8134,-25.5079, -25.3043,-25.1003,-24.7944,-24.5903, -24.388,-24.1903,-23.9926,-23.7947, -23.498,-23.2007,-23.0027,-22.8045, -22.6063,-22.3082,-22.1091,-21.9117, -21.7127,-21.415,-21.117,-20.9183, -20.7195,-20.5205,-20.3216,-20.0291, -19.8371,-19.5481,-19.3545,-19.1636, -18.9708,-18.7781,-18.5853,-18.4045, -18.3932,-18.3839,-18.3707,-18.4621, -18.6548,-18.9438,-19.1366,-19.3293, -19.5217,-19.8105,-20.0029,-20.1964, -20.3949,-20.5946,-20.7932,-20.9922, -21.191,-21.39,-21.6879,-21.9856, -22.1843,-22.4822,-22.7794,-23.077, -23.3736,-23.5716,-23.7695,-23.9673, -24.1652,-24.3627,-24.5658,-24.8716, -25.1772,-25.4826,-25.6863,-25.89, -26.0937,-26.3994,-26.6014,-26.8051, -27.0085,-27.2115,-27.4142,-27.6166, -27.8192,-28.0216,-28.2235,-28.4188)
FOOTPRINT_POINT_LONGITUDE = (14.0312,13.795,13.565,13.341,13.1228, 12.91,12.7103,12.7123,12.7128,12.7137, 12.7141,12.7148,12.7155,12.7164,12.7175 ,12.7179,12.7178,12.718,12.7191,12.7195 ,12.7193,12.7197,12.7196,12.7199, 12.7198,12.7196,12.7192,12.7193,12.7182 ,12.7186,12.718,12.7172,12.7164,12.7183 ,12.7207,12.7152,12.7164,12.7144, 12.7131,12.7117,12.711,12.7103,12.7095, 12.7082,12.7054,12.7054,12.7091,12.7009 ,12.7005,12.6997,12.6991,12.7867, 13.1552,13.4347,13.8154,13.9979,14.0008 ,14.0055,14.0076,14.0095,14.0136, 14.0185,14.0219,14.025,14.032,14.0303, 14.0356,14.0386,14.0419,14.0436,14.05, 14.0563,14.059,14.0631,14.0704,14.0749, 14.0844,14.0888,14.093,14.0975,14.1009, 14.1066,14.1099,14.1193,14.1284,14.1373 ,14.1421,14.1459,14.1489,14.1515, 14.1646,14.1657,14.1678,14.1717,14.1776 ,14.1841,14.189,14.1942,14.2025, 14.0312)
ORBIT_NUMBER = 4174
ORBITAL_ECCENTRICITY = 0.571
ORBITAL_INCLINATION = 86.67
ORBITAL_SEMIMAJOR_AXIS = 8617.54
PERIAPSIS_ALTITUDE = 301.27
PERIAPSIS_ARGUMENT_ANGLE = 342.82
PERIAPSIS_TIME = 2007-04-06T11:03:27.000Z
SPACECRAFT_ORIENTATION = (0.0,1.0,0.0)
^MEX_ORIENTATION_DESC = "MEX_ORIENTATION_DESC.TXT"
SPACECRAFT_POINTING_MODE = ACROSSTRACK
^MEX_POINTING_DESC = "MEX_POINTING_DESC.TXT"
RIGHT_ASCENSION = -1e+32
DECLINATION = -1e+32
OFFSET_ANGLE = -2.0
SPACECRAFT_SOLAR_DISTANCE = 2.10289e+08
TARGET_NAME = MARS
/* CAMERA DATA ELEMENTS */
DETECTOR_TEMPERATURE = 18.1666
FOCAL_PLANE_TEMPERATURE = 8.7872
INST_CMPRS_NAME = "DISCRETE COSINE TRANSFORMATION (DCT)"
INST_CMPRS_RATIO = 13.7858
INST_CMPRS_QUALITY = 0
INST_CMPRS_QUANTZ_TBL_ID = 0
INSTRUMENT_TEMPERATURE = 11.4379
LENS_TEMPERATURE = 9.6028
MACROPIXEL_SIZE = 8
MISSING_FRAMES = 0
PIXEL_SUBSAMPLING_FLAG = N
SIGNAL_CHAIN_ID = 2
/* RADIOMETRIC DATA ELEMENTS */
BANDWIDTH = 76.0
CENTER_FILTER_WAVELENGTH = 444.0
RADIANCE_OFFSET = 0.582517
RADIANCE_SCALING_FACTOR = 0.00149666
REFLECTANCE_SCALING_FACTOR = 6.80008e-05
MEX:REFLECTANCE_OFFSET = 0.0264666
/* IMAGE OBJECT DEFINITIONS */
OBJECT = IMAGE
  INTERCHANGE_FORMAT = BINARY
  LINES = 5966
  LINE_SAMPLES = 904
  SAMPLE_TYPE = UNSIGNED_INTEGER
  SAMPLE_BITS = 8
  BANDS = 1
  BAND_STORAGE_TYPE = BAND_SEQUENTIAL
  MAXIMUM = 255
  MEAN = 164.989
  MINIMUM = 1
  STANDARD_DEVIATION = 17.4971
END_OBJECT = IMAGE
/* MAP OBJECT DEFINITIONS */
OBJECT = IMAGE_MAP_PROJECTION
  ^DATA_SET_MAP_PROJECTION_CATALOG= "DSMAP.CAT"
  A_AXIS_RADIUS = 3396.0
  B_AXIS_RADIUS = 3396.0
  C_AXIS_RADIUS = 3396.0
  CENTER_LATITUDE = 0.0
  CENTER_LONGITUDE = 13.0
  COORDINATE_SYSTEM_NAME = PLANETOGRAPHIC
  COORDINATE_SYSTEM_TYPE = "BODY-FIXED ROTATING"
  EASTERNMOST_LONGITUDE = 14.2025
  FIRST_STANDARD_PARALLEL = "N/A"
  LINE_FIRST_PIXEL = 1
  LINE_LAST_PIXEL = 5966
  LINE_PROJECTION_OFFSET = -10896.8125
  MAP_PROJECTION_ROTATION = 0.0
  MAP_PROJECTION_TYPE = SINUSOIDAL
  MAP_RESOLUTION = 592.713803866667
  MAP_SCALE = 0.1
  MAXIMUM_LATITUDE = -18.3707
  MINIMUM_LATITUDE = -28.4506
  POSITIVE_LONGITUDE_DIRECTION = EAST
  REFERENCE_LATITUDE = "N/A"
  REFERENCE_LONGITUDE = "N/A"
  SAMPLE_FIRST_PIXEL = 1
  SAMPLE_LAST_PIXEL = 904
  SAMPLE_PROJECTION_OFFSET = 177.9375
  SECOND_STANDARD_PARALLEL = "N/A"
  WESTERNMOST_LONGITUDE = 12.6991
END_OBJECT = IMAGE_MAP_PROJECTION
/* The JPEG2000 image data file associated with this label. */
OBJECT = COMPRESSED_FILE
  FILE_NAME = "H4174_0000_BL3.JP2"
  RECORD_TYPE = UNDEFINED
  FILE_RECORDS = UNK
  ENCODING_TYPE = "JP2"
  INTERCHANGE_FORMAT = BINARY
  UNCOMPRESSED_FILE_NAME = "H4174_0000_BL3.IMG"
  REQUIRED_STORAGE_BYTES = "5411344"
  ^DESCRIPTION = "JP2INFO.TXT"
END_OBJECT = COMPRESSED_FILE
END
