PDS_VERSION_ID = PDS3
/* FILE DATA ELEMENTS */
RECORD_TYPE = STREAM
/* POINTERS TO DATA OBJECTS */
^COMPRESSED_FILE = "H4174_0000_ND3.JP2"
/* IDENTIFICATION DATA ELEMENTS */
DATA_SET_ID = "MEX-M-HRSC-5-REFDR-MAPPROJECTED-V3.0"
DATA_SET_NAME = "MARS EXPRESS HRSC MAP PROJECTED REFDR V3.0"
DETECTOR_ID = MEX_HRSC_NADIR
EVENT_TYPE = "MARS-REGIONAL-MAPPING-Im"
INSTRUMENT_HOST_ID = MEX
INSTRUMENT_HOST_NAME = "MARS EXPRESS"
INSTRUMENT_ID = HRSC
INSTRUMENT_NAME = "HIGH RESOLUTION STEREO CAMERA"
MISSION_NAME = "MARS EXPRESS"
MISSION_PHASE_NAME = ME_Phase_7
PROCESSING_LEVEL_ID = 3
PRODUCT_CREATION_TIME = 2016-04-20T19:30:25.000Z
PRODUCT_ID = "H4174_0000_ND3.JP2"
RELEASE_ID = 0047
REVISION_ID = 0000
/* QUALITY DATA ELEMENTS */
DATA_QUALITY_ID = 2
DATA_QUALITY_DESC = "Data calculated based on photogrammetrically improved orbit and attitude data"
/* TIME DATA ELEMENTS */
SPACECRAFT_CLOCK_START_COUNT = "1/0123937197.07286"
SPACECRAFT_CLOCK_STOP_COUNT = "1/0123937413.46514"
START_TIME = 2007-04-06T11:00:34.155Z
STOP_TIME = 2007-04-06T11:03:07.144Z
/* ORBITAL DATA ELEMENTS */
ASCENDING_NODE_LONGITUDE = 140.86
MAXIMUM_RESOLUTION = 12.5
FOOTPRINT_POINT_LATITUDE = (-28.4373,-28.4406,-28.4433,-28.4456, -28.4474,-28.4493,-28.2447,-28.04, -27.8353,-27.6304,-27.4254,-27.2204, -27.0152,-26.8099,-26.6045,-26.3991, -26.1936,-25.988,-25.7822,-25.5764, -25.3706,-25.1646,-24.9586,-24.7528, -24.5532,-24.3537,-24.154,-23.9543, -23.7545,-23.5546,-23.3547,-23.1547, -22.9547,-22.7546,-22.5545,-22.2541, -22.0538,-21.7535,-21.5531,-21.3527, -21.052,-20.8516,-20.651,-20.4526, -20.1618,-19.7739,-19.4827,-19.1918, -18.9978,-18.7066,-18.5125,-18.3971, -18.3933,-18.3894,-18.3866,-18.6757, -18.8698,-19.0638,-19.3549,-19.7429, -20.0339,-20.4217,-20.6196,-20.8201, -21.0207,-21.2211,-21.5218,-21.7221, -21.9224,-22.1228,-22.323,-22.5232, -22.7234,-22.9234,-23.1235,-23.3234, -23.5233,-23.7232,-23.923,-24.1228, -24.3224,-24.522,-24.7216,-25.0297, -25.2357,-25.4416,-25.6475,-25.8533, -26.059,-26.2647,-26.4702,-26.6755, -26.8809,-27.0862,-27.2914,-27.4964, -27.7014,-27.9062,-28.1109,-28.4373)
FOOTPRINT_POINT_LONGITUDE = (14.099,13.8469,13.6018,13.3636,13.1321 ,12.6948,12.6959,12.6972,12.6976, 12.6986,12.6991,12.6998,12.7005,12.7015 ,12.7024,12.7022,12.7025,12.7028, 12.7038,12.7038,12.7043,12.7042,12.7046 ,12.7044,12.7047,12.7044,12.7043, 12.7038,12.7039,12.7037,12.7033,12.7032 ,12.7025,12.7018,12.7011,12.7057, 12.7054,12.7011,12.6995,12.6987,12.6981 ,12.6962,12.6954,12.6947,12.6936, 12.6895,12.693,12.6852,12.6846,12.6839, 12.683,12.8848,13.2722,13.6152,13.8339, 14.0003,14.0033,14.0064,14.0094,14.0183 ,14.0214,14.0314,14.03,14.0349,14.0372, 14.0411,14.046,14.0492,14.0541,14.0564, 14.0586,14.0622,14.0672,14.0716,14.0749 ,14.0819,14.0856,14.0902,14.0945, 14.0973,14.1038,14.1075,14.1121,14.1222 ,14.1283,14.134,14.1388,14.1426,14.1463 ,14.1473,14.1538,14.1641,14.1644, 14.1668,14.1712,14.1774,14.183,14.1885, 14.1956,14.099)
ORBIT_NUMBER = 4174
ORBITAL_ECCENTRICITY = 0.571
ORBITAL_INCLINATION = 86.67
ORBITAL_SEMIMAJOR_AXIS = 8617.54
PERIAPSIS_ALTITUDE = 301.27
PERIAPSIS_ARGUMENT_ANGLE = 342.82
PERIAPSIS_TIME = 2007-04-06T11:03:27.000Z
SPACECRAFT_ORIENTATION = (0.0,1.0,0.0)
^MEX_ORIENTATION_DESC = "MEX_ORIENTATION_DESC.TXT"
SPACECRAFT_POINTING_MODE = ACROSSTRACK
^MEX_POINTING_DESC = "MEX_POINTING_DESC.TXT"
RIGHT_ASCENSION = -1e+32
DECLINATION = -1e+32
OFFSET_ANGLE = -2.0
SPACECRAFT_SOLAR_DISTANCE = 2.10289e+08
TARGET_NAME = MARS
/* CAMERA DATA ELEMENTS */
DETECTOR_TEMPERATURE = 18.1666
FOCAL_PLANE_TEMPERATURE = 8.7872
INST_CMPRS_NAME = "DISCRETE COSINE TRANSFORMATION (DCT)"
INST_CMPRS_RATIO = 7.67347
INST_CMPRS_QUALITY = 0
INST_CMPRS_QUANTZ_TBL_ID = 0
INSTRUMENT_TEMPERATURE = 11.4379
LENS_TEMPERATURE = 9.6028
MACROPIXEL_SIZE = 1
MISSING_FRAMES = 0
PIXEL_SUBSAMPLING_FLAG = N
SIGNAL_CHAIN_ID = 0
/* RADIOMETRIC DATA ELEMENTS */
BANDWIDTH = 177.0
CENTER_FILTER_WAVELENGTH = 677.5
RADIANCE_OFFSET = 3.28789
RADIANCE_SCALING_FACTOR = 0.0144106
REFLECTANCE_SCALING_FACTOR = 0.000338531
MEX:REFLECTANCE_OFFSET = 0.0772385
/* IMAGE OBJECT DEFINITIONS */
OBJECT = IMAGE
  INTERCHANGE_FORMAT = BINARY
  LINES = 47726
  LINE_SAMPLES = 7232
  SAMPLE_TYPE = UNSIGNED_INTEGER
  SAMPLE_BITS = 8
  BANDS = 1
  BAND_STORAGE_TYPE = BAND_SEQUENTIAL
  MAXIMUM = 255
  MEAN = 118.881
  MINIMUM = 1
  STANDARD_DEVIATION = 18.7388
END_OBJECT = IMAGE
/* MAP OBJECT DEFINITIONS */
OBJECT = IMAGE_MAP_PROJECTION
  ^DATA_SET_MAP_PROJECTION_CATALOG= "DSMAP.CAT"
  A_AXIS_RADIUS = 3396.0
  B_AXIS_RADIUS = 3396.0
  C_AXIS_RADIUS = 3396.0
  CENTER_LATITUDE = 0.0
  CENTER_LONGITUDE = 13.0
  COORDINATE_SYSTEM_NAME = PLANETOGRAPHIC
  COORDINATE_SYSTEM_TYPE = "BODY-FIXED ROTATING"
  EASTERNMOST_LONGITUDE = 14.1956
  FIRST_STANDARD_PARALLEL = "N/A"
  LINE_FIRST_PIXEL = 1
  LINE_LAST_PIXEL = 47726
  LINE_PROJECTION_OFFSET = -87171.0
  MAP_PROJECTION_ROTATION = 0.0
  MAP_PROJECTION_TYPE = SINUSOIDAL
  MAP_RESOLUTION = 4741.71043093333
  MAP_SCALE = 0.0125
  MAXIMUM_LATITUDE = -18.3866
  MINIMUM_LATITUDE = -28.4493
  POSITIVE_LONGITUDE_DIRECTION = EAST
  REFERENCE_LATITUDE = "N/A"
  REFERENCE_LONGITUDE = "N/A"
  SAMPLE_FIRST_PIXEL = 1
  SAMPLE_LAST_PIXEL = 7232
  SAMPLE_PROJECTION_OFFSET = 1427.0
  SECOND_STANDARD_PARALLEL = "N/A"
  WESTERNMOST_LONGITUDE = 12.683
END_OBJECT = IMAGE_MAP_PROJECTION
/* The JPEG2000 image data file associated with this label. */
OBJECT = COMPRESSED_FILE
  FILE_NAME = "H4174_0000_ND3.JP2"
  RECORD_TYPE = UNDEFINED
  FILE_RECORDS = UNK
  ENCODING_TYPE = "JP2"
  INTERCHANGE_FORMAT = BINARY
  UNCOMPRESSED_FILE_NAME = "H4174_0000_ND3.IMG"
  REQUIRED_STORAGE_BYTES = "345183360"
  ^DESCRIPTION = "JP2INFO.TXT"
END_OBJECT = COMPRESSED_FILE
END
