PDS_VERSION_ID = PDS3
/* FILE DATA ELEMENTS */
RECORD_TYPE = STREAM
/* POINTERS TO DATA OBJECTS */
^COMPRESSED_FILE = "H4174_0000_S23.JP2"
/* IDENTIFICATION DATA ELEMENTS */
DATA_SET_ID = "MEX-M-HRSC-5-REFDR-MAPPROJECTED-V3.0"
DATA_SET_NAME = "MARS EXPRESS HRSC MAP PROJECTED REFDR V3.0"
DETECTOR_ID = MEX_HRSC_S2
EVENT_TYPE = "MARS-REGIONAL-MAPPING-Im"
INSTRUMENT_HOST_ID = MEX
INSTRUMENT_HOST_NAME = "MARS EXPRESS"
INSTRUMENT_ID = HRSC
INSTRUMENT_NAME = "HIGH RESOLUTION STEREO CAMERA"
MISSION_NAME = "MARS EXPRESS"
MISSION_PHASE_NAME = ME_Phase_7
PROCESSING_LEVEL_ID = 3
PRODUCT_CREATION_TIME = 2016-04-20T19:30:25.000Z
PRODUCT_ID = "H4174_0000_S23.JP2"
RELEASE_ID = 0047
REVISION_ID = 0000
/* QUALITY DATA ELEMENTS */
DATA_QUALITY_ID = 2
DATA_QUALITY_DESC = "Data calculated based on photogrammetrically improved orbit and attitude data"
/* TIME DATA ELEMENTS */
SPACECRAFT_CLOCK_START_COUNT = "1/0123937197.07286"
SPACECRAFT_CLOCK_STOP_COUNT = "1/0123937413.46514"
START_TIME = 2007-04-06T11:00:01.297Z
STOP_TIME = 2007-04-06T11:02:38.282Z
/* ORBITAL DATA ELEMENTS */
ASCENDING_NODE_LONGITUDE = 140.86
MAXIMUM_RESOLUTION = 26.8
FOOTPRINT_POINT_LATITUDE = (-28.3775,-28.4087,-28.4403,-28.4703, -28.4986,-28.5256,-28.5513,-28.2465, -27.9476,-27.7481,-27.4489,-27.2486, -27.048,-26.8472,-26.6461,-26.4457, -26.2448,-26.0437,-25.8414,-25.6397, -25.3369,-25.1344,-24.8306,-24.6278, -24.3234,-24.1201,-23.9172,-23.7136, -23.4077,-23.2035,-22.9995,-22.7981, -22.6006,-22.4004,-22.0984,-21.8057, -21.6072,-21.4079,-21.1092,-20.8113, -20.512,-20.3122,-20.0128,-19.815, -19.5127,-19.3084,-19.0139,-18.8131, -18.5166,-18.4409,-18.4127,-18.3738, -18.3208,-18.2873,-18.4813,-18.7824, -19.0839,-19.2853,-19.4848,-19.7853, -19.9855,-20.1858,-20.3829,-20.5861, -20.7845,-20.9846,-21.1841,-21.384, -21.5821,-21.8795,-22.0787,-22.2776, -22.4769,-22.6753,-22.878,-23.0835, -23.2848,-23.4893,-23.6926,-23.8962, -24.1008,-24.3024,-24.5062,-24.7097, -24.9106,-25.2114,-25.513,-25.7147, -25.9171,-26.2216,-26.4248,-26.6223, -26.8228,-27.0272,-27.2264,-27.4257, -27.6249,-27.924,-28.2229,-28.3775)
FOOTPRINT_POINT_LONGITUDE = (14.223,13.9808,13.7292,13.4844,13.2462 ,13.014,12.7874,12.6881,12.69,12.6912, 12.6924,12.6936,12.6948,12.696,12.6971, 12.6975,12.698,12.6985,12.6998,12.7003, 12.7009,12.7016,12.7022,12.7025,12.7029 ,12.7031,12.7029,12.703,12.7032,12.7034 ,12.7031,12.7026,12.7021,12.7036, 12.7068,12.7022,12.7016,12.7015,12.7009 ,12.6992,12.6984,12.6978,12.6965,12.694 ,12.6944,12.6967,12.6904,12.6895, 12.6891,12.9628,13.1608,13.4295,13.7906 ,14.0181,14.0219,14.0266,14.0314, 14.0337,14.0384,14.0438,14.0473,14.0505 ,14.0579,14.0569,14.0622,14.0652, 14.0686,14.0715,14.0765,14.0836,14.0868 ,14.0902,14.0929,14.0967,14.1028, 14.1056,14.1139,14.1177,14.1229,14.1275 ,14.1306,14.1374,14.1412,14.1451, 14.1522,14.1633,14.1729,14.1781,14.1821 ,14.1866,14.189,14.1988,14.2043,14.2044 ,14.2112,14.2177,14.224,14.2325,14.2409 ,14.223)
ORBIT_NUMBER = 4174
ORBITAL_ECCENTRICITY = 0.571
ORBITAL_INCLINATION = 86.67
ORBITAL_SEMIMAJOR_AXIS = 8617.54
PERIAPSIS_ALTITUDE = 301.27
PERIAPSIS_ARGUMENT_ANGLE = 342.82
PERIAPSIS_TIME = 2007-04-06T11:03:27.000Z
SPACECRAFT_ORIENTATION = (0.0,1.0,0.0)
^MEX_ORIENTATION_DESC = "MEX_ORIENTATION_DESC.TXT"
SPACECRAFT_POINTING_MODE = ACROSSTRACK
^MEX_POINTING_DESC = "MEX_POINTING_DESC.TXT"
RIGHT_ASCENSION = -1e+32
DECLINATION = -1e+32
OFFSET_ANGLE = -2.0
SPACECRAFT_SOLAR_DISTANCE = 2.10289e+08
TARGET_NAME = MARS
/* CAMERA DATA ELEMENTS */
DETECTOR_TEMPERATURE = 18.7783
FOCAL_PLANE_TEMPERATURE = 8.7872
INST_CMPRS_NAME = "DISCRETE COSINE TRANSFORMATION (DCT)"
INST_CMPRS_RATIO = 8.67544
INST_CMPRS_QUALITY = 0
INST_CMPRS_QUANTZ_TBL_ID = 0
INSTRUMENT_TEMPERATURE = 11.4379
LENS_TEMPERATURE = 9.6028
MACROPIXEL_SIZE = 2
MISSING_FRAMES = 0
PIXEL_SUBSAMPLING_FLAG = N
SIGNAL_CHAIN_ID = 1
/* RADIOMETRIC DATA ELEMENTS */
BANDWIDTH = 178.0
CENTER_FILTER_WAVELENGTH = 679.0
RADIANCE_OFFSET = 3.93291
RADIANCE_SCALING_FACTOR = 0.0142807
REFLECTANCE_SCALING_FACTOR = 0.000334435
MEX:REFLECTANCE_OFFSET = 0.0921035
/* IMAGE OBJECT DEFINITIONS */
OBJECT = IMAGE
  INTERCHANGE_FORMAT = BINARY
  LINES = 23863
  LINE_SAMPLES = 3616
  SAMPLE_TYPE = UNSIGNED_INTEGER
  SAMPLE_BITS = 8
  BANDS = 1
  BAND_STORAGE_TYPE = BAND_SEQUENTIAL
  MAXIMUM = 255
  MEAN = 125.769
  MINIMUM = 1
  STANDARD_DEVIATION = 20.2741
END_OBJECT = IMAGE
/* MAP OBJECT DEFINITIONS */
OBJECT = IMAGE_MAP_PROJECTION
  ^DATA_SET_MAP_PROJECTION_CATALOG= "DSMAP.CAT"
  A_AXIS_RADIUS = 3396.0
  B_AXIS_RADIUS = 3396.0
  C_AXIS_RADIUS = 3396.0
  CENTER_LATITUDE = 0.0
  CENTER_LONGITUDE = 13.0
  COORDINATE_SYSTEM_NAME = PLANETOGRAPHIC
  COORDINATE_SYSTEM_TYPE = "BODY-FIXED ROTATING"
  EASTERNMOST_LONGITUDE = 14.2409
  FIRST_STANDARD_PARALLEL = "N/A"
  LINE_FIRST_PIXEL = 1
  LINE_LAST_PIXEL = 23863
  LINE_PROJECTION_OFFSET = -43585.75
  MAP_PROJECTION_ROTATION = 0.0
  MAP_PROJECTION_TYPE = SINUSOIDAL
  MAP_RESOLUTION = 2370.85521546667
  MAP_SCALE = 0.025
  MAXIMUM_LATITUDE = -18.2873
  MINIMUM_LATITUDE = -28.5513
  POSITIVE_LONGITUDE_DIRECTION = EAST
  REFERENCE_LATITUDE = "N/A"
  REFERENCE_LONGITUDE = "N/A"
  SAMPLE_FIRST_PIXEL = 1
  SAMPLE_LAST_PIXEL = 3616
  SAMPLE_PROJECTION_OFFSET = 713.25
  SECOND_STANDARD_PARALLEL = "N/A"
  WESTERNMOST_LONGITUDE = 12.6881
END_OBJECT = IMAGE_MAP_PROJECTION
/* The JPEG2000 image data file associated with this label. */
OBJECT = COMPRESSED_FILE
  FILE_NAME = "H4174_0000_S23.JP2"
  RECORD_TYPE = UNDEFINED
  FILE_RECORDS = UNK
  ENCODING_TYPE = "JP2"
  INTERCHANGE_FORMAT = BINARY
  UNCOMPRESSED_FILE_NAME = "H4174_0000_S23.IMG"
  REQUIRED_STORAGE_BYTES = "86310304"
  ^DESCRIPTION = "JP2INFO.TXT"
END_OBJECT = COMPRESSED_FILE
END
