PDS_VERSION_ID = PDS3
/* FILE DATA ELEMENTS */
RECORD_TYPE = STREAM
/* POINTERS TO DATA OBJECTS */
^COMPRESSED_FILE = "H4175_0000_ND3.JP2"
/* IDENTIFICATION DATA ELEMENTS */
DATA_SET_ID = "MEX-M-HRSC-5-REFDR-MAPPROJECTED-V3.0"
DATA_SET_NAME = "MARS EXPRESS HRSC MAP PROJECTED REFDR V3.0"
DETECTOR_ID = MEX_HRSC_NADIR
EVENT_TYPE = "MARS-REGIONAL-MAPPING-Vo-Te-Pf"
INSTRUMENT_HOST_ID = MEX
INSTRUMENT_HOST_NAME = "MARS EXPRESS"
INSTRUMENT_ID = HRSC
INSTRUMENT_NAME = "HIGH RESOLUTION STEREO CAMERA"
MISSION_NAME = "MARS EXPRESS"
MISSION_PHASE_NAME = ME_Phase_7
PROCESSING_LEVEL_ID = 3
PRODUCT_CREATION_TIME = 2016-04-20T19:30:25.000Z
PRODUCT_ID = "H4175_0000_ND3.JP2"
RELEASE_ID = 0047
REVISION_ID = 0000
/* QUALITY DATA ELEMENTS */
DATA_QUALITY_ID = 2
DATA_QUALITY_DESC = "Data calculated based on photogrammetrically improved orbit and attitude data"
/* TIME DATA ELEMENTS */
SPACECRAFT_CLOCK_START_COUNT = "1/0123961392.08241"
SPACECRAFT_CLOCK_STOP_COUNT = "1/0123961559.23039"
START_TIME = 2007-04-06T17:43:47.421Z
STOP_TIME = 2007-04-06T17:45:34.420Z
/* ORBITAL DATA ELEMENTS */
ASCENDING_NODE_LONGITUDE = 140.83
MAXIMUM_RESOLUTION = 12.1
FOOTPRINT_POINT_LATITUDE = (-28.6072,-28.6071,-28.6067,-28.6059, -28.6049,-28.6033,-28.4584,-28.3134, -28.1683,-28.0232,-27.878,-27.7328, -27.5876,-27.4422,-27.2969,-27.153, -27.0124,-26.8717,-26.731,-26.5903, -26.4495,-26.3087,-26.1678,-26.0269, -25.8859,-25.7449,-25.6039,-25.4628, -25.3217,-25.1805,-25.0394,-24.8981, -24.7569,-24.6156,-24.4047,-24.1317, -23.8585,-23.5852,-23.3118,-23.0383, -22.7648,-22.6279,-22.4911,-22.3542, -22.2173,-22.0803,-21.9434,-21.8064, -21.5904,-21.5906,-21.5906,-21.5904, -21.5898,-21.5892,-21.7944,-21.9315, -22.0685,-22.2055,-22.3425,-22.4795, -22.6164,-22.7533,-22.8902,-23.0271, -23.1639,-23.3007,-23.5743,-23.8477, -24.1211,-24.3943,-24.6049,-24.7463, -24.8876,-25.029,-25.1702,-25.3115, -25.4527,-25.5939,-25.735,-25.8761, -26.0172,-26.1582,-26.2992,-26.4401, -26.5811,-26.7219,-26.8627,-27.0035, -27.1442,-27.2878,-27.4333,-27.5787, -27.7241,-27.8695,-28.0147,-28.16, -28.3052,-28.4503,-28.5954,-28.6072)
FOOTPRINT_POINT_LONGITUDE = (274.111,273.899,273.689,273.482, 273.276,273.08,273.083,273.086,273.089, 273.091,273.094,273.096,273.099,273.101 ,273.104,273.106,273.109,273.111, 273.113,273.115,273.117,273.119,273.121 ,273.123,273.125,273.127,273.129, 273.131,273.133,273.135,273.136,273.138 ,273.14,273.141,273.144,273.147,273.15, 273.152,273.155,273.157,273.16,273.161, 273.162,273.163,273.164,273.165,273.166 ,273.167,273.235,273.414,273.594, 273.789,274.056,274.221,274.335,274.337 ,274.338,274.34,274.341,274.342,274.344 ,274.345,274.346,274.348,274.349,274.35 ,274.353,274.356,274.36,274.363,274.365 ,274.367,274.368,274.37,274.371,274.373 ,274.374,274.376,274.378,274.379, 274.381,274.382,274.384,274.385,274.387 ,274.388,274.39,274.392,274.394,274.396 ,274.397,274.399,274.401,274.403, 274.404,274.406,274.408,274.41,274.411, 274.111)
ORBIT_NUMBER = 4175
ORBITAL_ECCENTRICITY = 0.572
ORBITAL_INCLINATION = 86.67
ORBITAL_SEMIMAJOR_AXIS = 8624.33
PERIAPSIS_ALTITUDE = 300.66
PERIAPSIS_ARGUMENT_ANGLE = 342.65
PERIAPSIS_TIME = 2007-04-06T17:46:40.000Z
SPACECRAFT_ORIENTATION = (0.0,1.0,0.0)
^MEX_ORIENTATION_DESC = "MEX_ORIENTATION_DESC.TXT"
SPACECRAFT_POINTING_MODE = ACROSSTRACK
^MEX_POINTING_DESC = "MEX_POINTING_DESC.TXT"
RIGHT_ASCENSION = -1e+32
DECLINATION = -1e+32
OFFSET_ANGLE = -0.8
SPACECRAFT_SOLAR_DISTANCE = 2.10256e+08
TARGET_NAME = MARS
/* CAMERA DATA ELEMENTS */
DETECTOR_TEMPERATURE = 18.3705
FOCAL_PLANE_TEMPERATURE = 9.3989
INST_CMPRS_NAME = "DISCRETE COSINE TRANSFORMATION (DCT)"
INST_CMPRS_RATIO = 6.50677
INST_CMPRS_QUALITY = 0
INST_CMPRS_QUANTZ_TBL_ID = 0
INSTRUMENT_TEMPERATURE = 11.6418
LENS_TEMPERATURE = 9.6028
MACROPIXEL_SIZE = 1
MISSING_FRAMES = 0
PIXEL_SUBSAMPLING_FLAG = N
SIGNAL_CHAIN_ID = 0
/* RADIOMETRIC DATA ELEMENTS */
BANDWIDTH = 177.0
CENTER_FILTER_WAVELENGTH = 677.5
RADIANCE_OFFSET = 2.09844
RADIANCE_SCALING_FACTOR = 0.0129315
REFLECTANCE_SCALING_FACTOR = 0.000303691
MEX:REFLECTANCE_OFFSET = 0.0492807
/* IMAGE OBJECT DEFINITIONS */
OBJECT = IMAGE
  INTERCHANGE_FORMAT = BINARY
  LINES = 33281
  LINE_SAMPLES = 5976
  SAMPLE_TYPE = UNSIGNED_INTEGER
  SAMPLE_BITS = 8
  BANDS = 1
  BAND_STORAGE_TYPE = BAND_SEQUENTIAL
  MAXIMUM = 255
  MEAN = 106.976
  MINIMUM = 1
  STANDARD_DEVIATION = 10.6511
END_OBJECT = IMAGE
/* MAP OBJECT DEFINITIONS */
OBJECT = IMAGE_MAP_PROJECTION
  ^DATA_SET_MAP_PROJECTION_CATALOG= "DSMAP.CAT"
  A_AXIS_RADIUS = 3396.0
  B_AXIS_RADIUS = 3396.0
  C_AXIS_RADIUS = 3396.0
  CENTER_LATITUDE = 0.0
  CENTER_LONGITUDE = 274.0
  COORDINATE_SYSTEM_NAME = PLANETOGRAPHIC
  COORDINATE_SYSTEM_TYPE = "BODY-FIXED ROTATING"
  EASTERNMOST_LONGITUDE = 274.411
  FIRST_STANDARD_PARALLEL = "N/A"
  LINE_FIRST_PIXEL = 1
  LINE_LAST_PIXEL = 33281
  LINE_PROJECTION_OFFSET = -102359.0
  MAP_PROJECTION_ROTATION = 0.0
  MAP_PROJECTION_TYPE = SINUSOIDAL
  MAP_RESOLUTION = 4741.71043093333
  MAP_SCALE = 0.0125
  MAXIMUM_LATITUDE = -21.5892
  MINIMUM_LATITUDE = -28.6072
  POSITIVE_LONGITUDE_DIRECTION = EAST
  REFERENCE_LATITUDE = "N/A"
  REFERENCE_LONGITUDE = "N/A"
  SAMPLE_FIRST_PIXEL = 1
  SAMPLE_LAST_PIXEL = 5976
  SAMPLE_PROJECTION_OFFSET = 3829.0
  SECOND_STANDARD_PARALLEL = "N/A"
  WESTERNMOST_LONGITUDE = 273.08
END_OBJECT = IMAGE_MAP_PROJECTION
/* The JPEG2000 image data file associated with this label. */
OBJECT = COMPRESSED_FILE
  FILE_NAME = "H4175_0000_ND3.JP2"
  RECORD_TYPE = UNDEFINED
  FILE_RECORDS = UNK
  ENCODING_TYPE = "JP2"
  INTERCHANGE_FORMAT = BINARY
  UNCOMPRESSED_FILE_NAME = "H4175_0000_ND3.IMG"
  REQUIRED_STORAGE_BYTES = "198917136"
  ^DESCRIPTION = "JP2INFO.TXT"
END_OBJECT = COMPRESSED_FILE
END
