PDS_VERSION_ID = PDS3
/* FILE DATA ELEMENTS */
RECORD_TYPE = STREAM
/* POINTERS TO DATA OBJECTS */
^COMPRESSED_FILE = "H4178_0002_SR3.JP2"
/* IDENTIFICATION DATA ELEMENTS */
DATA_SET_ID = "MEX-M-HRSC-5-REFDR-MAPPROJECTED-V3.0"
DATA_SET_NAME = "MARS EXPRESS HRSC MAP PROJECTED REFDR V3.0"
DETECTOR_ID = MEX_HRSC_SRC
EVENT_TYPE = "MARS-LOCAL-STEREO-Fl-Mw-La"
INSTRUMENT_HOST_ID = MEX
INSTRUMENT_HOST_NAME = "MARS EXPRESS"
INSTRUMENT_ID = HRSC
INSTRUMENT_NAME = "HIGH RESOLUTION STEREO CAMERA"
MISSION_NAME = "MARS EXPRESS"
MISSION_PHASE_NAME = ME_Phase_7
PROCESSING_LEVEL_ID = 3
PRODUCT_CREATION_TIME = 2016-04-20T19:30:25.000Z
PRODUCT_ID = "H4178_0002_SR3.JP2"
RELEASE_ID = 0047
REVISION_ID = 0000
/* QUALITY DATA ELEMENTS */
DATA_QUALITY_ID = 1
DATA_QUALITY_DESC = "Data calculated based on original SPICE kernels"
/* TIME DATA ELEMENTS */
SPACECRAFT_CLOCK_START_COUNT = "1/0124034146.09043"
SPACECRAFT_CLOCK_STOP_COUNT = "1/0124034386.59472"
IMAGE_TIME = 2007-04-07T13:57:12.848Z
START_TIME = 2007-04-07T13:57:12.845Z
STOP_TIME = 2007-04-07T13:57:12.850Z
/* ORBITAL DATA ELEMENTS */
ASCENDING_NODE_LONGITUDE = 140.78
MAXIMUM_RESOLUTION = 2.813
FOOTPRINT_POINT_LATITUDE = (-12.8523,-12.8507,-12.8489,-12.8464, -12.8444,-12.8432,-12.8403,-12.8385, -12.8364,-12.8348,-12.8332,-12.8307, -12.8285,-12.8271,-12.8241,-12.8223, -12.8195,-12.8171,-12.8155,-12.8134, -12.8116,-12.8101,-12.8086,-12.8063, -12.8055,-12.8055,-12.8055,-12.8055, -12.8055,-12.8055,-12.8055,-12.8055, -12.8055,-12.8055,-12.8055,-12.8055, -12.8055,-12.8055,-12.8055,-12.8055, -12.8055,-12.8055,-12.8055,-12.8055, -12.8055,-12.8055,-12.8054,-12.8054, -12.8054,-12.8074,-12.8091,-12.8119, -12.8135,-12.8159,-12.8177,-12.8192, -12.8206,-12.8231,-12.8252,-12.8265, -12.8285,-12.83,-12.8314,-12.8328, -12.835,-12.8379,-12.8397,-12.8419, -12.8439,-12.8452,-12.8466,-12.8485, -12.8509,-12.8529,-12.8533,-12.8533, -12.8533,-12.8533,-12.8533,-12.8533, -12.8533,-12.8533,-12.8533,-12.8533, -12.8533,-12.8533,-12.8533,-12.8533, -12.8533,-12.8533,-12.8533,-12.8533, -12.8533,-12.8533,-12.8533,-12.8533, -12.8533,-12.8533,-12.8533,-12.8523)
FOOTPRINT_POINT_LONGITUDE = (338.017,338.017,338.017,338.017, 338.017,338.017,338.017,338.017,338.017 ,338.017,338.017,338.017,338.017, 338.017,338.017,338.017,338.017,338.017 ,338.017,338.017,338.017,338.017, 338.017,338.017,338.019,338.021,338.023 ,338.025,338.027,338.029,338.031, 338.033,338.035,338.036,338.038,338.04, 338.042,338.044,338.046,338.048,338.05, 338.052,338.054,338.056,338.058,338.06, 338.062,338.064,338.066,338.066,338.066 ,338.067,338.067,338.067,338.067, 338.067,338.067,338.067,338.067,338.067 ,338.067,338.067,338.067,338.067, 338.067,338.067,338.067,338.067,338.067 ,338.067,338.067,338.067,338.067, 338.067,338.065,338.063,338.061,338.059 ,338.057,338.055,338.053,338.051, 338.049,338.048,338.046,338.044,338.042 ,338.04,338.038,338.036,338.034,338.032 ,338.03,338.028,338.026,338.024,338.022 ,338.02,338.018,338.017)
ORBIT_NUMBER = 4178
ORBITAL_ECCENTRICITY = 0.571
ORBITAL_INCLINATION = 86.69
ORBITAL_SEMIMAJOR_AXIS = 8612.07
PERIAPSIS_ALTITUDE = 300.92
PERIAPSIS_ARGUMENT_ANGLE = 342.11
PERIAPSIS_TIME = 2007-04-07T13:55:57.000Z
SPACECRAFT_ORIENTATION = (0.0,1.0,0.0)
^MEX_ORIENTATION_DESC = "MEX_ORIENTATION_DESC.TXT"
SPACECRAFT_POINTING_MODE = ACROSSTRACK
^MEX_POINTING_DESC = "MEX_POINTING_DESC.TXT"
RIGHT_ASCENSION = -1e+32
DECLINATION = -1e+32
OFFSET_ANGLE = 0.1
SPACECRAFT_SOLAR_DISTANCE = 2.10158e+08
TARGET_NAME = MARS
/* CAMERA DATA ELEMENTS */
BUFFER_MODE_ID = BUFFER_8
EXPOSURE_DURATION = 5.04
INST_CMPRS_NAME = NONE
INST_CMPRS_RATIO = 1.0
INST_CMPRS_QUALITY = -2147483648
INST_CMPRS_QUANTZ_TBL_ID = -2147483648
INSTRUMENT_TEMPERATURE = 13.8792
MISSING_FRAMES = 0
START_BIT = 0
/* RADIOMETRIC DATA ELEMENTS */
BANDWIDTH = 250.0
CENTER_FILTER_WAVELENGTH = 600.0
RADIANCE_OFFSET = -9.99e+31
RADIANCE_SCALING_FACTOR = -9.99e+31
REFLECTANCE_SCALING_FACTOR = -9.99e+31
MEX:REFLECTANCE_OFFSET = -9.99e+31
/* IMAGE OBJECT DEFINITIONS */
OBJECT = IMAGE
  INTERCHANGE_FORMAT = BINARY
  LINES = 1179
  LINE_SAMPLES = 1191
  SAMPLE_TYPE = UNSIGNED_INTEGER
  SAMPLE_BITS = 8
  BANDS = 1
  BAND_STORAGE_TYPE = BAND_SEQUENTIAL
  MAXIMUM = 250
  MEAN = 138.246
  MINIMUM = 3
  STANDARD_DEVIATION = 21.7128
END_OBJECT = IMAGE
/* MAP OBJECT DEFINITIONS */
OBJECT = IMAGE_MAP_PROJECTION
  ^DATA_SET_MAP_PROJECTION_CATALOG= "DSMAP.CAT"
  A_AXIS_RADIUS = 3396.19
  B_AXIS_RADIUS = 3396.19
  C_AXIS_RADIUS = 3396.19
  CENTER_LATITUDE = 0.0
  CENTER_LONGITUDE = 338.0
  COORDINATE_SYSTEM_NAME = PLANETOGRAPHIC
  COORDINATE_SYSTEM_TYPE = "BODY-FIXED ROTATING"
  EASTERNMOST_LONGITUDE = 338.067
  FIRST_STANDARD_PARALLEL = "N/A"
  LINE_FIRST_PIXEL = 1
  LINE_LAST_PIXEL = 1179
  LINE_PROJECTION_OFFSET = -303562.0
  MAP_PROJECTION_ROTATION = 0.0
  MAP_PROJECTION_TYPE = SINUSOIDAL
  MAP_RESOLUTION = 23709.8786048756
  MAP_SCALE = 0.0025
  MAXIMUM_LATITUDE = -12.8054
  MINIMUM_LATITUDE = -12.8533
  POSITIVE_LONGITUDE_DIRECTION = EAST
  REFERENCE_LATITUDE = "N/A"
  REFERENCE_LONGITUDE = "N/A"
  SAMPLE_FIRST_PIXEL = 1
  SAMPLE_LAST_PIXEL = 1191
  SAMPLE_PROJECTION_OFFSET = -364.0
  SECOND_STANDARD_PARALLEL = "N/A"
  WESTERNMOST_LONGITUDE = 338.017
END_OBJECT = IMAGE_MAP_PROJECTION
/* The JPEG2000 image data file associated with this label. */
OBJECT = COMPRESSED_FILE
  FILE_NAME = "H4178_0002_SR3.JP2"
  RECORD_TYPE = UNDEFINED
  FILE_RECORDS = UNK
  ENCODING_TYPE = "JP2"
  INTERCHANGE_FORMAT = BINARY
  UNCOMPRESSED_FILE_NAME = "H4178_0002_SR3.IMG"
  REQUIRED_STORAGE_BYTES = "1423245"
  ^DESCRIPTION = "JP2INFO.TXT"
END_OBJECT = COMPRESSED_FILE
END
