PDS_VERSION_ID = PDS3
/* FILE DATA ELEMENTS */
RECORD_TYPE = STREAM
/* POINTERS TO DATA OBJECTS */
^COMPRESSED_FILE = "H4180_0000_BL3.JP2"
/* IDENTIFICATION DATA ELEMENTS */
DATA_SET_ID = "MEX-M-HRSC-5-REFDR-MAPPROJECTED-V3.0"
DATA_SET_NAME = "MARS EXPRESS HRSC MAP PROJECTED REFDR V3.0"
DETECTOR_ID = MEX_HRSC_BLUE
EVENT_TYPE = "MARS-REGIONAL-MAPPING-Im"
INSTRUMENT_HOST_ID = MEX
INSTRUMENT_HOST_NAME = "MARS EXPRESS"
INSTRUMENT_ID = HRSC
INSTRUMENT_NAME = "HIGH RESOLUTION STEREO CAMERA"
MISSION_NAME = "MARS EXPRESS"
MISSION_PHASE_NAME = ME_Phase_7
PROCESSING_LEVEL_ID = 3
PRODUCT_CREATION_TIME = 2016-04-20T19:30:25.000Z
PRODUCT_ID = "H4180_0000_BL3.JP2"
RELEASE_ID = 0047
REVISION_ID = 0000
/* QUALITY DATA ELEMENTS */
DATA_QUALITY_ID = 2
DATA_QUALITY_DESC = "Data calculated based on photogrammetrically improved orbit and attitude data"
/* TIME DATA ELEMENTS */
SPACECRAFT_CLOCK_START_COUNT = "1/0124082084.08223"
SPACECRAFT_CLOCK_STOP_COUNT = "1/0124082306.63951"
START_TIME = 2007-04-08T03:15:27.805Z
STOP_TIME = 2007-04-08T03:17:51.493Z
/* ORBITAL DATA ELEMENTS */
ASCENDING_NODE_LONGITUDE = 140.73
MAXIMUM_RESOLUTION = 58.6
FOOTPRINT_POINT_LATITUDE = (-43.9559,-43.9496,-43.9403,-43.9272, -43.9176,-43.8056,-43.6177,-43.4296, -43.2425,-43.0585,-42.8744,-42.69, -42.4134,-42.1428,-41.962,-41.6909, -41.5102,-41.3332,-41.156,-40.9786, -40.8012,-40.5365,-40.3627,-40.1891, -40.0153,-39.8412,-39.5803,-39.2406, -38.9853,-38.6446,-38.3035,-38.1326, -37.9614,-37.79,-37.6185,-37.4469, -37.2752,-37.1033,-36.9312,-36.759, -36.5868,-36.328,-36.1554,-35.9823, -35.8093,-35.6361,-35.4628,-35.289, -35.029,-35.0351,-35.0432,-35.047, -35.0492,-35.226,-35.3998,-35.6605, -35.834,-36.094,-36.2671,-36.4402, -36.6131,-36.7859,-36.9585,-37.131, -37.3034,-37.4756,-37.6476,-37.8196, -37.9914,-38.1629,-38.3344,-38.5057, -38.6769,-38.8479,-39.1895,-39.5302, -39.7028,-39.8776,-40.0507,-40.2247, -40.3988,-40.5732,-40.7507,-40.9294, -41.1959,-41.3738,-41.5512,-41.7322, -41.914,-42.0955,-42.2768,-42.458, -42.7358,-42.921,-43.106,-43.2907, -43.5726,-43.7613,-43.9498,-43.9559)
FOOTPRINT_POINT_LONGITUDE = (141.891,141.552,141.133,140.636, 140.317,140.026,140.042,140.059,140.075 ,140.091,140.107,140.123,140.146, 140.168,140.183,140.205,140.219,140.233 ,140.246,140.259,140.273,140.292, 140.304,140.317,140.329,140.34,140.358, 140.381,140.397,140.419,140.441,140.452 ,140.462,140.472,140.482,140.492, 140.502,140.512,140.522,140.531,140.541 ,140.555,140.564,140.573,140.582,140.59 ,140.599,140.607,140.75,141.054,141.531 ,141.821,142.098,142.174,142.174, 142.174,142.175,142.176,142.176,142.176 ,142.177,142.177,142.178,142.178, 142.178,142.179,142.179,142.179,142.179 ,142.18,142.18,142.18,142.181,142.181, 142.182,142.183,142.182,142.182,142.185 ,142.186,142.187,142.186,142.184, 142.183,142.185,142.185,142.185,142.186 ,142.186,142.186,142.187,142.187, 142.187,142.187,142.187,142.187,142.188 ,142.188,142.188,141.891)
ORBIT_NUMBER = 4180
ORBITAL_ECCENTRICITY = 0.571
ORBITAL_INCLINATION = 86.67
ORBITAL_SEMIMAJOR_AXIS = 8615.75
PERIAPSIS_ALTITUDE = 300.94
PERIAPSIS_ARGUMENT_ANGLE = 341.79
PERIAPSIS_TIME = 2007-04-08T03:22:16.000Z
SPACECRAFT_ORIENTATION = (0.0,1.0,0.0)
^MEX_ORIENTATION_DESC = "MEX_ORIENTATION_DESC.TXT"
SPACECRAFT_POINTING_MODE = NADIR
^MEX_POINTING_DESC = "MEX_POINTING_DESC.TXT"
RIGHT_ASCENSION = -1e+32
DECLINATION = -1e+32
OFFSET_ANGLE = -1e+32
SPACECRAFT_SOLAR_DISTANCE = 2.10093e+08
TARGET_NAME = MARS
/* CAMERA DATA ELEMENTS */
DETECTOR_TEMPERATURE = 18.3705
FOCAL_PLANE_TEMPERATURE = 9.6028
INST_CMPRS_NAME = "DISCRETE COSINE TRANSFORMATION (DCT)"
INST_CMPRS_RATIO = 7.35507
INST_CMPRS_QUALITY = 0
INST_CMPRS_QUANTZ_TBL_ID = 0
INSTRUMENT_TEMPERATURE = 11.4379
LENS_TEMPERATURE = 9.6028
MACROPIXEL_SIZE = 4
MISSING_FRAMES = 0
PIXEL_SUBSAMPLING_FLAG = N
SIGNAL_CHAIN_ID = 2
/* RADIOMETRIC DATA ELEMENTS */
BANDWIDTH = 76.0
CENTER_FILTER_WAVELENGTH = 444.0
RADIANCE_OFFSET = 0.676746
RADIANCE_SCALING_FACTOR = 0.00133757
REFLECTANCE_SCALING_FACTOR = 6.06596e-05
MEX:REFLECTANCE_OFFSET = 0.0306909
/* IMAGE OBJECT DEFINITIONS */
OBJECT = IMAGE
  INTERCHANGE_FORMAT = BINARY
  LINES = 10578
  LINE_SAMPLES = 2010
  SAMPLE_TYPE = UNSIGNED_INTEGER
  SAMPLE_BITS = 8
  BANDS = 1
  BAND_STORAGE_TYPE = BAND_SEQUENTIAL
  MAXIMUM = 255
  MEAN = 141.024
  MINIMUM = 1
  STANDARD_DEVIATION = 21.2331
END_OBJECT = IMAGE
/* MAP OBJECT DEFINITIONS */
OBJECT = IMAGE_MAP_PROJECTION
  ^DATA_SET_MAP_PROJECTION_CATALOG= "DSMAP.CAT"
  A_AXIS_RADIUS = 3396.0
  B_AXIS_RADIUS = 3396.0
  C_AXIS_RADIUS = 3396.0
  CENTER_LATITUDE = 0.0
  CENTER_LONGITUDE = 141.0
  COORDINATE_SYSTEM_NAME = PLANETOGRAPHIC
  COORDINATE_SYSTEM_TYPE = "BODY-FIXED ROTATING"
  EASTERNMOST_LONGITUDE = 142.188
  FIRST_STANDARD_PARALLEL = "N/A"
  LINE_FIRST_PIXEL = 1
  LINE_LAST_PIXEL = 10578
  LINE_PROJECTION_OFFSET = -41520.375
  MAP_PROJECTION_ROTATION = 0.0
  MAP_PROJECTION_TYPE = SINUSOIDAL
  MAP_RESOLUTION = 1185.42760773333
  MAP_SCALE = 0.05
  MAXIMUM_LATITUDE = -35.029
  MINIMUM_LATITUDE = -43.9559
  POSITIVE_LONGITUDE_DIRECTION = EAST
  REFERENCE_LATITUDE = "N/A"
  REFERENCE_LONGITUDE = "N/A"
  SAMPLE_FIRST_PIXEL = 1
  SAMPLE_LAST_PIXEL = 2010
  SAMPLE_PROJECTION_OFFSET = 845.875
  SECOND_STANDARD_PARALLEL = "N/A"
  WESTERNMOST_LONGITUDE = 140.026
END_OBJECT = IMAGE_MAP_PROJECTION
/* The JPEG2000 image data file associated with this label. */
OBJECT = COMPRESSED_FILE
  FILE_NAME = "H4180_0000_BL3.JP2"
  RECORD_TYPE = UNDEFINED
  FILE_RECORDS = UNK
  ENCODING_TYPE = "JP2"
  INTERCHANGE_FORMAT = BINARY
  UNCOMPRESSED_FILE_NAME = "H4180_0000_BL3.IMG"
  REQUIRED_STORAGE_BYTES = "21281880"
  ^DESCRIPTION = "JP2INFO.TXT"
END_OBJECT = COMPRESSED_FILE
END
