PDS_VERSION_ID = PDS3
/* FILE DATA ELEMENTS */
RECORD_TYPE = STREAM
/* POINTERS TO DATA OBJECTS */
^COMPRESSED_FILE = "H4182_0000_P23.JP2"
/* IDENTIFICATION DATA ELEMENTS */
DATA_SET_ID = "MEX-M-HRSC-5-REFDR-MAPPROJECTED-V3.0"
DATA_SET_NAME = "MARS EXPRESS HRSC MAP PROJECTED REFDR V3.0"
DETECTOR_ID = MEX_HRSC_P2
EVENT_TYPE = "MARS-REGIONAL-MAPPING-Vo-Te-Im"
INSTRUMENT_HOST_ID = MEX
INSTRUMENT_HOST_NAME = "MARS EXPRESS"
INSTRUMENT_ID = HRSC
INSTRUMENT_NAME = "HIGH RESOLUTION STEREO CAMERA"
MISSION_NAME = "MARS EXPRESS"
MISSION_PHASE_NAME = ME_Phase_7
PROCESSING_LEVEL_ID = 3
PRODUCT_CREATION_TIME = 2016-04-20T19:30:25.000Z
PRODUCT_ID = "H4182_0000_P23.JP2"
RELEASE_ID = 0047
REVISION_ID = 0000
/* QUALITY DATA ELEMENTS */
DATA_QUALITY_ID = 2
DATA_QUALITY_DESC = "Data calculated based on photogrammetrically improved orbit and attitude data"
/* TIME DATA ELEMENTS */
SPACECRAFT_CLOCK_START_COUNT = "1/0124130770.09034"
SPACECRAFT_CLOCK_STOP_COUNT = "1/0124130976.16588"
START_TIME = 2007-04-08T16:46:24.413Z
STOP_TIME = 2007-04-08T16:48:53.684Z
/* ORBITAL DATA ELEMENTS */
ASCENDING_NODE_LONGITUDE = 140.69
MAXIMUM_RESOLUTION = 49.3
FOOTPRINT_POINT_LATITUDE = (-25.8074,-25.82,-25.8308,-25.5396, -25.3511,-25.1622,-24.9732,-24.7844, -24.5952,-24.406,-24.1316,-23.9487, -23.7652,-23.582,-23.3986,-23.2151, -23.0314,-22.7558,-22.4799,-22.296, -22.1118,-21.9274,-21.743,-21.5587, -21.3745,-21.19,-20.9133,-20.7285, -20.5438,-20.3588,-20.1738,-19.9888, -19.8039,-19.6253,-19.3573,-19.0891, -18.9102,-18.6417,-17.9995,-17.8204, -17.6411,-17.3722,-17.1926,-17.0131, -16.8339,-16.6545,-16.4751,-16.2955, -16.0504,-16.039,-16.0233,-16.0121, -16.2824,-16.4625,-16.6422,-16.8219, -17.0011,-17.1807,-17.3582,-17.5384, -17.7174,-17.8965,-18.5386,-18.7176, -18.8966,-19.1644,-19.3439,-19.5225, -19.7012,-19.8842,-20.162,-20.3475, -20.5287,-20.715,-20.9939,-21.1784, -21.3625,-21.5471,-21.7312,-21.916, -22.1003,-22.2846,-22.4686,-22.7446, -22.9285,-23.1123,-23.2958,-23.4792, -23.7543,-23.9376,-24.1207,-24.3038, -24.4909,-24.6805,-24.8699,-25.0588, -25.2476,-25.5307,-25.7193,-25.8074)
FOOTPRINT_POINT_LONGITUDE = (306.193,305.818,305.451,305.296, 305.298,305.301,305.303,305.305,305.307 ,305.31,305.313,305.314,305.316,305.318 ,305.32,305.322,305.323,305.326,305.328 ,305.329,305.331,305.332,305.333, 305.334,305.335,305.337,305.338,305.339 ,305.34,305.341,305.341,305.342,305.343 ,305.343,305.344,305.345,305.345, 305.346,305.347,305.347,305.347,305.347 ,305.347,305.347,305.347,305.347, 305.347,305.346,305.507,305.814,306.191 ,306.463,306.464,306.465,306.466, 306.467,306.469,306.47,306.474,306.474, 306.476,306.477,306.483,306.484,306.486 ,306.488,306.489,306.491,306.492, 306.494,306.496,306.498,306.504,306.504 ,306.504,306.506,306.508,306.51,306.512 ,306.514,306.515,306.517,306.519, 306.522,306.523,306.525,306.527,306.529 ,306.532,306.534,306.536,306.538,306.54 ,306.542,306.544,306.547,306.549, 306.552,306.555,306.193)
ORBIT_NUMBER = 4182
ORBITAL_ECCENTRICITY = 0.571
ORBITAL_INCLINATION = 86.68
ORBITAL_SEMIMAJOR_AXIS = 8614.06
PERIAPSIS_ALTITUDE = 300.59
PERIAPSIS_ARGUMENT_ANGLE = 341.44
PERIAPSIS_TIME = 2007-04-08T16:48:34.000Z
SPACECRAFT_ORIENTATION = (0.0,1.0,0.0)
^MEX_ORIENTATION_DESC = "MEX_ORIENTATION_DESC.TXT"
SPACECRAFT_POINTING_MODE = ACROSSTRACK
^MEX_POINTING_DESC = "MEX_POINTING_DESC.TXT"
RIGHT_ASCENSION = -1e+32
DECLINATION = -1e+32
OFFSET_ANGLE = -0.8
SPACECRAFT_SOLAR_DISTANCE = 2.10029e+08
TARGET_NAME = MARS
/* CAMERA DATA ELEMENTS */
DETECTOR_TEMPERATURE = 19.1861
FOCAL_PLANE_TEMPERATURE = 10.0106
INST_CMPRS_NAME = "DISCRETE COSINE TRANSFORMATION (DCT)"
INST_CMPRS_RATIO = 9.39758
INST_CMPRS_QUALITY = 0
INST_CMPRS_QUANTZ_TBL_ID = 0
INSTRUMENT_TEMPERATURE = 11.8457
LENS_TEMPERATURE = 10.2145
MACROPIXEL_SIZE = 4
MISSING_FRAMES = 91
PIXEL_SUBSAMPLING_FLAG = N
SIGNAL_CHAIN_ID = 3
/* RADIOMETRIC DATA ELEMENTS */
BANDWIDTH = 177.0
CENTER_FILTER_WAVELENGTH = 676.5
RADIANCE_OFFSET = 3.15675
RADIANCE_SCALING_FACTOR = 0.00892747
REFLECTANCE_SCALING_FACTOR = 0.000208808
MEX:REFLECTANCE_OFFSET = 0.0738345
/* IMAGE OBJECT DEFINITIONS */
OBJECT = IMAGE
  INTERCHANGE_FORMAT = BINARY
  LINES = 11581
  LINE_SAMPLES = 1437
  SAMPLE_TYPE = UNSIGNED_INTEGER
  SAMPLE_BITS = 8
  BANDS = 1
  BAND_STORAGE_TYPE = BAND_SEQUENTIAL
  MAXIMUM = 255
  MEAN = 142.674
  MINIMUM = 1
  STANDARD_DEVIATION = 23.8633
END_OBJECT = IMAGE
/* MAP OBJECT DEFINITIONS */
OBJECT = IMAGE_MAP_PROJECTION
  ^DATA_SET_MAP_PROJECTION_CATALOG= "DSMAP.CAT"
  A_AXIS_RADIUS = 3396.0
  B_AXIS_RADIUS = 3396.0
  C_AXIS_RADIUS = 3396.0
  CENTER_LATITUDE = 0.0
  CENTER_LONGITUDE = 306.0
  COORDINATE_SYSTEM_NAME = PLANETOGRAPHIC
  COORDINATE_SYSTEM_TYPE = "BODY-FIXED ROTATING"
  EASTERNMOST_LONGITUDE = 306.555
  FIRST_STANDARD_PARALLEL = "N/A"
  LINE_FIRST_PIXEL = 1
  LINE_LAST_PIXEL = 11581
  LINE_PROJECTION_OFFSET = -18998.375
  MAP_PROJECTION_ROTATION = 0.0
  MAP_PROJECTION_TYPE = SINUSOIDAL
  MAP_RESOLUTION = 1185.42760773333
  MAP_SCALE = 0.05
  MAXIMUM_LATITUDE = -16.0121
  MINIMUM_LATITUDE = -25.8308
  POSITIVE_LONGITUDE_DIRECTION = EAST
  REFERENCE_LATITUDE = "N/A"
  REFERENCE_LONGITUDE = "N/A"
  SAMPLE_FIRST_PIXEL = 1
  SAMPLE_LAST_PIXEL = 1437
  SAMPLE_PROJECTION_OFFSET = 755.375
  SECOND_STANDARD_PARALLEL = "N/A"
  WESTERNMOST_LONGITUDE = 305.296
END_OBJECT = IMAGE_MAP_PROJECTION
/* The JPEG2000 image data file associated with this label. */
OBJECT = COMPRESSED_FILE
  FILE_NAME = "H4182_0000_P23.JP2"
  RECORD_TYPE = UNDEFINED
  FILE_RECORDS = UNK
  ENCODING_TYPE = "JP2"
  INTERCHANGE_FORMAT = BINARY
  UNCOMPRESSED_FILE_NAME = "H4182_0000_P23.IMG"
  REQUIRED_STORAGE_BYTES = "16660578"
  ^DESCRIPTION = "JP2INFO.TXT"
END_OBJECT = COMPRESSED_FILE
END
