PDS_VERSION_ID = PDS3
/* FILE DATA ELEMENTS */
RECORD_TYPE = STREAM
/* POINTERS TO DATA OBJECTS */
^COMPRESSED_FILE = "H4187_0000_S13.JP2"
/* IDENTIFICATION DATA ELEMENTS */
DATA_SET_ID = "MEX-M-HRSC-5-REFDR-MAPPROJECTED-V3.0"
DATA_SET_NAME = "MARS EXPRESS HRSC MAP PROJECTED REFDR V3.0"
DETECTOR_ID = MEX_HRSC_S1
EVENT_TYPE = "MARS-REGIONAL-MAPPING-Te-Fl-Mw"
INSTRUMENT_HOST_ID = MEX
INSTRUMENT_HOST_NAME = "MARS EXPRESS"
INSTRUMENT_ID = HRSC
INSTRUMENT_NAME = "HIGH RESOLUTION STEREO CAMERA"
MISSION_NAME = "MARS EXPRESS"
MISSION_PHASE_NAME = ME_Phase_7
PROCESSING_LEVEL_ID = 3
PRODUCT_CREATION_TIME = 2016-04-20T19:30:25.000Z
PRODUCT_ID = "H4187_0000_S13.JP2"
RELEASE_ID = 0047
REVISION_ID = 0000
/* QUALITY DATA ELEMENTS */
DATA_QUALITY_ID = 2
DATA_QUALITY_DESC = "Data calculated based on photogrammetrically improved orbit and attitude data"
/* TIME DATA ELEMENTS */
SPACECRAFT_CLOCK_START_COUNT = "1/0124251385.07308"
SPACECRAFT_CLOCK_STOP_COUNT = "1/0124251741.41093"
START_TIME = 2007-04-10T02:17:59.184Z
STOP_TIME = 2007-04-10T02:22:23.758Z
/* ORBITAL DATA ELEMENTS */
ASCENDING_NODE_LONGITUDE = 140.58
MAXIMUM_RESOLUTION = 26.6
FOOTPRINT_POINT_LATITUDE = (-46.264,-46.2543,-46.244,-46.2332, -46.2217,-46.2097,-46.0364,-45.8241, -45.6168,-45.2046,-44.588,-44.1871, -43.7874,-43.3927,-43.0047,-42.6096, -42.0205,-41.6271,-41.0365,-40.6427, -40.2481,-39.6585,-39.0625,-38.6865, -38.355,-38.024,-37.5274,-37.0293, -36.697,-36.3651,-36.0333,-35.701, -35.2014,-34.868,-34.3686,-34.0337, -33.7054,-33.3828,-33.0588,-32.7354, -32.4116,-32.0883,-31.7684,-31.4557, -30.9866,-30.5178,-30.2049,-29.8954, -29.5837,-29.118,-28.8173,-28.6717, -28.6807,-28.6961,-28.9981,-29.2997, -29.6123,-30.0817,-30.5502,-30.8629, -31.1754,-31.4878,-31.8005,-32.1204, -32.6054,-32.9292,-33.2535,-33.5781, -33.9018,-34.2332,-34.5678,-34.9026, -35.2364,-35.5703,-36.0752,-36.571, -36.9037,-37.4026,-37.7347,-38.231, -38.7293,-39.106,-39.5029,-40.0971, -40.4932,-40.8878,-41.2832,-41.6756, -42.0707,-42.4651,-43.0564,-43.4486, -43.8539,-44.25,-44.6503,-45.0605, -45.4735,-45.8874,-46.0988,-46.264)
FOOTPRINT_POINT_LONGITUDE = (174.479,174.143,173.809,173.476, 173.145,172.815,172.566,172.585,172.603 ,172.638,172.689,172.72,172.75,172.78, 172.807,172.835,172.875,172.9,172.937, 172.961,172.984,173.017,173.05,173.069, 173.086,173.102,173.126,173.149,173.164 ,173.178,173.192,173.206,173.226, 173.238,173.257,173.269,173.281,173.292 ,173.303,173.313,173.324,173.333, 173.343,173.352,173.365,173.377,173.385 ,173.393,173.4,173.411,173.418,173.83, 174.146,174.679,174.681,174.682,174.684 ,174.686,174.688,174.689,174.691, 174.692,174.693,174.694,174.696,174.698 ,174.7,174.702,174.704,174.705,174.707, 174.709,174.711,174.712,174.717,174.716 ,174.717,174.719,174.72,174.72,174.721, 174.723,174.725,174.727,174.729,174.729 ,174.731,174.731,174.732,174.733, 174.735,174.735,174.742,174.739,174.738 ,174.74,174.74,174.741,174.742,174.479)
ORBIT_NUMBER = 4187
ORBITAL_ECCENTRICITY = 0.571
ORBITAL_INCLINATION = 86.69
ORBITAL_SEMIMAJOR_AXIS = 8610.15
PERIAPSIS_ALTITUDE = 300.41
PERIAPSIS_ARGUMENT_ANGLE = 340.55
PERIAPSIS_TIME = 2007-04-10T02:24:17.000Z
SPACECRAFT_ORIENTATION = (0.0,1.0,0.0)
^MEX_ORIENTATION_DESC = "MEX_ORIENTATION_DESC.TXT"
SPACECRAFT_POINTING_MODE = ACROSSTRACK
^MEX_POINTING_DESC = "MEX_POINTING_DESC.TXT"
RIGHT_ASCENSION = -1e+32
DECLINATION = -1e+32
OFFSET_ANGLE = -0.35
SPACECRAFT_SOLAR_DISTANCE = 2.09872e+08
TARGET_NAME = MARS
/* CAMERA DATA ELEMENTS */
DETECTOR_TEMPERATURE = 17.5549
FOCAL_PLANE_TEMPERATURE = 8.7872
INST_CMPRS_NAME = "DISCRETE COSINE TRANSFORMATION (DCT)"
INST_CMPRS_RATIO = 11.0475
INST_CMPRS_QUALITY = 0
INST_CMPRS_QUANTZ_TBL_ID = 0
INSTRUMENT_TEMPERATURE = 11.234
LENS_TEMPERATURE = 9.3989
MACROPIXEL_SIZE = 2
MISSING_FRAMES = 0
PIXEL_SUBSAMPLING_FLAG = N
SIGNAL_CHAIN_ID = 1
/* RADIOMETRIC DATA ELEMENTS */
BANDWIDTH = 180.0
CENTER_FILTER_WAVELENGTH = 677.0
RADIANCE_OFFSET = 4.23279
RADIANCE_SCALING_FACTOR = 0.012633
REFLECTANCE_SCALING_FACTOR = 0.000290308
MEX:REFLECTANCE_OFFSET = 0.09727
/* IMAGE OBJECT DEFINITIONS */
OBJECT = IMAGE
  INTERCHANGE_FORMAT = BINARY
  LINES = 41839
  LINE_SAMPLES = 4071
  SAMPLE_TYPE = UNSIGNED_INTEGER
  SAMPLE_BITS = 8
  BANDS = 1
  BAND_STORAGE_TYPE = BAND_SEQUENTIAL
  MAXIMUM = 255
  MEAN = 127.369
  MINIMUM = 1
  STANDARD_DEVIATION = 23.245
END_OBJECT = IMAGE
/* MAP OBJECT DEFINITIONS */
OBJECT = IMAGE_MAP_PROJECTION
  ^DATA_SET_MAP_PROJECTION_CATALOG= "DSMAP.CAT"
  A_AXIS_RADIUS = 3396.0
  B_AXIS_RADIUS = 3396.0
  C_AXIS_RADIUS = 3396.0
  CENTER_LATITUDE = 0.0
  CENTER_LONGITUDE = 174.0
  COORDINATE_SYSTEM_NAME = PLANETOGRAPHIC
  COORDINATE_SYSTEM_TYPE = "BODY-FIXED ROTATING"
  EASTERNMOST_LONGITUDE = 174.742
  FIRST_STANDARD_PARALLEL = "N/A"
  LINE_FIRST_PIXEL = 1
  LINE_LAST_PIXEL = 41839
  LINE_PROJECTION_OFFSET = -67999.75
  MAP_PROJECTION_ROTATION = 0.0
  MAP_PROJECTION_TYPE = SINUSOIDAL
  MAP_RESOLUTION = 2370.85521546667
  MAP_SCALE = 0.025
  MAXIMUM_LATITUDE = -28.6717
  MINIMUM_LATITUDE = -46.264
  POSITIVE_LONGITUDE_DIRECTION = EAST
  REFERENCE_LATITUDE = "N/A"
  REFERENCE_LONGITUDE = "N/A"
  SAMPLE_FIRST_PIXEL = 1
  SAMPLE_LAST_PIXEL = 4071
  SAMPLE_PROJECTION_OFFSET = 2507.25
  SECOND_STANDARD_PARALLEL = "N/A"
  WESTERNMOST_LONGITUDE = 172.566
END_OBJECT = IMAGE_MAP_PROJECTION
/* The JPEG2000 image data file associated with this label. */
OBJECT = COMPRESSED_FILE
  FILE_NAME = "H4187_0000_S13.JP2"
  RECORD_TYPE = UNDEFINED
  FILE_RECORDS = UNK
  ENCODING_TYPE = "JP2"
  INTERCHANGE_FORMAT = BINARY
  UNCOMPRESSED_FILE_NAME = "H4187_0000_S13.IMG"
  REQUIRED_STORAGE_BYTES = "170350995"
  ^DESCRIPTION = "JP2INFO.TXT"
END_OBJECT = COMPRESSED_FILE
END
