PDS_VERSION_ID = PDS3
/* FILE DATA ELEMENTS */
RECORD_TYPE = STREAM
/* POINTERS TO DATA OBJECTS */
^COMPRESSED_FILE = "H4187_0001_ND3.JP2"
/* IDENTIFICATION DATA ELEMENTS */
DATA_SET_ID = "MEX-M-HRSC-5-REFDR-MAPPROJECTED-V3.0"
DATA_SET_NAME = "MARS EXPRESS HRSC MAP PROJECTED REFDR V3.0"
DETECTOR_ID = MEX_HRSC_NADIR
EVENT_TYPE = "MARS-LOCAL-STEREO-Vo"
INSTRUMENT_HOST_ID = MEX
INSTRUMENT_HOST_NAME = "MARS EXPRESS"
INSTRUMENT_ID = HRSC
INSTRUMENT_NAME = "HIGH RESOLUTION STEREO CAMERA"
MISSION_NAME = "MARS EXPRESS"
MISSION_PHASE_NAME = ME_Phase_7
PROCESSING_LEVEL_ID = 3
PRODUCT_CREATION_TIME = 2016-04-20T19:30:25.000Z
PRODUCT_ID = "H4187_0001_ND3.JP2"
RELEASE_ID = 0047
REVISION_ID = 0000
/* QUALITY DATA ELEMENTS */
DATA_QUALITY_ID = 1
DATA_QUALITY_DESC = "Data calculated based on original SPICE kernels"
/* TIME DATA ELEMENTS */
SPACECRAFT_CLOCK_START_COUNT = "1/0124251938.09073"
SPACECRAFT_CLOCK_STOP_COUNT = "1/0124252119.42873"
START_TIME = 2007-04-10T02:26:09.314Z
STOP_TIME = 2007-04-10T02:28:09.303Z
/* ORBITAL DATA ELEMENTS */
ASCENDING_NODE_LONGITUDE = 140.58
MAXIMUM_RESOLUTION = 12.5
FOOTPRINT_POINT_LATITUDE = (-11.9773,-11.9782,-11.9789,-11.9794, -11.9799,-11.9803,-11.9799,-11.8296, -11.6795,-11.3791,-11.0789,-10.7788, -10.479,-10.1792,-9.94875,-9.79371, -9.5614,-9.40651,-9.25171,-9.097, -8.94227,-8.78754,-8.63284,-8.47819, -8.32349,-8.16892,-8.01439,-7.85997, -7.70557,-7.5483,-7.38869,-7.22919, -7.06981,-6.91052,-6.75127,-6.59208, -6.43296,-6.27392,-6.11494,-5.95604, -5.7972,-5.63843,-5.47518,-5.31131, -5.14753,-4.98382,-4.8202,-4.65666, -4.4932,-4.32981,-4.16653,-4.16339, -4.162,-4.16096,-4.15965,-4.15869, -4.15758,-4.40248,-4.56597,-4.72955, -4.89319,-5.05694,-5.22078,-5.38469, -5.62999,-5.7888,-5.94769,-6.10666, -6.26569,-6.4248,-6.58401,-6.74329, -6.90265,-7.06209,-7.2216,-7.38119, -7.54087,-7.77552,-7.92999,-8.08461, -8.23917,-8.39379,-8.54844,-8.70318, -8.93542,-9.09031,-9.32259,-9.47749, -9.63249,-9.78756,-9.94265,-10.1732, -10.473,-10.773,-11.0732,-11.3735, -11.5237,-11.674,-11.8242,-11.9773)
FOOTPRINT_POINT_LONGITUDE = (174.578,174.401,174.224,174.049, 173.874,173.7,173.519,173.519,173.518, 173.516,173.514,173.511,173.509,173.507 ,173.505,173.504,173.503,173.502, 173.501,173.5,173.499,173.497,173.495, 173.494,173.491,173.489,173.487,173.485 ,173.483,173.481,173.478,173.476, 173.474,173.472,173.47,173.468,173.466, 173.464,173.462,173.46,173.457,173.455, 173.452,173.45,173.448,173.445,173.443, 173.44,173.438,173.435,173.433,173.625, 173.878,174.059,174.278,174.437,174.608 ,174.663,174.662,174.661,174.661,174.66 ,174.659,174.658,174.657,174.657, 174.656,174.656,174.655,174.655,174.654 ,174.653,174.652,174.65,174.649,174.647 ,174.645,174.642,174.64,174.637,174.636 ,174.636,174.636,174.635,174.633, 174.632,174.634,174.636,174.636,174.637 ,174.638,174.64,174.641,174.642,174.643 ,174.644,174.644,174.644,174.645, 174.578)
ORBIT_NUMBER = 4187
ORBITAL_ECCENTRICITY = 0.571
ORBITAL_INCLINATION = 86.69
ORBITAL_SEMIMAJOR_AXIS = 8610.15
PERIAPSIS_ALTITUDE = 300.41
PERIAPSIS_ARGUMENT_ANGLE = 340.55
PERIAPSIS_TIME = 2007-04-10T02:24:17.000Z
SPACECRAFT_ORIENTATION = (0.0,1.0,0.0)
^MEX_ORIENTATION_DESC = "MEX_ORIENTATION_DESC.TXT"
SPACECRAFT_POINTING_MODE = ACROSSTRACK
^MEX_POINTING_DESC = "MEX_POINTING_DESC.TXT"
RIGHT_ASCENSION = -1e+32
DECLINATION = -1e+32
OFFSET_ANGLE = -0.35
SPACECRAFT_SOLAR_DISTANCE = 2.09872e+08
TARGET_NAME = MARS
/* CAMERA DATA ELEMENTS */
DETECTOR_TEMPERATURE = 19.5939
FOCAL_PLANE_TEMPERATURE = 9.3989
INST_CMPRS_NAME = "DISCRETE COSINE TRANSFORMATION (DCT)"
INST_CMPRS_RATIO = 6.78479
INST_CMPRS_QUALITY = 0
INST_CMPRS_QUANTZ_TBL_ID = 0
INSTRUMENT_TEMPERATURE = 14.7003
LENS_TEMPERATURE = 9.6028
MACROPIXEL_SIZE = 1
MISSING_FRAMES = 0
PIXEL_SUBSAMPLING_FLAG = N
SIGNAL_CHAIN_ID = 0
/* RADIOMETRIC DATA ELEMENTS */
BANDWIDTH = 177.0
CENTER_FILTER_WAVELENGTH = 677.5
RADIANCE_OFFSET = 4.20125
RADIANCE_SCALING_FACTOR = 0.018123
REFLECTANCE_SCALING_FACTOR = 0.000424054
MEX:REFLECTANCE_OFFSET = 0.0983034
/* IMAGE OBJECT DEFINITIONS */
OBJECT = IMAGE
  INTERCHANGE_FORMAT = BINARY
  LINES = 37082
  LINE_SAMPLES = 6123
  SAMPLE_TYPE = UNSIGNED_INTEGER
  SAMPLE_BITS = 8
  BANDS = 1
  BAND_STORAGE_TYPE = BAND_SEQUENTIAL
  MAXIMUM = 255
  MEAN = 142.96
  MINIMUM = 1
  STANDARD_DEVIATION = 19.4384
END_OBJECT = IMAGE
/* MAP OBJECT DEFINITIONS */
OBJECT = IMAGE_MAP_PROJECTION
  ^DATA_SET_MAP_PROJECTION_CATALOG= "DSMAP.CAT"
  A_AXIS_RADIUS = 3396.0
  B_AXIS_RADIUS = 3396.0
  C_AXIS_RADIUS = 3396.0
  CENTER_LATITUDE = 0.0
  CENTER_LONGITUDE = 174.0
  COORDINATE_SYSTEM_NAME = PLANETOGRAPHIC
  COORDINATE_SYSTEM_TYPE = "BODY-FIXED ROTATING"
  EASTERNMOST_LONGITUDE = 174.663
  FIRST_STANDARD_PARALLEL = "N/A"
  LINE_FIRST_PIXEL = 1
  LINE_LAST_PIXEL = 37082
  LINE_PROJECTION_OFFSET = -19716.0
  MAP_PROJECTION_ROTATION = 0.0
  MAP_PROJECTION_TYPE = SINUSOIDAL
  MAP_RESOLUTION = 4741.71043093333
  MAP_SCALE = 0.0125
  MAXIMUM_LATITUDE = -4.15758
  MINIMUM_LATITUDE = -11.9803
  POSITIVE_LONGITUDE_DIRECTION = EAST
  REFERENCE_LATITUDE = "N/A"
  REFERENCE_LONGITUDE = "N/A"
  SAMPLE_FIRST_PIXEL = 1
  SAMPLE_LAST_PIXEL = 6123
  SAMPLE_PROJECTION_OFFSET = 2727.0
  SECOND_STANDARD_PARALLEL = "N/A"
  WESTERNMOST_LONGITUDE = 173.433
END_OBJECT = IMAGE_MAP_PROJECTION
/* The JPEG2000 image data file associated with this label. */
OBJECT = COMPRESSED_FILE
  FILE_NAME = "H4187_0001_ND3.JP2"
  RECORD_TYPE = UNDEFINED
  FILE_RECORDS = UNK
  ENCODING_TYPE = "JP2"
  INTERCHANGE_FORMAT = BINARY
  UNCOMPRESSED_FILE_NAME = "H4187_0001_ND3.IMG"
  REQUIRED_STORAGE_BYTES = "227083701"
  ^DESCRIPTION = "JP2INFO.TXT"
END_OBJECT = COMPRESSED_FILE
END
