PDS_VERSION_ID = PDS3
/* FILE DATA ELEMENTS */
RECORD_TYPE = STREAM
/* POINTERS TO DATA OBJECTS */
^COMPRESSED_FILE = "H4190_0000_P13.JP2"
/* IDENTIFICATION DATA ELEMENTS */
DATA_SET_ID = "MEX-M-HRSC-5-REFDR-MAPPROJECTED-V3.0"
DATA_SET_NAME = "MARS EXPRESS HRSC MAP PROJECTED REFDR V3.0"
DETECTOR_ID = MEX_HRSC_P1
EVENT_TYPE = "MARS-REGIONAL-MAPPING-Vo-Te-Im"
INSTRUMENT_HOST_ID = MEX
INSTRUMENT_HOST_NAME = "MARS EXPRESS"
INSTRUMENT_ID = HRSC
INSTRUMENT_NAME = "HIGH RESOLUTION STEREO CAMERA"
MISSION_NAME = "MARS EXPRESS"
MISSION_PHASE_NAME = ME_Phase_7
PROCESSING_LEVEL_ID = 3
PRODUCT_CREATION_TIME = 2016-04-20T19:30:25.000Z
PRODUCT_ID = "H4190_0000_P13.JP2"
RELEASE_ID = 0047
REVISION_ID = 0000
/* QUALITY DATA ELEMENTS */
DATA_QUALITY_ID = 2
DATA_QUALITY_DESC = "Data calculated based on photogrammetrically improved orbit and attitude data"
/* TIME DATA ELEMENTS */
SPACECRAFT_CLOCK_START_COUNT = "1/0124323942.09035"
SPACECRAFT_CLOCK_STOP_COUNT = "1/0124324276.01434"
START_TIME = 2007-04-10T22:27:02.462Z
STOP_TIME = 2007-04-10T22:31:08.540Z
/* ORBITAL DATA ELEMENTS */
ASCENDING_NODE_LONGITUDE = 140.53
MAXIMUM_RESOLUTION = 52.2
FOOTPRINT_POINT_LATITUDE = (-46.856,-46.8463,-46.8329,-46.8241, -46.8138,-46.835,-46.4575,-46.086, -45.5301,-45.1658,-44.8028,-44.2655, -43.9089,-43.552,-43.2071,-42.8595, -42.5119,-42.1634,-41.8144,-41.4651, -41.1156,-40.7663,-40.4144,-40.064, -39.7139,-39.3625,-39.0109,-38.684, -38.3884,-38.0934,-37.6498,-37.2062, -36.9102,-36.6138,-36.1696,-35.8717, -35.575,-35.1293,-34.6834,-34.3859, -34.0842,-33.7962,-33.3671,-32.9359, -32.6476,-32.3591,-32.0714,-31.6526, -31.2337,-30.9544,-30.739,-30.744, -30.7468,-30.7527,-31.0345,-31.3107, -31.5909,-31.8704,-32.1509,-32.4401, -32.7291,-33.018,-33.3067,-33.7397, -34.0283,-34.4724,-34.7703,-35.0685, -35.3653,-35.6632,-36.1101,-36.4097, -36.8537,-37.1502,-37.5949,-38.041, -38.4836,-38.7794,-39.2965,-39.6487, -40.0007,-40.3524,-40.7039,-41.0526, -41.4057,-41.7562,-42.1062,-42.4557, -42.8051,-43.1539,-43.5019,-43.8522, -44.2116,-44.5686,-44.9325,-45.2987, -45.8502,-46.2234,-46.5972,-46.856)
FOOTPRINT_POINT_LONGITUDE = (239.212,238.741,238.189,237.862, 237.515,237.199,237.238,237.276,237.33, 237.365,237.398,237.446,237.478,237.509 ,237.536,237.564,237.591,237.618, 237.644,237.67,237.695,237.718,237.743, 237.766,237.788,237.81,237.832,237.851, 237.869,237.885,237.91,237.934,237.949, 237.965,237.986,238.002,238.016,238.036 ,238.056,238.069,238.084,238.096, 238.111,238.127,238.137,238.148,238.158 ,238.173,238.187,238.196,238.31,238.741 ,239.017,239.489,239.49,239.488,239.488 ,239.488,239.488,239.487,239.487, 239.487,239.487,239.486,239.486,239.485 ,239.485,239.485,239.484,239.484, 239.483,239.484,239.483,239.482,239.481 ,239.481,239.479,239.478,239.477, 239.476,239.475,239.474,239.473,239.47, 239.47,239.469,239.467,239.465,239.464, 239.462,239.46,239.456,239.455,239.453, 239.451,239.45,239.446,239.443,239.441, 239.212)
ORBIT_NUMBER = 4190
ORBITAL_ECCENTRICITY = 0.572
ORBITAL_INCLINATION = 86.69
ORBITAL_SEMIMAJOR_AXIS = 8621.57
PERIAPSIS_ALTITUDE = 299.39
PERIAPSIS_ARGUMENT_ANGLE = 339.98
PERIAPSIS_TIME = 2007-04-10T22:33:34.000Z
SPACECRAFT_ORIENTATION = (0.0,1.0,0.0)
^MEX_ORIENTATION_DESC = "MEX_ORIENTATION_DESC.TXT"
SPACECRAFT_POINTING_MODE = NADIR
^MEX_POINTING_DESC = "MEX_POINTING_DESC.TXT"
RIGHT_ASCENSION = -1e+32
DECLINATION = -1e+32
OFFSET_ANGLE = -1e+32
SPACECRAFT_SOLAR_DISTANCE = 2.09779e+08
TARGET_NAME = MARS
/* CAMERA DATA ELEMENTS */
DETECTOR_TEMPERATURE = 17.9627
FOCAL_PLANE_TEMPERATURE = 8.9911
INST_CMPRS_NAME = "DISCRETE COSINE TRANSFORMATION (DCT)"
INST_CMPRS_RATIO = 11.846
INST_CMPRS_QUALITY = 0
INST_CMPRS_QUANTZ_TBL_ID = 0
INSTRUMENT_TEMPERATURE = 11.6418
LENS_TEMPERATURE = 9.195
MACROPIXEL_SIZE = 4
MISSING_FRAMES = 0
PIXEL_SUBSAMPLING_FLAG = N
SIGNAL_CHAIN_ID = 3
/* RADIOMETRIC DATA ELEMENTS */
BANDWIDTH = 174.0
CENTER_FILTER_WAVELENGTH = 675.0
RADIANCE_OFFSET = 3.37125
RADIANCE_SCALING_FACTOR = 0.0189966
REFLECTANCE_SCALING_FACTOR = 0.000449662
MEX:REFLECTANCE_OFFSET = 0.0797998
/* IMAGE OBJECT DEFINITIONS */
OBJECT = IMAGE
  INTERCHANGE_FORMAT = BINARY
  LINES = 19154
  LINE_SAMPLES = 2066
  SAMPLE_TYPE = UNSIGNED_INTEGER
  SAMPLE_BITS = 8
  BANDS = 1
  BAND_STORAGE_TYPE = BAND_SEQUENTIAL
  MAXIMUM = 255
  MEAN = 99.0935
  MINIMUM = 1
  STANDARD_DEVIATION = 29.0434
END_OBJECT = IMAGE
/* MAP OBJECT DEFINITIONS */
OBJECT = IMAGE_MAP_PROJECTION
  ^DATA_SET_MAP_PROJECTION_CATALOG= "DSMAP.CAT"
  A_AXIS_RADIUS = 3396.0
  B_AXIS_RADIUS = 3396.0
  C_AXIS_RADIUS = 3396.0
  CENTER_LATITUDE = 0.0
  CENTER_LONGITUDE = 239.0
  COORDINATE_SYSTEM_NAME = PLANETOGRAPHIC
  COORDINATE_SYSTEM_TYPE = "BODY-FIXED ROTATING"
  EASTERNMOST_LONGITUDE = 239.49
  FIRST_STANDARD_PARALLEL = "N/A"
  LINE_FIRST_PIXEL = 1
  LINE_LAST_PIXEL = 19154
  LINE_PROJECTION_OFFSET = -36447.625
  MAP_PROJECTION_ROTATION = 0.0
  MAP_PROJECTION_TYPE = SINUSOIDAL
  MAP_RESOLUTION = 1185.42760773333
  MAP_SCALE = 0.05
  MAXIMUM_LATITUDE = -30.739
  MINIMUM_LATITUDE = -46.856
  POSITIVE_LONGITUDE_DIRECTION = EAST
  REFERENCE_LATITUDE = "N/A"
  REFERENCE_LONGITUDE = "N/A"
  SAMPLE_FIRST_PIXEL = 1
  SAMPLE_LAST_PIXEL = 2066
  SAMPLE_PROJECTION_OFFSET = 1513.125
  SECOND_STANDARD_PARALLEL = "N/A"
  WESTERNMOST_LONGITUDE = 237.199
END_OBJECT = IMAGE_MAP_PROJECTION
/* The JPEG2000 image data file associated with this label. */
OBJECT = COMPRESSED_FILE
  FILE_NAME = "H4190_0000_P13.JP2"
  RECORD_TYPE = UNDEFINED
  FILE_RECORDS = UNK
  ENCODING_TYPE = "JP2"
  INTERCHANGE_FORMAT = BINARY
  UNCOMPRESSED_FILE_NAME = "H4190_0000_P13.IMG"
  REQUIRED_STORAGE_BYTES = "39592824"
  ^DESCRIPTION = "JP2INFO.TXT"
END_OBJECT = COMPRESSED_FILE
END
