PDS_VERSION_ID = PDS3
/* FILE DATA ELEMENTS */
RECORD_TYPE = STREAM
/* POINTERS TO DATA OBJECTS */
^COMPRESSED_FILE = "H4191_0000_BL3.JP2"
/* IDENTIFICATION DATA ELEMENTS */
DATA_SET_ID = "MEX-M-HRSC-5-REFDR-MAPPROJECTED-V3.0"
DATA_SET_NAME = "MARS EXPRESS HRSC MAP PROJECTED REFDR V3.0"
DETECTOR_ID = MEX_HRSC_BLUE
EVENT_TYPE = "MARS-REGIONAL-MAPPING-Te-Fl-Mw"
INSTRUMENT_HOST_ID = MEX
INSTRUMENT_HOST_NAME = "MARS EXPRESS"
INSTRUMENT_ID = HRSC
INSTRUMENT_NAME = "HIGH RESOLUTION STEREO CAMERA"
MISSION_NAME = "MARS EXPRESS"
MISSION_PHASE_NAME = ME_Phase_7
PROCESSING_LEVEL_ID = 3
PRODUCT_CREATION_TIME = 2016-04-20T19:30:25.000Z
PRODUCT_ID = "H4191_0000_BL3.JP2"
RELEASE_ID = 0047
REVISION_ID = 0000
/* QUALITY DATA ELEMENTS */
DATA_QUALITY_ID = 2
DATA_QUALITY_DESC = "Data calculated based on photogrammetrically improved orbit and attitude data"
/* TIME DATA ELEMENTS */
SPACECRAFT_CLOCK_START_COUNT = "1/0124348646.09083"
SPACECRAFT_CLOCK_STOP_COUNT = "1/0124348887.14354"
START_TIME = 2007-04-11T05:17:58.065Z
STOP_TIME = 2007-04-11T05:20:51.187Z
/* ORBITAL DATA ELEMENTS */
ASCENDING_NODE_LONGITUDE = 140.5
MAXIMUM_RESOLUTION = 102.7
FOOTPRINT_POINT_LATITUDE = (-13.6254,-13.6258,-13.6256,-13.6252, -13.6246,-13.5185,-13.3091,-13.0973, -12.8872,-12.5609,-12.3426,-12.0153, -11.7973,-11.5754,-11.3521,-11.133, -10.9145,-10.6963,-10.369,-10.1512, -9.93423,-9.72242,-9.50339,-9.17532, -8.95183,-8.72531,-8.386,-8.16025, -7.82124,-7.48248,-7.14436,-6.8068, -6.58224,-6.23605,-6.00456,-5.65611, -5.4244,-5.07569,-4.83777,-4.61054, -4.27191,-3.92211,-3.68881,-3.45768, -3.11354,-2.88197,-2.65155,-2.30718, -2.26719,-2.26688,-2.26943,-2.27309, -2.26756,-2.26644,-2.26555,-2.4982, -2.72331,-3.07304,-3.41914,-3.6492, -3.99623,-4.22856,-4.44711,-4.67827, -4.90962,-5.14529,-5.49094,-5.71956, -5.95184,-6.18643,-6.41064,-6.64333, -6.87552,-7.10113,-7.43878,-7.66447, -7.89105,-8.11713,-8.45571,-8.79457, -9.0209,-9.24129,-9.45947,-9.78468, -10.1177,-10.4462,-10.6649,-10.9927, -11.2119,-11.4299,-11.6491,-11.8702, -12.0892,-12.4178,-12.6359,-12.8528, -13.0638,-13.2747,-13.4861,-13.6254)
FOOTPRINT_POINT_LONGITUDE = (141.059,140.855,140.567,140.417, 140.267,140.102,140.102,140.101,140.101 ,140.1,140.1,140.099,140.098,140.096, 140.094,140.093,140.092,140.091,140.089 ,140.088,140.087,140.087,140.086, 140.083,140.081,140.079,140.075,140.073 ,140.07,140.066,140.062,140.058,140.056 ,140.052,140.049,140.045,140.042, 140.037,140.032,140.03,140.028,140.021, 140.017,140.013,140.008,140.004,140.0, 139.995,140.209,140.353,140.522,140.75, 140.894,141.086,141.275,141.273,141.273 ,141.27,141.268,141.267,141.265,141.263 ,141.266,141.265,141.264,141.262, 141.261,141.261,141.26,141.259,141.26, 141.258,141.255,141.254,141.253,141.252 ,141.251,141.25,141.249,141.248,141.247 ,141.246,141.246,141.246,141.244, 141.243,141.243,141.242,141.242,141.242 ,141.241,141.24,141.24,141.24,141.24, 141.24,141.24,141.24,141.24,141.059)
ORBIT_NUMBER = 4191
ORBITAL_ECCENTRICITY = 0.571
ORBITAL_INCLINATION = 86.67
ORBITAL_SEMIMAJOR_AXIS = 8613.94
PERIAPSIS_ALTITUDE = 300.15
PERIAPSIS_ARGUMENT_ANGLE = 339.85
PERIAPSIS_TIME = 2007-04-11T05:16:47.000Z
SPACECRAFT_ORIENTATION = (0.0,1.0,0.0)
^MEX_ORIENTATION_DESC = "MEX_ORIENTATION_DESC.TXT"
SPACECRAFT_POINTING_MODE = ALONGTRACK
^MEX_POINTING_DESC = "MEX_POINTING_DESC.TXT"
RIGHT_ASCENSION = -1e+32
DECLINATION = -1e+32
OFFSET_ANGLE = 1.4
SPACECRAFT_SOLAR_DISTANCE = 2.09748e+08
TARGET_NAME = MARS
/* CAMERA DATA ELEMENTS */
DETECTOR_TEMPERATURE = 18.1666
FOCAL_PLANE_TEMPERATURE = 9.195
INST_CMPRS_NAME = "DISCRETE COSINE TRANSFORMATION (DCT)"
INST_CMPRS_RATIO = 13.7482
INST_CMPRS_QUALITY = 0
INST_CMPRS_QUANTZ_TBL_ID = 0
INSTRUMENT_TEMPERATURE = 11.234
LENS_TEMPERATURE = 9.3989
MACROPIXEL_SIZE = 8
MISSING_FRAMES = 0
PIXEL_SUBSAMPLING_FLAG = N
SIGNAL_CHAIN_ID = 2
/* RADIOMETRIC DATA ELEMENTS */
BANDWIDTH = 76.0
CENTER_FILTER_WAVELENGTH = 444.0
RADIANCE_OFFSET = 0.622691
RADIANCE_SCALING_FACTOR = 0.00152292
REFLECTANCE_SCALING_FACTOR = 6.8838e-05
MEX:REFLECTANCE_OFFSET = 0.0281465
/* IMAGE OBJECT DEFINITIONS */
OBJECT = IMAGE
  INTERCHANGE_FORMAT = BINARY
  LINES = 6727
  LINE_SAMPLES = 789
  SAMPLE_TYPE = UNSIGNED_INTEGER
  SAMPLE_BITS = 8
  BANDS = 1
  BAND_STORAGE_TYPE = BAND_SEQUENTIAL
  MAXIMUM = 255
  MEAN = 150.741
  MINIMUM = 2
  STANDARD_DEVIATION = 22.8853
END_OBJECT = IMAGE
/* MAP OBJECT DEFINITIONS */
OBJECT = IMAGE_MAP_PROJECTION
  ^DATA_SET_MAP_PROJECTION_CATALOG= "DSMAP.CAT"
  A_AXIS_RADIUS = 3396.0
  B_AXIS_RADIUS = 3396.0
  C_AXIS_RADIUS = 3396.0
  CENTER_LATITUDE = 0.0
  CENTER_LONGITUDE = 141.0
  COORDINATE_SYSTEM_NAME = PLANETOGRAPHIC
  COORDINATE_SYSTEM_TYPE = "BODY-FIXED ROTATING"
  EASTERNMOST_LONGITUDE = 141.275
  FIRST_STANDARD_PARALLEL = "N/A"
  LINE_FIRST_PIXEL = 1
  LINE_LAST_PIXEL = 6727
  LINE_PROJECTION_OFFSET = -1351.3125
  MAP_PROJECTION_ROTATION = 0.0
  MAP_PROJECTION_TYPE = SINUSOIDAL
  MAP_RESOLUTION = 592.713803866667
  MAP_SCALE = 0.1
  MAXIMUM_LATITUDE = -2.26555
  MINIMUM_LATITUDE = -13.6258
  POSITIVE_LONGITUDE_DIRECTION = EAST
  REFERENCE_LATITUDE = "N/A"
  REFERENCE_LONGITUDE = "N/A"
  SAMPLE_FIRST_PIXEL = 1
  SAMPLE_LAST_PIXEL = 789
  SAMPLE_PROJECTION_OFFSET = 613.4375
  SECOND_STANDARD_PARALLEL = "N/A"
  WESTERNMOST_LONGITUDE = 139.995
END_OBJECT = IMAGE_MAP_PROJECTION
/* The JPEG2000 image data file associated with this label. */
OBJECT = COMPRESSED_FILE
  FILE_NAME = "H4191_0000_BL3.JP2"
  RECORD_TYPE = UNDEFINED
  FILE_RECORDS = UNK
  ENCODING_TYPE = "JP2"
  INTERCHANGE_FORMAT = BINARY
  UNCOMPRESSED_FILE_NAME = "H4191_0000_BL3.IMG"
  REQUIRED_STORAGE_BYTES = "5326539"
  ^DESCRIPTION = "JP2INFO.TXT"
END_OBJECT = COMPRESSED_FILE
END
