PDS_VERSION_ID = PDS3
/* FILE DATA ELEMENTS */
RECORD_TYPE = STREAM
/* POINTERS TO DATA OBJECTS */
^COMPRESSED_FILE = "H4191_0001_RE3.JP2"
/* IDENTIFICATION DATA ELEMENTS */
DATA_SET_ID = "MEX-M-HRSC-5-REFDR-MAPPROJECTED-V3.0"
DATA_SET_NAME = "MARS EXPRESS HRSC MAP PROJECTED REFDR V3.0"
DETECTOR_ID = MEX_HRSC_RED
EVENT_TYPE = "MARS-REGIONAL-MAPPING-Vo-Fl-Sh"
INSTRUMENT_HOST_ID = MEX
INSTRUMENT_HOST_NAME = "MARS EXPRESS"
INSTRUMENT_ID = HRSC
INSTRUMENT_NAME = "HIGH RESOLUTION STEREO CAMERA"
MISSION_NAME = "MARS EXPRESS"
MISSION_PHASE_NAME = ME_Phase_7
PROCESSING_LEVEL_ID = 3
PRODUCT_CREATION_TIME = 2016-04-20T19:30:25.000Z
PRODUCT_ID = "H4191_0001_RE3.JP2"
RELEASE_ID = 0047
REVISION_ID = 0000
/* QUALITY DATA ELEMENTS */
DATA_QUALITY_ID = 1
DATA_QUALITY_DESC = "Data calculated based on original SPICE kernels"
/* TIME DATA ELEMENTS */
SPACECRAFT_CLOCK_START_COUNT = "1/0124349269.07275"
SPACECRAFT_CLOCK_STOP_COUNT = "1/0124349819.28268"
START_TIME = 2007-04-11T05:28:06.482Z
STOP_TIME = 2007-04-11T05:32:08.416Z
/* ORBITAL DATA ELEMENTS */
ASCENDING_NODE_LONGITUDE = 140.5
MAXIMUM_RESOLUTION = 121.2
FOOTPRINT_POINT_LATITUDE = (26.9274,26.9245,26.9225,26.9194, 26.9151,26.9541,27.3115,27.6737,28.1572 ,28.772,29.269,29.7734,30.1553,30.6684, 30.927,31.1879,31.4488,31.7108,31.9746, 32.3735,32.7765,33.0467,33.3192,33.5927 ,33.8682,34.1457,34.4244,34.7048, 34.9876,35.2717,35.5572,35.845,36.1346, 36.4259,36.7192,37.015,37.3124,37.6117, 37.913,38.2158,38.5211,38.829,39.1386, 39.45,39.7636,40.0794,40.3972,40.7181, 40.7442,40.7463,40.748,40.7494,40.7507, 40.751,40.7511,40.7494,40.7481,40.7446, 40.5794,40.2608,39.9447,39.631,39.319, 39.0093,38.7014,38.3957,38.0915,37.7895 ,37.4903,37.1931,36.8964,36.6016, 36.3094,36.0198,35.7316,35.4447,35.1596 ,34.877,34.4553,34.0377,33.7607,33.4862 ,33.2134,32.806,32.5363,32.2672,32.0005 ,31.6014,31.3369,31.0755,30.684,30.1702 ,29.7876,29.2849,28.7884,28.2954, 27.9301,27.4491,27.0902,26.9274)
FOOTPRINT_POINT_LONGITUDE = (141.42,140.999,140.709,140.235,139.523 ,138.976,138.956,138.934,138.907,138.87 ,138.841,138.81,138.786,138.754,138.738 ,138.721,138.704,138.688,138.671, 138.645,138.618,138.6,138.582,138.564, 138.545,138.526,138.506,138.487,138.467 ,138.446,138.426,138.405,138.384, 138.362,138.34,138.317,138.295,138.271, 138.248,138.224,138.2,138.175,138.149, 138.124,138.098,138.071,138.044,138.016 ,138.365,138.718,139.071,139.423, 139.906,140.258,140.61,141.138,141.754, 142.415,142.723,142.693,142.663,142.634 ,142.606,142.579,142.552,142.526, 142.501,142.476,142.452,142.429,142.406 ,142.383,142.361,142.34,142.319,142.299 ,142.279,142.26,142.232,142.204,142.186 ,142.169,142.152,142.127,142.111, 142.095,142.079,142.055,142.04,142.026, 142.004,141.976,141.956,141.931,141.907 ,141.883,141.867,141.845,141.83,141.42)
ORBIT_NUMBER = 4191
ORBITAL_ECCENTRICITY = 0.571
ORBITAL_INCLINATION = 86.67
ORBITAL_SEMIMAJOR_AXIS = 8613.94
PERIAPSIS_ALTITUDE = 300.15
PERIAPSIS_ARGUMENT_ANGLE = 339.85
PERIAPSIS_TIME = 2007-04-11T05:16:47.000Z
SPACECRAFT_ORIENTATION = (0.0,1.0,0.0)
^MEX_ORIENTATION_DESC = "MEX_ORIENTATION_DESC.TXT"
SPACECRAFT_POINTING_MODE = ALONGTRACK
^MEX_POINTING_DESC = "MEX_POINTING_DESC.TXT"
RIGHT_ASCENSION = -1e+32
DECLINATION = -1e+32
OFFSET_ANGLE = 1.4
SPACECRAFT_SOLAR_DISTANCE = 2.09748e+08
TARGET_NAME = MARS
/* CAMERA DATA ELEMENTS */
DETECTOR_TEMPERATURE = 21.2251
FOCAL_PLANE_TEMPERATURE = 9.195
INST_CMPRS_NAME = "DISCRETE COSINE TRANSFORMATION (DCT)"
INST_CMPRS_RATIO = 16.3315
INST_CMPRS_QUALITY = 0
INST_CMPRS_QUANTZ_TBL_ID = 0
INSTRUMENT_TEMPERATURE = 13.6808
LENS_TEMPERATURE = 9.8067
MACROPIXEL_SIZE = 4
MISSING_FRAMES = 0
PIXEL_SUBSAMPLING_FLAG = N
SIGNAL_CHAIN_ID = 2
/* RADIOMETRIC DATA ELEMENTS */
BANDWIDTH = 48.0
CENTER_FILTER_WAVELENGTH = 748.0
RADIANCE_OFFSET = 0.485976
RADIANCE_SCALING_FACTOR = 0.00559826
REFLECTANCE_SCALING_FACTOR = 0.000562045
MEX:REFLECTANCE_OFFSET = 0.0487903
/* IMAGE OBJECT DEFINITIONS */
OBJECT = IMAGE
  INTERCHANGE_FORMAT = BINARY
  LINES = 8162
  LINE_SAMPLES = 2333
  SAMPLE_TYPE = UNSIGNED_INTEGER
  SAMPLE_BITS = 8
  BANDS = 1
  BAND_STORAGE_TYPE = BAND_SEQUENTIAL
  MAXIMUM = 255
  MEAN = 68.7261
  MINIMUM = 1
  STANDARD_DEVIATION = 36.2567
END_OBJECT = IMAGE
/* MAP OBJECT DEFINITIONS */
OBJECT = IMAGE_MAP_PROJECTION
  ^DATA_SET_MAP_PROJECTION_CATALOG= "DSMAP.CAT"
  A_AXIS_RADIUS = 3396.0
  B_AXIS_RADIUS = 3396.0
  C_AXIS_RADIUS = 3396.0
  CENTER_LATITUDE = 0.0
  CENTER_LONGITUDE = 140.0
  COORDINATE_SYSTEM_NAME = PLANETOGRAPHIC
  COORDINATE_SYSTEM_TYPE = "BODY-FIXED ROTATING"
  EASTERNMOST_LONGITUDE = 142.723
  FIRST_STANDARD_PARALLEL = "N/A"
  LINE_FIRST_PIXEL = 1
  LINE_LAST_PIXEL = 8162
  LINE_PROJECTION_OFFSET = 24120.625
  MAP_PROJECTION_ROTATION = 0.0
  MAP_PROJECTION_TYPE = SINUSOIDAL
  MAP_RESOLUTION = 592.713803866667
  MAP_SCALE = 0.1
  MAXIMUM_LATITUDE = 40.7511
  MINIMUM_LATITUDE = 26.9151
  POSITIVE_LONGITUDE_DIRECTION = EAST
  REFERENCE_LATITUDE = "N/A"
  REFERENCE_LONGITUDE = "N/A"
  SAMPLE_FIRST_PIXEL = 1
  SAMPLE_LAST_PIXEL = 2333
  SAMPLE_PROJECTION_OFFSET = 986.375
  SECOND_STANDARD_PARALLEL = "N/A"
  WESTERNMOST_LONGITUDE = 138.016
END_OBJECT = IMAGE_MAP_PROJECTION
/* The JPEG2000 image data file associated with this label. */
OBJECT = COMPRESSED_FILE
  FILE_NAME = "H4191_0001_RE3.JP2"
  RECORD_TYPE = UNDEFINED
  FILE_RECORDS = UNK
  ENCODING_TYPE = "JP2"
  INTERCHANGE_FORMAT = BINARY
  UNCOMPRESSED_FILE_NAME = "H4191_0001_RE3.IMG"
  REQUIRED_STORAGE_BYTES = "19060610"
  ^DESCRIPTION = "JP2INFO.TXT"
END_OBJECT = COMPRESSED_FILE
END
