PDS_VERSION_ID = PDS3
/* FILE DATA ELEMENTS */
RECORD_TYPE = STREAM
/* POINTERS TO DATA OBJECTS */
^COMPRESSED_FILE = "H4198_0000_ND3.JP2"
/* IDENTIFICATION DATA ELEMENTS */
DATA_SET_ID = "MEX-M-HRSC-5-REFDR-MAPPROJECTED-V3.0"
DATA_SET_NAME = "MARS EXPRESS HRSC MAP PROJECTED REFDR V3.0"
DETECTOR_ID = MEX_HRSC_NADIR
EVENT_TYPE = "MARS-REGIONAL-MAPPING-Te-Fl-Mw"
INSTRUMENT_HOST_ID = MEX
INSTRUMENT_HOST_NAME = "MARS EXPRESS"
INSTRUMENT_ID = HRSC
INSTRUMENT_NAME = "HIGH RESOLUTION STEREO CAMERA"
MISSION_NAME = "MARS EXPRESS"
MISSION_PHASE_NAME = ME_Phase_7
PROCESSING_LEVEL_ID = 3
PRODUCT_CREATION_TIME = 2016-04-20T19:30:25.000Z
PRODUCT_ID = "H4198_0000_ND3.JP2"
RELEASE_ID = 0047
REVISION_ID = 0000
/* QUALITY DATA ELEMENTS */
DATA_QUALITY_ID = 1
DATA_QUALITY_DESC = "Data calculated based on original SPICE kernels"
/* TIME DATA ELEMENTS */
SPACECRAFT_CLOCK_START_COUNT = "1/0124517494.56677"
SPACECRAFT_CLOCK_STOP_COUNT = "1/0124517826.43569"
START_TIME = 2007-04-13T04:12:24.269Z
STOP_TIME = 2007-04-13T04:15:47.072Z
/* ORBITAL DATA ELEMENTS */
ASCENDING_NODE_LONGITUDE = 140.35
MAXIMUM_RESOLUTION = 13.3
FOOTPRINT_POINT_LATITUDE = (-46.1051,-46.0951,-46.0869,-46.0722, -45.7728,-45.4846,-45.0537,-44.7715, -44.4888,-44.067,-43.7902,-43.5132, -43.0995,-42.8289,-42.5579,-42.2868, -42.015,-41.7429,-41.4705,-41.1977, -40.9245,-40.651,-40.3771,-40.1029, -39.8284,-39.5535,-39.2783,-39.0028, -38.7269,-38.4676,-38.0042,-37.7722, -37.54,-37.3075,-37.0749,-36.842, -36.6089,-36.3756,-36.1422,-35.9085, -35.6746,-35.4406,-35.2064,-34.972, -34.7375,-34.5027,-34.2678,-33.9155, -33.4599,-33.2201,-33.2252,-33.2306, -33.4617,-33.9181,-34.2705,-34.5059, -34.741,-34.976,-35.2108,-35.4455, -35.68,-35.9143,-36.1484,-36.3823, -36.6161,-36.8496,-37.083,-37.3162, -37.5491,-37.7819,-38.0145,-38.479, -38.736,-39.0126,-39.2888,-39.5647, -39.8403,-40.1156,-40.3906,-40.6652, -40.9395,-41.2135,-41.4871,-41.7604, -42.0334,-42.306,-42.5783,-42.8502, -43.1218,-43.3973,-43.6754,-43.9532, -44.2305,-44.5147,-44.7986,-45.0819, -45.3693,-45.659,-45.9483,-46.1051)
FOOTPRINT_POINT_LONGITUDE = (173.057,172.57,172.232,171.705,171.413 ,171.441,171.481,171.506,171.531, 171.566,171.586,171.607,171.64,171.661, 171.681,171.703,171.723,171.742,171.762 ,171.78,171.798,171.816,171.834,171.851 ,171.868,171.884,171.901,171.916, 171.932,171.946,171.971,171.984,171.996 ,172.008,172.02,172.031,172.041,172.052 ,172.063,172.073,172.083,172.093, 172.103,172.113,172.123,172.132,172.142 ,172.156,172.173,172.4,172.754,173.248, 173.572,173.573,173.575,173.575,173.576 ,173.576,173.577,173.577,173.577, 173.578,173.577,173.578,173.578,173.578 ,173.578,173.578,173.578,173.578, 173.578,173.578,173.578,173.577,173.577 ,173.578,173.578,173.578,173.578, 173.578,173.578,173.578,173.579,173.579 ,173.577,173.577,173.577,173.577, 173.576,173.575,173.576,173.574,173.574 ,173.574,173.573,173.573,173.573, 173.573,173.572,173.057)
ORBIT_NUMBER = 4198
ORBITAL_ECCENTRICITY = 0.571
ORBITAL_INCLINATION = 86.69
ORBITAL_SEMIMAJOR_AXIS = 8608.19
PERIAPSIS_ALTITUDE = 299.64
PERIAPSIS_ARGUMENT_ANGLE = 338.61
PERIAPSIS_TIME = 2007-04-13T04:18:48.000Z
SPACECRAFT_ORIENTATION = (0.0,1.0,0.0)
^MEX_ORIENTATION_DESC = "MEX_ORIENTATION_DESC.TXT"
SPACECRAFT_POINTING_MODE = ACROSSTRACK
^MEX_POINTING_DESC = "MEX_POINTING_DESC.TXT"
RIGHT_ASCENSION = -1e+32
DECLINATION = -1e+32
OFFSET_ANGLE = -0.2
SPACECRAFT_SOLAR_DISTANCE = 2.09536e+08
TARGET_NAME = MARS
/* CAMERA DATA ELEMENTS */
DETECTOR_TEMPERATURE = 0.0
FOCAL_PLANE_TEMPERATURE = 0.0
INST_CMPRS_NAME = "DISCRETE COSINE TRANSFORMATION (DCT)"
INST_CMPRS_RATIO = 6.43254
INST_CMPRS_QUALITY = 0
INST_CMPRS_QUANTZ_TBL_ID = 0
INSTRUMENT_TEMPERATURE = 0.0
LENS_TEMPERATURE = 0.0
MACROPIXEL_SIZE = 1
MISSING_FRAMES = 0
PIXEL_SUBSAMPLING_FLAG = N
SIGNAL_CHAIN_ID = 0
/* RADIOMETRIC DATA ELEMENTS */
BANDWIDTH = 177.0
CENTER_FILTER_WAVELENGTH = 677.5
RADIANCE_OFFSET = 3.80846
RADIANCE_SCALING_FACTOR = 0.016524
REFLECTANCE_SCALING_FACTOR = 0.000385408
MEX:REFLECTANCE_OFFSET = 0.0888291
/* IMAGE OBJECT DEFINITIONS */
OBJECT = IMAGE
  INTERCHANGE_FORMAT = BINARY
  LINES = 61147
  LINE_SAMPLES = 7835
  SAMPLE_TYPE = UNSIGNED_INTEGER
  SAMPLE_BITS = 8
  BANDS = 1
  BAND_STORAGE_TYPE = BAND_SEQUENTIAL
  MAXIMUM = 255
  MEAN = 91.9643
  MINIMUM = 1
  STANDARD_DEVIATION = 27.1271
END_OBJECT = IMAGE
/* MAP OBJECT DEFINITIONS */
OBJECT = IMAGE_MAP_PROJECTION
  ^DATA_SET_MAP_PROJECTION_CATALOG= "DSMAP.CAT"
  A_AXIS_RADIUS = 3396.0
  B_AXIS_RADIUS = 3396.0
  C_AXIS_RADIUS = 3396.0
  CENTER_LATITUDE = 0.0
  CENTER_LONGITUDE = 173.0
  COORDINATE_SYSTEM_NAME = PLANETOGRAPHIC
  COORDINATE_SYSTEM_TYPE = "BODY-FIXED ROTATING"
  EASTERNMOST_LONGITUDE = 173.579
  FIRST_STANDARD_PARALLEL = "N/A"
  LINE_FIRST_PIXEL = 1
  LINE_LAST_PIXEL = 61147
  LINE_PROJECTION_OFFSET = -157509.0
  MAP_PROJECTION_ROTATION = 0.0
  MAP_PROJECTION_TYPE = SINUSOIDAL
  MAP_RESOLUTION = 4741.71043093333
  MAP_SCALE = 0.0125
  MAXIMUM_LATITUDE = -33.2201
  MINIMUM_LATITUDE = -46.1051
  POSITIVE_LONGITUDE_DIRECTION = EAST
  REFERENCE_LATITUDE = "N/A"
  REFERENCE_LONGITUDE = "N/A"
  SAMPLE_FIRST_PIXEL = 1
  SAMPLE_LAST_PIXEL = 7835
  SAMPLE_PROJECTION_OFFSET = 5388.0
  SECOND_STANDARD_PARALLEL = "N/A"
  WESTERNMOST_LONGITUDE = 171.413
END_OBJECT = IMAGE_MAP_PROJECTION
/* The JPEG2000 image data file associated with this label. */
OBJECT = COMPRESSED_FILE
  FILE_NAME = "H4198_0000_ND3.JP2"
  RECORD_TYPE = UNDEFINED
  FILE_RECORDS = UNK
  ENCODING_TYPE = "JP2"
  INTERCHANGE_FORMAT = BINARY
  UNCOMPRESSED_FILE_NAME = "H4198_0000_ND3.IMG"
  REQUIRED_STORAGE_BYTES = "479118085"
  ^DESCRIPTION = "JP2INFO.TXT"
END_OBJECT = COMPRESSED_FILE
END
