PDS_VERSION_ID = PDS3
/* FILE DATA ELEMENTS */
RECORD_TYPE = STREAM
/* POINTERS TO DATA OBJECTS */
^COMPRESSED_FILE = "H4198_0000_P23.JP2"
/* IDENTIFICATION DATA ELEMENTS */
DATA_SET_ID = "MEX-M-HRSC-5-REFDR-MAPPROJECTED-V3.0"
DATA_SET_NAME = "MARS EXPRESS HRSC MAP PROJECTED REFDR V3.0"
DETECTOR_ID = MEX_HRSC_P2
EVENT_TYPE = "MARS-REGIONAL-MAPPING-Te-Fl-Mw"
INSTRUMENT_HOST_ID = MEX
INSTRUMENT_HOST_NAME = "MARS EXPRESS"
INSTRUMENT_ID = HRSC
INSTRUMENT_NAME = "HIGH RESOLUTION STEREO CAMERA"
MISSION_NAME = "MARS EXPRESS"
MISSION_PHASE_NAME = ME_Phase_7
PROCESSING_LEVEL_ID = 3
PRODUCT_CREATION_TIME = 2016-04-20T19:30:25.000Z
PRODUCT_ID = "H4198_0000_P23.JP2"
RELEASE_ID = 0047
REVISION_ID = 0000
/* QUALITY DATA ELEMENTS */
DATA_QUALITY_ID = 1
DATA_QUALITY_DESC = "Data calculated based on original SPICE kernels"
/* TIME DATA ELEMENTS */
SPACECRAFT_CLOCK_START_COUNT = "1/0124517494.56677"
SPACECRAFT_CLOCK_STOP_COUNT = "1/0124517826.43569"
START_TIME = 2007-04-13T04:11:55.372Z
STOP_TIME = 2007-04-13T04:15:46.935Z
/* ORBITAL DATA ELEMENTS */
ASCENDING_NODE_LONGITUDE = 140.35
MAXIMUM_RESOLUTION = 27.3
FOOTPRINT_POINT_LATITUDE = (-46.1668,-46.1623,-46.1561,-46.1485, -46.1397,-46.1302,-45.7699,-45.4509, -45.1339,-44.8207,-44.5059,-44.0389, -43.7212,-43.4126,-43.11,-42.806, -42.5043,-42.211,-41.9129,-41.6154, -41.3238,-41.0317,-40.7379,-40.4448, -40.151,-39.856,-39.5605,-39.2646, -38.968,-38.522,-38.2243,-37.9263, -37.4775,-37.177,-36.7972,-36.543, -36.2906,-36.0373,-35.7836,-35.5294, -35.1477,-34.8932,-34.6383,-34.3837, -34.1279,-33.7452,-33.4897,-33.1049, -32.8482,-32.5927,-32.3433,-32.0941, -31.9613,-31.9636,-31.9647,-31.965, -32.3344,-32.7165,-32.9733,-33.2305, -33.6154,-33.8721,-34.2548,-34.5103, -34.7653,-35.0202,-35.4022,-35.7836, -36.0377,-36.2918,-36.5448,-36.7977, -37.0506,-37.479,-37.779,-38.0782, -38.5267,-38.9756,-39.2731,-39.5693, -39.8652,-40.3083,-40.6034,-40.8975, -41.3369,-41.6293,-41.931,-42.2293, -42.5279,-42.8311,-43.1371,-43.4417, -43.75,-44.0623,-44.3725,-44.688, -45.1617,-45.6423,-45.9633,-46.1668)
FOOTPRINT_POINT_LONGITUDE = (173.206,172.877,172.527,172.178,171.83 ,171.504,171.364,171.396,171.427, 171.456,171.485,171.526,171.549,171.574 ,171.6,171.624,171.648,171.672,171.695, 171.717,171.738,171.758,171.778,171.798 ,171.818,171.836,171.855,171.873, 171.891,171.917,171.934,171.951,171.975 ,171.99,172.01,172.022,172.034,172.046, 172.058,172.069,172.086,172.097,172.108 ,172.119,172.13,172.145,172.156,172.17, 172.18,172.189,172.198,172.207,172.475, 172.899,173.258,173.584,173.589,173.587 ,173.588,173.589,173.591,173.592, 173.594,173.596,173.597,173.598,173.599 ,173.6,173.601,173.601,173.602,173.603, 173.603,173.604,173.605,173.606,173.608 ,173.608,173.608,173.61,173.611,173.612 ,173.613,173.614,173.616,173.617, 173.616,173.618,173.619,173.619,173.62, 173.621,173.622,173.622,173.622,173.623 ,173.625,173.627,173.629,173.206)
ORBIT_NUMBER = 4198
ORBITAL_ECCENTRICITY = 0.571
ORBITAL_INCLINATION = 86.69
ORBITAL_SEMIMAJOR_AXIS = 8608.19
PERIAPSIS_ALTITUDE = 299.64
PERIAPSIS_ARGUMENT_ANGLE = 338.61
PERIAPSIS_TIME = 2007-04-13T04:18:48.000Z
SPACECRAFT_ORIENTATION = (0.0,1.0,0.0)
^MEX_ORIENTATION_DESC = "MEX_ORIENTATION_DESC.TXT"
SPACECRAFT_POINTING_MODE = ACROSSTRACK
^MEX_POINTING_DESC = "MEX_POINTING_DESC.TXT"
RIGHT_ASCENSION = -1e+32
DECLINATION = -1e+32
OFFSET_ANGLE = -0.2
SPACECRAFT_SOLAR_DISTANCE = 2.09536e+08
TARGET_NAME = MARS
/* CAMERA DATA ELEMENTS */
DETECTOR_TEMPERATURE = 0.0
FOCAL_PLANE_TEMPERATURE = 0.0
INST_CMPRS_NAME = "DISCRETE COSINE TRANSFORMATION (DCT)"
INST_CMPRS_RATIO = 6.8522
INST_CMPRS_QUALITY = 0
INST_CMPRS_QUANTZ_TBL_ID = 0
INSTRUMENT_TEMPERATURE = 0.0
LENS_TEMPERATURE = 0.0
MACROPIXEL_SIZE = 2
MISSING_FRAMES = 0
PIXEL_SUBSAMPLING_FLAG = N
SIGNAL_CHAIN_ID = 3
/* RADIOMETRIC DATA ELEMENTS */
BANDWIDTH = 177.0
CENTER_FILTER_WAVELENGTH = 676.5
RADIANCE_OFFSET = 3.99218
RADIANCE_SCALING_FACTOR = 0.0165765
REFLECTANCE_SCALING_FACTOR = 0.000385897
MEX:REFLECTANCE_OFFSET = 0.092937
/* IMAGE OBJECT DEFINITIONS */
OBJECT = IMAGE
  INTERCHANGE_FORMAT = BINARY
  LINES = 30574
  LINE_SAMPLES = 3918
  SAMPLE_TYPE = UNSIGNED_INTEGER
  SAMPLE_BITS = 8
  BANDS = 1
  BAND_STORAGE_TYPE = BAND_SEQUENTIAL
  MAXIMUM = 255
  MEAN = 102.544
  MINIMUM = 1
  STANDARD_DEVIATION = 24.8678
END_OBJECT = IMAGE
/* MAP OBJECT DEFINITIONS */
OBJECT = IMAGE_MAP_PROJECTION
  ^DATA_SET_MAP_PROJECTION_CATALOG= "DSMAP.CAT"
  A_AXIS_RADIUS = 3396.0
  B_AXIS_RADIUS = 3396.0
  C_AXIS_RADIUS = 3396.0
  CENTER_LATITUDE = 0.0
  CENTER_LONGITUDE = 173.0
  COORDINATE_SYSTEM_NAME = PLANETOGRAPHIC
  COORDINATE_SYSTEM_TYPE = "BODY-FIXED ROTATING"
  EASTERNMOST_LONGITUDE = 173.629
  FIRST_STANDARD_PARALLEL = "N/A"
  LINE_FIRST_PIXEL = 1
  LINE_LAST_PIXEL = 30574
  LINE_PROJECTION_OFFSET = -78754.75
  MAP_PROJECTION_ROTATION = 0.0
  MAP_PROJECTION_TYPE = SINUSOIDAL
  MAP_RESOLUTION = 2370.85521546667
  MAP_SCALE = 0.025
  MAXIMUM_LATITUDE = -31.9613
  MINIMUM_LATITUDE = -46.1668
  POSITIVE_LONGITUDE_DIRECTION = EAST
  REFERENCE_LATITUDE = "N/A"
  REFERENCE_LONGITUDE = "N/A"
  SAMPLE_FIRST_PIXEL = 1
  SAMPLE_LAST_PIXEL = 3918
  SAMPLE_PROJECTION_OFFSET = 2693.75
  SECOND_STANDARD_PARALLEL = "N/A"
  WESTERNMOST_LONGITUDE = 171.364
END_OBJECT = IMAGE_MAP_PROJECTION
/* The JPEG2000 image data file associated with this label. */
OBJECT = COMPRESSED_FILE
  FILE_NAME = "H4198_0000_P23.JP2"
  RECORD_TYPE = UNDEFINED
  FILE_RECORDS = UNK
  ENCODING_TYPE = "JP2"
  INTERCHANGE_FORMAT = BINARY
  UNCOMPRESSED_FILE_NAME = "H4198_0000_P23.IMG"
  REQUIRED_STORAGE_BYTES = "119812440"
  ^DESCRIPTION = "JP2INFO.TXT"
END_OBJECT = COMPRESSED_FILE
END
