PDS_VERSION_ID = PDS3
/* FILE DATA ELEMENTS */
RECORD_TYPE = STREAM
/* POINTERS TO DATA OBJECTS */
^COMPRESSED_FILE = "H4199_0000_RE3.JP2"
/* IDENTIFICATION DATA ELEMENTS */
DATA_SET_ID = "MEX-M-HRSC-5-REFDR-MAPPROJECTED-V3.0"
DATA_SET_NAME = "MARS EXPRESS HRSC MAP PROJECTED REFDR V3.0"
DETECTOR_ID = MEX_HRSC_RED
EVENT_TYPE = "MARS-REGIONAL-STEREO-Im-La-Ot"
INSTRUMENT_HOST_ID = MEX
INSTRUMENT_HOST_NAME = "MARS EXPRESS"
INSTRUMENT_ID = HRSC
INSTRUMENT_NAME = "HIGH RESOLUTION STEREO CAMERA"
MISSION_NAME = "MARS EXPRESS"
MISSION_PHASE_NAME = ME_Phase_7
PROCESSING_LEVEL_ID = 3
PRODUCT_CREATION_TIME = 2016-04-20T19:30:25.000Z
PRODUCT_ID = "H4199_0000_RE3.JP2"
RELEASE_ID = 0047
REVISION_ID = 0000
/* QUALITY DATA ELEMENTS */
DATA_QUALITY_ID = 2
DATA_QUALITY_DESC = "Data calculated based on photogrammetrically improved orbit and attitude data"
/* TIME DATA ELEMENTS */
SPACECRAFT_CLOCK_START_COUNT = "1/0124541955.08389"
SPACECRAFT_CLOCK_STOP_COUNT = "1/0124542153.24889"
START_TIME = 2007-04-13T10:59:24.574Z
STOP_TIME = 2007-04-13T11:01:47.254Z
/* ORBITAL DATA ELEMENTS */
ASCENDING_NODE_LONGITUDE = 140.34
MAXIMUM_RESOLUTION = 99.4
FOOTPRINT_POINT_LATITUDE = (-29.8089,-29.8027,-29.7984,-29.7937, -29.7314,-29.5429,-29.2605,-29.0707, -28.8804,-28.5948,-28.4107,-28.2263, -28.0418,-27.857,-27.5802,-27.3046, -27.1209,-26.9383,-26.7576,-26.5748, -26.3998,-26.2129,-25.9328,-25.7444, -25.4621,-25.2818,-25.1039,-24.9206, -24.6491,-24.4696,-24.2908,-24.1142, -23.9357,-23.7569,-23.5797,-23.396, -23.2103,-22.9388,-22.7581,-22.574, -22.3932,-22.2094,-22.0265,-21.8432, -21.6621,-21.4838,-21.3004,-21.1183, -20.9384,-20.7628,-20.4906,-20.4953, -20.5006,-20.5985,-20.7823,-20.9634, -21.146,-21.4187,-21.5998,-21.7824, -21.9636,-22.2385,-22.4235,-22.5995, -22.7763,-22.956,-23.1373,-23.3181, -23.5884,-23.8618,-24.1316,-24.3122, -24.491,-24.6701,-24.9423,-25.1257, -25.3105,-25.4964,-25.6839,-25.8602, -26.0422,-26.2269,-26.4133,-26.6932, -26.8707,-27.0496,-27.2355,-27.418, -27.6035,-27.8819,-28.0663,-28.2509, -28.4352,-28.6198,-28.8108,-29.098, -29.2872,-29.4792,-29.7651,-29.8089)
FOOTPRINT_POINT_LONGITUDE = (74.6201,74.2999,74.1097,73.9193, 73.6126,73.6193,73.6293,73.6353,73.641, 73.6492,73.6545,73.6596,73.6646,73.6695 ,73.677,73.685,73.6903,73.6961,73.7029, 73.7086,73.718,73.7216,73.7272,73.7302, 73.7346,73.7385,73.743,73.745,73.7495, 73.7532,73.7572,73.7622,73.7664,73.7703 ,73.775,73.7765,73.7771,73.7813,73.7842 ,73.7855,73.7883,73.7897,73.7914,73.793 ,73.7956,73.7994,73.8009,73.8029, 73.8059,73.8109,73.9382,74.1877,74.5708 ,74.9176,74.917,74.9172,74.9169,74.9168 ,74.9169,74.9166,74.9166,74.9158, 74.9147,74.9161,74.9173,74.9176,74.9175 ,74.9174,74.9176,74.9169,74.9171,74.917 ,74.9173,74.9176,74.9169,74.9159, 74.9144,74.9128,74.9124,74.9152,74.9163 ,74.9166,74.9164,74.9159,74.9182,74.92, 74.9198,74.9205,74.9203,74.9199,74.9199 ,74.9198,74.9198,74.9196,74.9193, 74.9188,74.919,74.9184,74.9179,74.6201)
ORBIT_NUMBER = 4199
ORBITAL_ECCENTRICITY = 0.571
ORBITAL_INCLINATION = 86.7
ORBITAL_SEMIMAJOR_AXIS = 8615.43
PERIAPSIS_ALTITUDE = 298.54
PERIAPSIS_ARGUMENT_ANGLE = 338.41
PERIAPSIS_TIME = 2007-04-13T11:01:54.000Z
SPACECRAFT_ORIENTATION = (0.0,1.0,0.0)
^MEX_ORIENTATION_DESC = "MEX_ORIENTATION_DESC.TXT"
SPACECRAFT_POINTING_MODE = ACROSSTRACK
^MEX_POINTING_DESC = "MEX_POINTING_DESC.TXT"
RIGHT_ASCENSION = -1e+32
DECLINATION = -1e+32
OFFSET_ANGLE = 0.15
SPACECRAFT_SOLAR_DISTANCE = 2.09507e+08
TARGET_NAME = MARS
/* CAMERA DATA ELEMENTS */
DETECTOR_TEMPERATURE = 18.5744
FOCAL_PLANE_TEMPERATURE = 9.3989
INST_CMPRS_NAME = "DISCRETE COSINE TRANSFORMATION (DCT)"
INST_CMPRS_RATIO = 13.9135
INST_CMPRS_QUALITY = 0
INST_CMPRS_QUANTZ_TBL_ID = 0
INSTRUMENT_TEMPERATURE = 11.6418
LENS_TEMPERATURE = 9.6028
MACROPIXEL_SIZE = 8
MISSING_FRAMES = 0
PIXEL_SUBSAMPLING_FLAG = N
SIGNAL_CHAIN_ID = 3
/* RADIOMETRIC DATA ELEMENTS */
BANDWIDTH = 48.0
CENTER_FILTER_WAVELENGTH = 748.0
RADIANCE_OFFSET = 1.24299
RADIANCE_SCALING_FACTOR = 0.00283399
REFLECTANCE_SCALING_FACTOR = 0.000283871
MEX:REFLECTANCE_OFFSET = 0.124506
/* IMAGE OBJECT DEFINITIONS */
OBJECT = IMAGE
  INTERCHANGE_FORMAT = BINARY
  LINES = 5519
  LINE_SAMPLES = 735
  SAMPLE_TYPE = UNSIGNED_INTEGER
  SAMPLE_BITS = 8
  BANDS = 1
  BAND_STORAGE_TYPE = BAND_SEQUENTIAL
  MAXIMUM = 255
  MEAN = 134.122
  MINIMUM = 1
  STANDARD_DEVIATION = 33.047
END_OBJECT = IMAGE
/* MAP OBJECT DEFINITIONS */
OBJECT = IMAGE_MAP_PROJECTION
  ^DATA_SET_MAP_PROJECTION_CATALOG= "DSMAP.CAT"
  A_AXIS_RADIUS = 3396.0
  B_AXIS_RADIUS = 3396.0
  C_AXIS_RADIUS = 3396.0
  CENTER_LATITUDE = 0.0
  CENTER_LONGITUDE = 74.0
  COORDINATE_SYSTEM_NAME = PLANETOGRAPHIC
  COORDINATE_SYSTEM_TYPE = "BODY-FIXED ROTATING"
  EASTERNMOST_LONGITUDE = 74.9205
  FIRST_STANDARD_PARALLEL = "N/A"
  LINE_FIRST_PIXEL = 1
  LINE_LAST_PIXEL = 5519
  LINE_PROJECTION_OFFSET = -12143.3125
  MAP_PROJECTION_ROTATION = 0.0
  MAP_PROJECTION_TYPE = SINUSOIDAL
  MAP_RESOLUTION = 592.713803866667
  MAP_SCALE = 0.1
  MAXIMUM_LATITUDE = -20.4906
  MINIMUM_LATITUDE = -29.8089
  POSITIVE_LONGITUDE_DIRECTION = EAST
  REFERENCE_LATITUDE = "N/A"
  REFERENCE_LONGITUDE = "N/A"
  SAMPLE_FIRST_PIXEL = 1
  SAMPLE_LAST_PIXEL = 735
  SAMPLE_PROJECTION_OFFSET = 209.3125
  SECOND_STANDARD_PARALLEL = "N/A"
  WESTERNMOST_LONGITUDE = 73.6126
END_OBJECT = IMAGE_MAP_PROJECTION
/* The JPEG2000 image data file associated with this label. */
OBJECT = COMPRESSED_FILE
  FILE_NAME = "H4199_0000_RE3.JP2"
  RECORD_TYPE = UNDEFINED
  FILE_RECORDS = UNK
  ENCODING_TYPE = "JP2"
  INTERCHANGE_FORMAT = BINARY
  UNCOMPRESSED_FILE_NAME = "H4199_0000_RE3.IMG"
  REQUIRED_STORAGE_BYTES = "4074105"
  ^DESCRIPTION = "JP2INFO.TXT"
END_OBJECT = COMPRESSED_FILE
END
