PDS_VERSION_ID = PDS3
/* FILE DATA ELEMENTS */
RECORD_TYPE = STREAM
/* POINTERS TO DATA OBJECTS */
^COMPRESSED_FILE = "H4199_0001_SR3.JP2"
/* IDENTIFICATION DATA ELEMENTS */
DATA_SET_ID = "MEX-M-HRSC-5-REFDR-MAPPROJECTED-V3.0"
DATA_SET_NAME = "MARS EXPRESS HRSC MAP PROJECTED REFDR V3.0"
DETECTOR_ID = MEX_HRSC_SRC
EVENT_TYPE = "MARS-REGIONAL-STEREO-Im-La-Ot"
INSTRUMENT_HOST_ID = MEX
INSTRUMENT_HOST_NAME = "MARS EXPRESS"
INSTRUMENT_ID = HRSC
INSTRUMENT_NAME = "HIGH RESOLUTION STEREO CAMERA"
MISSION_NAME = "MARS EXPRESS"
MISSION_PHASE_NAME = ME_Phase_7
PROCESSING_LEVEL_ID = 3
PRODUCT_CREATION_TIME = 2016-04-20T19:30:25.000Z
PRODUCT_ID = "H4199_0001_SR3.JP2"
RELEASE_ID = 0047
REVISION_ID = 0000
/* QUALITY DATA ELEMENTS */
DATA_QUALITY_ID = 1
DATA_QUALITY_DESC = "Data calculated based on original SPICE kernels"
/* TIME DATA ELEMENTS */
SPACECRAFT_CLOCK_START_COUNT = "1/0124541955.08389"
SPACECRAFT_CLOCK_STOP_COUNT = "1/0124542153.24889"
IMAGE_TIME = 2007-04-13T11:00:19.518Z
START_TIME = 2007-04-13T11:00:19.260Z
STOP_TIME = 2007-04-13T11:00:19.776Z
/* ORBITAL DATA ELEMENTS */
ASCENDING_NODE_LONGITUDE = 140.34
MAXIMUM_RESOLUTION = 2.842
FOOTPRINT_POINT_LATITUDE = (-27.7706,-27.7691,-27.7667,-27.7653, -27.7632,-27.7615,-27.7594,-27.7581, -27.7565,-27.7543,-27.7516,-27.7496, -27.7478,-27.7457,-27.7434,-27.7411, -27.7392,-27.7372,-27.7359,-27.7342, -27.732,-27.7306,-27.7286,-27.7263, -27.7242,-27.7226,-27.7227,-27.7227, -27.7227,-27.7227,-27.7227,-27.7228, -27.7228,-27.7228,-27.7228,-27.7229, -27.7229,-27.7229,-27.7229,-27.7229, -27.723,-27.723,-27.723,-27.723, -27.7231,-27.7231,-27.7231,-27.7231, -27.7231,-27.7232,-27.7232,-27.7254, -27.7275,-27.7293,-27.7306,-27.7323, -27.734,-27.7357,-27.737,-27.7403, -27.7429,-27.7448,-27.7461,-27.7475, -27.7489,-27.7509,-27.7535,-27.756, -27.7586,-27.7608,-27.7633,-27.7649, -27.7672,-27.7692,-27.7716,-27.7716, -27.7716,-27.7716,-27.7715,-27.7715, -27.7715,-27.7715,-27.7714,-27.7714, -27.7714,-27.7714,-27.7714,-27.7713, -27.7713,-27.7713,-27.7713,-27.7713, -27.7712,-27.7712,-27.7712,-27.7712, -27.7711,-27.7711,-27.7711,-27.7706)
FOOTPRINT_POINT_LONGITUDE = (74.2706,74.2706,74.2707,74.2707, 74.2711,74.2711,74.2711,74.2712,74.2712 ,74.2712,74.2712,74.2713,74.2713, 74.2713,74.2713,74.2714,74.2714,74.2714 ,74.2714,74.2715,74.2715,74.2715, 74.2715,74.2716,74.2716,74.2717,74.2738 ,74.276,74.2782,74.2804,74.2825,74.2847 ,74.2869,74.289,74.2912,74.2934,74.2956 ,74.2977,74.2999,74.3021,74.3043, 74.3064,74.3086,74.3108,74.3129,74.3151 ,74.3173,74.3195,74.3216,74.3238,74.326 ,74.3268,74.3268,74.3268,74.3267, 74.3267,74.3267,74.3267,74.3267,74.3266 ,74.3266,74.3266,74.3266,74.3265, 74.3265,74.3265,74.3265,74.3264,74.3264 ,74.3264,74.3263,74.326,74.326,74.326, 74.3248,74.3226,74.3205,74.3183,74.3161 ,74.3139,74.3117,74.3096,74.3074, 74.3052,74.303,74.3009,74.2987,74.2965, 74.2943,74.2922,74.29,74.2878,74.2856, 74.2834,74.2813,74.2791,74.2769,74.2747 ,74.2726,74.2706)
ORBIT_NUMBER = 4199
ORBITAL_ECCENTRICITY = 0.571
ORBITAL_INCLINATION = 86.7
ORBITAL_SEMIMAJOR_AXIS = 8615.43
PERIAPSIS_ALTITUDE = 298.54
PERIAPSIS_ARGUMENT_ANGLE = 338.41
PERIAPSIS_TIME = 2007-04-13T11:01:54.000Z
SPACECRAFT_ORIENTATION = (0.0,1.0,0.0)
^MEX_ORIENTATION_DESC = "MEX_ORIENTATION_DESC.TXT"
SPACECRAFT_POINTING_MODE = ACROSSTRACK
^MEX_POINTING_DESC = "MEX_POINTING_DESC.TXT"
RIGHT_ASCENSION = -1e+32
DECLINATION = -1e+32
OFFSET_ANGLE = 0.15
SPACECRAFT_SOLAR_DISTANCE = 2.09507e+08
TARGET_NAME = MARS
/* CAMERA DATA ELEMENTS */
BUFFER_MODE_ID = BUFFER_8
EXPOSURE_DURATION = 516.096
INST_CMPRS_NAME = NONE
INST_CMPRS_RATIO = 1.0
INST_CMPRS_QUALITY = -2147483648
INST_CMPRS_QUANTZ_TBL_ID = -2147483648
INSTRUMENT_TEMPERATURE = 8.07149
MISSING_FRAMES = 0
START_BIT = 0
/* RADIOMETRIC DATA ELEMENTS */
BANDWIDTH = 250.0
CENTER_FILTER_WAVELENGTH = 600.0
RADIANCE_OFFSET = -9.99e+31
RADIANCE_SCALING_FACTOR = -9.99e+31
REFLECTANCE_SCALING_FACTOR = -9.99e+31
MEX:REFLECTANCE_OFFSET = -9.99e+31
/* IMAGE OBJECT DEFINITIONS */
OBJECT = IMAGE
  INTERCHANGE_FORMAT = BINARY
  LINES = 1217
  LINE_SAMPLES = 1232
  SAMPLE_TYPE = UNSIGNED_INTEGER
  SAMPLE_BITS = 8
  BANDS = 1
  BAND_STORAGE_TYPE = BAND_SEQUENTIAL
  MAXIMUM = 255
  MEAN = 254.999
  MINIMUM = 118
  STANDARD_DEVIATION = 0.288905
END_OBJECT = IMAGE
/* MAP OBJECT DEFINITIONS */
OBJECT = IMAGE_MAP_PROJECTION
  ^DATA_SET_MAP_PROJECTION_CATALOG= "DSMAP.CAT"
  A_AXIS_RADIUS = 3396.19
  B_AXIS_RADIUS = 3396.19
  C_AXIS_RADIUS = 3396.19
  CENTER_LATITUDE = 0.0
  CENTER_LONGITUDE = 74.0
  COORDINATE_SYSTEM_NAME = PLANETOGRAPHIC
  COORDINATE_SYSTEM_TYPE = "BODY-FIXED ROTATING"
  EASTERNMOST_LONGITUDE = 74.32680000000001
  FIRST_STANDARD_PARALLEL = "N/A"
  LINE_FIRST_PIXEL = 1
  LINE_LAST_PIXEL = 1217
  LINE_PROJECTION_OFFSET = -656974.0
  MAP_PROJECTION_ROTATION = 0.0
  MAP_PROJECTION_TYPE = SINUSOIDAL
  MAP_RESOLUTION = 23709.8786048756
  MAP_SCALE = 0.0025
  MAXIMUM_LATITUDE = -27.7226
  MINIMUM_LATITUDE = -27.7716
  POSITIVE_LONGITUDE_DIRECTION = EAST
  REFERENCE_LATITUDE = "N/A"
  REFERENCE_LONGITUDE = "N/A"
  SAMPLE_FIRST_PIXEL = 1
  SAMPLE_LAST_PIXEL = 1232
  SAMPLE_PROJECTION_OFFSET = -5597.0
  SECOND_STANDARD_PARALLEL = "N/A"
  WESTERNMOST_LONGITUDE = 74.2706
END_OBJECT = IMAGE_MAP_PROJECTION
/* The JPEG2000 image data file associated with this label. */
OBJECT = COMPRESSED_FILE
  FILE_NAME = "H4199_0001_SR3.JP2"
  RECORD_TYPE = UNDEFINED
  FILE_RECORDS = UNK
  ENCODING_TYPE = "JP2"
  INTERCHANGE_FORMAT = BINARY
  UNCOMPRESSED_FILE_NAME = "H4199_0001_SR3.IMG"
  REQUIRED_STORAGE_BYTES = "1519056"
  ^DESCRIPTION = "JP2INFO.TXT"
END_OBJECT = COMPRESSED_FILE
END
