PDS_VERSION_ID = PDS3
/* FILE DATA ELEMENTS */
RECORD_TYPE = STREAM
/* POINTERS TO DATA OBJECTS */
^COMPRESSED_FILE = "H4202_0000_IR3.JP2"
/* IDENTIFICATION DATA ELEMENTS */
DATA_SET_ID = "MEX-M-HRSC-5-REFDR-MAPPROJECTED-V3.0"
DATA_SET_NAME = "MARS EXPRESS HRSC MAP PROJECTED REFDR V3.0"
DETECTOR_ID = MEX_HRSC_IR
EVENT_TYPE = "MARS-REGIONAL-MAPPING-Im-Fl"
INSTRUMENT_HOST_ID = MEX
INSTRUMENT_HOST_NAME = "MARS EXPRESS"
INSTRUMENT_ID = HRSC
INSTRUMENT_NAME = "HIGH RESOLUTION STEREO CAMERA"
MISSION_NAME = "MARS EXPRESS"
MISSION_PHASE_NAME = ME_Phase_7
PROCESSING_LEVEL_ID = 3
PRODUCT_CREATION_TIME = 2016-04-21T04:35:46.000Z
PRODUCT_ID = "H4202_0000_IR3.JP2"
RELEASE_ID = 0048
REVISION_ID = 0000
/* QUALITY DATA ELEMENTS */
DATA_QUALITY_ID = 2
DATA_QUALITY_DESC = "Data calculated based on photogrammetrically improved orbit and attitude data"
/* TIME DATA ELEMENTS */
SPACECRAFT_CLOCK_START_COUNT = "1/0124614774.09085"
SPACECRAFT_CLOCK_STOP_COUNT = "1/0124614933.24147"
START_TIME = 2007-04-14T07:13:49.092Z
STOP_TIME = 2007-04-14T07:15:30.065Z
/* ORBITAL DATA ELEMENTS */
ASCENDING_NODE_LONGITUDE = 140.27
MAXIMUM_RESOLUTION = 105.8
FOOTPRINT_POINT_LATITUDE = (-13.5999,-13.6001,-13.6003,-13.6005, -13.6007,-13.5977,-13.4741,-13.2886, -13.1035,-12.9799,-12.7946,-12.6709, -12.5476,-12.4244,-12.3012,-12.1166, -11.9933,-11.8087,-11.686,-11.5629, -11.3174,-11.1916,-11.0659,-10.9396, -10.8131,-10.6867,-10.5602,-10.4337, -10.3062,-10.1136,-9.98446,-9.85895, -9.67218,-9.54804,-9.35512,-9.22559, -9.03109,-8.89989,-8.77044,-8.64335, -8.51492,-8.38548,-8.25657,-8.1285, -7.93728,-7.80919,-7.68176,-7.55388, -7.42603,-7.29767,-7.22765,-7.22697, -7.22679,-7.22667,-7.22625,-7.22614, -7.41935,-7.5473,-7.67495,-7.80325, -7.93155,-8.05991,-8.25221,-8.44582, -8.63873,-8.76723,-8.89644,-9.02468, -9.21842,-9.34788,-9.54198,-9.66688, -9.7919,-9.92025,-10.0475,-10.175, -10.3013,-10.4277,-10.6172,-10.807, -10.9335,-11.06,-11.1865,-11.3749, -11.4989,-11.7403,-11.8629,-11.9861, -12.1096,-12.2329,-12.4179,-12.5415, -12.6648,-12.7881,-12.9735,-13.097, -13.2208,-13.3447,-13.5304,-13.5999)
FOOTPRINT_POINT_LONGITUDE = (140.198,140.038,139.752,139.55,139.38, 139.174,139.173,139.172,139.171,139.17, 139.169,139.168,139.167,139.167,139.166 ,139.164,139.163,139.162,139.161,139.16 ,139.157,139.155,139.154,139.152, 139.151,139.15,139.149,139.148,139.147, 139.146,139.146,139.144,139.142,139.14, 139.137,139.135,139.133,139.132,139.13, 139.128,139.126,139.125,139.123,139.121 ,139.118,139.116,139.113,139.111, 139.109,139.107,139.255,139.534,139.719 ,139.87,140.079,140.253,140.341,140.34, 140.338,140.338,140.337,140.336,140.334 ,140.333,140.331,140.33,140.329,140.328 ,140.326,140.326,140.324,140.323, 140.322,140.322,140.322,140.322,140.321 ,140.321,140.32,140.319,140.318,140.317 ,140.316,140.315,140.314,140.311,140.31 ,140.31,140.309,140.309,140.308,140.308 ,140.307,140.306,140.305,140.305, 140.304,140.304,140.303,140.198)
ORBIT_NUMBER = 4202
ORBITAL_ECCENTRICITY = 0.571
ORBITAL_INCLINATION = 86.67
ORBITAL_SEMIMAJOR_AXIS = 8611.99
PERIAPSIS_ALTITUDE = 299.37
PERIAPSIS_ARGUMENT_ANGLE = 337.91
PERIAPSIS_TIME = 2007-04-14T07:11:18.000Z
SPACECRAFT_ORIENTATION = (0.0,1.0,0.0)
^MEX_ORIENTATION_DESC = "MEX_ORIENTATION_DESC.TXT"
SPACECRAFT_POINTING_MODE = NADIR
^MEX_POINTING_DESC = "MEX_POINTING_DESC.TXT"
RIGHT_ASCENSION = -1e+32
DECLINATION = -1e+32
OFFSET_ANGLE = -1e+32
SPACECRAFT_SOLAR_DISTANCE = 2.09419e+08
TARGET_NAME = MARS
/* CAMERA DATA ELEMENTS */
DETECTOR_TEMPERATURE = 17.5549
FOCAL_PLANE_TEMPERATURE = 8.9911
INST_CMPRS_NAME = "DISCRETE COSINE TRANSFORMATION (DCT)"
INST_CMPRS_RATIO = 9.0472
INST_CMPRS_QUALITY = 0
INST_CMPRS_QUANTZ_TBL_ID = 0
INSTRUMENT_TEMPERATURE = 11.4379
LENS_TEMPERATURE = 9.3989
MACROPIXEL_SIZE = 8
MISSING_FRAMES = 0
PIXEL_SUBSAMPLING_FLAG = N
SIGNAL_CHAIN_ID = 2
/* RADIOMETRIC DATA ELEMENTS */
BANDWIDTH = 81.0
CENTER_FILTER_WAVELENGTH = 955.5
RADIANCE_OFFSET = 1.02266
RADIANCE_SCALING_FACTOR = 0.00559479
REFLECTANCE_SCALING_FACTOR = 0.00052935
MEX:REFLECTANCE_OFFSET = 0.0967585
/* IMAGE OBJECT DEFINITIONS */
OBJECT = IMAGE
  INTERCHANGE_FORMAT = BINARY
  LINES = 3786
  LINE_SAMPLES = 752
  SAMPLE_TYPE = UNSIGNED_INTEGER
  SAMPLE_BITS = 8
  BANDS = 1
  BAND_STORAGE_TYPE = BAND_SEQUENTIAL
  MAXIMUM = 255
  MEAN = 117.469
  MINIMUM = 1
  STANDARD_DEVIATION = 33.4956
END_OBJECT = IMAGE
/* MAP OBJECT DEFINITIONS */
OBJECT = IMAGE_MAP_PROJECTION
  ^DATA_SET_MAP_PROJECTION_CATALOG= "DSMAP.CAT"
  A_AXIS_RADIUS = 3396.0
  B_AXIS_RADIUS = 3396.0
  C_AXIS_RADIUS = 3396.0
  CENTER_LATITUDE = 0.0
  CENTER_LONGITUDE = 140.0
  COORDINATE_SYSTEM_NAME = PLANETOGRAPHIC
  COORDINATE_SYSTEM_TYPE = "BODY-FIXED ROTATING"
  EASTERNMOST_LONGITUDE = 140.341
  FIRST_STANDARD_PARALLEL = "N/A"
  LINE_FIRST_PIXEL = 1
  LINE_LAST_PIXEL = 3786
  LINE_PROJECTION_OFFSET = -4283.4375
  MAP_PROJECTION_ROTATION = 0.0
  MAP_PROJECTION_TYPE = SINUSOIDAL
  MAP_RESOLUTION = 592.713803866667
  MAP_SCALE = 0.1
  MAXIMUM_LATITUDE = -7.22614
  MINIMUM_LATITUDE = -13.6007
  POSITIVE_LONGITUDE_DIRECTION = EAST
  REFERENCE_LATITUDE = "N/A"
  REFERENCE_LONGITUDE = "N/A"
  SAMPLE_FIRST_PIXEL = 1
  SAMPLE_LAST_PIXEL = 752
  SAMPLE_PROJECTION_OFFSET = 540.9375
  SECOND_STANDARD_PARALLEL = "N/A"
  WESTERNMOST_LONGITUDE = 139.107
END_OBJECT = IMAGE_MAP_PROJECTION
/* The JPEG2000 image data file associated with this label. */
OBJECT = COMPRESSED_FILE
  FILE_NAME = "H4202_0000_IR3.JP2"
  RECORD_TYPE = UNDEFINED
  FILE_RECORDS = UNK
  ENCODING_TYPE = "JP2"
  INTERCHANGE_FORMAT = BINARY
  UNCOMPRESSED_FILE_NAME = "H4202_0000_IR3.IMG"
  REQUIRED_STORAGE_BYTES = "2865120"
  ^DESCRIPTION = "JP2INFO.TXT"
END_OBJECT = COMPRESSED_FILE
END
