PDS_VERSION_ID = PDS3
/* FILE DATA ELEMENTS */
RECORD_TYPE = STREAM
/* POINTERS TO DATA OBJECTS */
^COMPRESSED_FILE = "H4202_0000_P23.JP2"
/* IDENTIFICATION DATA ELEMENTS */
DATA_SET_ID = "MEX-M-HRSC-5-REFDR-MAPPROJECTED-V3.0"
DATA_SET_NAME = "MARS EXPRESS HRSC MAP PROJECTED REFDR V3.0"
DETECTOR_ID = MEX_HRSC_P2
EVENT_TYPE = "MARS-REGIONAL-MAPPING-Im-Fl"
INSTRUMENT_HOST_ID = MEX
INSTRUMENT_HOST_NAME = "MARS EXPRESS"
INSTRUMENT_ID = HRSC
INSTRUMENT_NAME = "HIGH RESOLUTION STEREO CAMERA"
MISSION_NAME = "MARS EXPRESS"
MISSION_PHASE_NAME = ME_Phase_7
PROCESSING_LEVEL_ID = 3
PRODUCT_CREATION_TIME = 2016-04-21T04:35:46.000Z
PRODUCT_ID = "H4202_0000_P23.JP2"
RELEASE_ID = 0048
REVISION_ID = 0000
/* QUALITY DATA ELEMENTS */
DATA_QUALITY_ID = 2
DATA_QUALITY_DESC = "Data calculated based on photogrammetrically improved orbit and attitude data"
/* TIME DATA ELEMENTS */
SPACECRAFT_CLOCK_START_COUNT = "1/0124614774.09085"
SPACECRAFT_CLOCK_STOP_COUNT = "1/0124614933.24147"
START_TIME = 2007-04-14T07:13:07.531Z
STOP_TIME = 2007-04-14T07:14:43.791Z
/* ORBITAL DATA ELEMENTS */
ASCENDING_NODE_LONGITUDE = 140.27
MAXIMUM_RESOLUTION = 25.3
FOOTPRINT_POINT_LATITUDE = (-13.6193,-13.6198,-13.6203,-13.6204, -13.6202,-13.6197,-13.4961,-13.3722, -13.2482,-13.0623,-12.9384,-12.8148, -12.6911,-12.5672,-12.3815,-12.1958, -11.9486,-11.8248,-11.6391,-11.5156, -11.3904,-11.2639,-11.1397,-10.9509, -10.8226,-10.6945,-10.5664,-10.4388, -10.3113,-10.122,-9.99654,-9.86763, -9.73847,-9.54504,-9.41596,-9.28829, -9.15916,-9.0319,-8.90589,-8.77748, -8.64774,-8.44991,-8.31805,-8.11854, -7.98473,-7.85228,-7.71896,-7.58644, -7.45374,-7.32169,-7.22594,-7.22542, -7.22443,-7.22303,-7.22124,-7.21996, -7.35218,-7.55146,-7.68448,-7.81707, -7.94976,-8.1489,-8.28199,-8.41437, -8.54707,-8.67784,-8.80626,-8.93454, -9.06363,-9.19227,-9.32055,-9.51296, -9.64167,-9.83495,-10.0253,-10.1518, -10.3435,-10.4716,-10.5999,-10.7281, -10.8564,-11.048,-11.172,-11.2961, -11.4211,-11.5459,-11.6717,-11.8596, -11.9831,-12.1069,-12.2925,-12.4163, -12.54,-12.664,-12.7881,-12.9121, -13.0979,-13.2219,-13.4076,-13.6193)
FOOTPRINT_POINT_LONGITUDE = (140.243,140.082,139.836,139.664, 139.503,139.331,139.178,139.177,139.177 ,139.176,139.175,139.175,139.174, 139.174,139.173,139.172,139.171,139.17, 139.169,139.168,139.167,139.165,139.164 ,139.162,139.161,139.16,139.159,139.159 ,139.158,139.158,139.158,139.156, 139.155,139.152,139.151,139.15,139.148, 139.147,139.147,139.145,139.143,139.141 ,139.14,139.137,139.135,139.133,139.131 ,139.13,139.128,139.126,139.262,139.514 ,139.674,139.846,140.076,140.213, 140.309,140.307,140.307,140.306,140.305 ,140.304,140.304,140.303,140.302, 140.302,140.301,140.3,140.3,140.299, 140.298,140.298,140.297,140.296,140.296 ,140.297,140.296,140.296,140.296, 140.295,140.295,140.294,140.294,140.293 ,140.292,140.292,140.291,140.289, 140.289,140.289,140.288,140.288,140.288 ,140.288,140.287,140.287,140.286, 140.286,140.286,140.243)
ORBIT_NUMBER = 4202
ORBITAL_ECCENTRICITY = 0.571
ORBITAL_INCLINATION = 86.67
ORBITAL_SEMIMAJOR_AXIS = 8611.99
PERIAPSIS_ALTITUDE = 299.37
PERIAPSIS_ARGUMENT_ANGLE = 337.91
PERIAPSIS_TIME = 2007-04-14T07:11:18.000Z
SPACECRAFT_ORIENTATION = (0.0,1.0,0.0)
^MEX_ORIENTATION_DESC = "MEX_ORIENTATION_DESC.TXT"
SPACECRAFT_POINTING_MODE = NADIR
^MEX_POINTING_DESC = "MEX_POINTING_DESC.TXT"
RIGHT_ASCENSION = -1e+32
DECLINATION = -1e+32
OFFSET_ANGLE = -1e+32
SPACECRAFT_SOLAR_DISTANCE = 2.09419e+08
TARGET_NAME = MARS
/* CAMERA DATA ELEMENTS */
DETECTOR_TEMPERATURE = 18.7783
FOCAL_PLANE_TEMPERATURE = 8.9911
INST_CMPRS_NAME = "DISCRETE COSINE TRANSFORMATION (DCT)"
INST_CMPRS_RATIO = 6.2391
INST_CMPRS_QUALITY = 0
INST_CMPRS_QUANTZ_TBL_ID = 0
INSTRUMENT_TEMPERATURE = 11.4379
LENS_TEMPERATURE = 9.3989
MACROPIXEL_SIZE = 2
MISSING_FRAMES = 0
PIXEL_SUBSAMPLING_FLAG = N
SIGNAL_CHAIN_ID = 3
/* RADIOMETRIC DATA ELEMENTS */
BANDWIDTH = 177.0
CENTER_FILTER_WAVELENGTH = 676.5
RADIANCE_OFFSET = 4.13703
RADIANCE_SCALING_FACTOR = 0.018495
REFLECTANCE_SCALING_FACTOR = 0.000430072
MEX:REFLECTANCE_OFFSET = 0.0962002
/* IMAGE OBJECT DEFINITIONS */
OBJECT = IMAGE
  INTERCHANGE_FORMAT = BINARY
  LINES = 15143
  LINE_SAMPLES = 3007
  SAMPLE_TYPE = UNSIGNED_INTEGER
  SAMPLE_BITS = 8
  BANDS = 1
  BAND_STORAGE_TYPE = BAND_SEQUENTIAL
  MAXIMUM = 255
  MEAN = 126.893
  MINIMUM = 1
  STANDARD_DEVIATION = 28.5848
END_OBJECT = IMAGE
/* MAP OBJECT DEFINITIONS */
OBJECT = IMAGE_MAP_PROJECTION
  ^DATA_SET_MAP_PROJECTION_CATALOG= "DSMAP.CAT"
  A_AXIS_RADIUS = 3396.0
  B_AXIS_RADIUS = 3396.0
  C_AXIS_RADIUS = 3396.0
  CENTER_LATITUDE = 0.0
  CENTER_LONGITUDE = 140.0
  COORDINATE_SYSTEM_NAME = PLANETOGRAPHIC
  COORDINATE_SYSTEM_TYPE = "BODY-FIXED ROTATING"
  EASTERNMOST_LONGITUDE = 140.309
  FIRST_STANDARD_PARALLEL = "N/A"
  LINE_FIRST_PIXEL = 1
  LINE_LAST_PIXEL = 15143
  LINE_PROJECTION_OFFSET = -17132.25
  MAP_PROJECTION_ROTATION = 0.0
  MAP_PROJECTION_TYPE = SINUSOIDAL
  MAP_RESOLUTION = 2370.85521546667
  MAP_SCALE = 0.025
  MAXIMUM_LATITUDE = -7.21996
  MINIMUM_LATITUDE = -13.6204
  POSITIVE_LONGITUDE_DIRECTION = EAST
  REFERENCE_LATITUDE = "N/A"
  REFERENCE_LONGITUDE = "N/A"
  SAMPLE_FIRST_PIXEL = 1
  SAMPLE_LAST_PIXEL = 3007
  SAMPLE_PROJECTION_OFFSET = 2165.25
  SECOND_STANDARD_PARALLEL = "N/A"
  WESTERNMOST_LONGITUDE = 139.126
END_OBJECT = IMAGE_MAP_PROJECTION
/* The JPEG2000 image data file associated with this label. */
OBJECT = COMPRESSED_FILE
  FILE_NAME = "H4202_0000_P23.JP2"
  RECORD_TYPE = UNDEFINED
  FILE_RECORDS = UNK
  ENCODING_TYPE = "JP2"
  INTERCHANGE_FORMAT = BINARY
  UNCOMPRESSED_FILE_NAME = "H4202_0000_P23.IMG"
  REQUIRED_STORAGE_BYTES = "45559057"
  ^DESCRIPTION = "JP2INFO.TXT"
END_OBJECT = COMPRESSED_FILE
END
