PDS_VERSION_ID = PDS3
/* FILE DATA ELEMENTS */
RECORD_TYPE = STREAM
/* POINTERS TO DATA OBJECTS */
^COMPRESSED_FILE = "H4207_0000_P23.JP2"
/* IDENTIFICATION DATA ELEMENTS */
DATA_SET_ID = "MEX-M-HRSC-5-REFDR-MAPPROJECTED-V3.0"
DATA_SET_NAME = "MARS EXPRESS HRSC MAP PROJECTED REFDR V3.0"
DETECTOR_ID = MEX_HRSC_P2
EVENT_TYPE = "MARS-REGIONAL-MAPPING-Im"
INSTRUMENT_HOST_ID = MEX
INSTRUMENT_HOST_NAME = "MARS EXPRESS"
INSTRUMENT_ID = HRSC
INSTRUMENT_NAME = "HIGH RESOLUTION STEREO CAMERA"
MISSION_NAME = "MARS EXPRESS"
MISSION_PHASE_NAME = ME_Phase_7
PROCESSING_LEVEL_ID = 3
PRODUCT_CREATION_TIME = 2016-04-21T04:35:46.000Z
PRODUCT_ID = "H4207_0000_P23.JP2"
RELEASE_ID = 0048
REVISION_ID = 0000
/* QUALITY DATA ELEMENTS */
DATA_QUALITY_ID = 2
DATA_QUALITY_DESC = "Data calculated based on photogrammetrically improved orbit and attitude data"
/* TIME DATA ELEMENTS */
SPACECRAFT_CLOCK_START_COUNT = "1/0124735499.08424"
SPACECRAFT_CLOCK_STOP_COUNT = "1/0124735679.25775"
START_TIME = 2007-04-15T16:45:12.957Z
STOP_TIME = 2007-04-15T16:47:17.682Z
/* ORBITAL DATA ELEMENTS */
ASCENDING_NODE_LONGITUDE = 140.17
MAXIMUM_RESOLUTION = 49
FOOTPRINT_POINT_LATITUDE = (-28.9011,-28.8995,-28.896,-28.8937, -28.8897,-28.6258,-28.4608,-28.2102, -28.0432,-27.8768,-27.7104,-27.544, -27.2945,-27.1281,-26.962,-26.8037, -26.5627,-26.4007,-26.1584,-25.9975, -25.835,-25.6716,-25.511,-25.352, -25.1909,-25.0287,-24.8668,-24.7048, -24.5428,-24.3791,-24.1337,-23.9715, -23.8095,-23.6474,-23.4039,-23.2415, -23.0792,-22.9161,-22.6729,-22.5106, -22.3483,-22.1047,-21.9444,-21.7004, -21.4559,-21.2925,-21.1283,-20.9643, -20.6942,-20.6967,-20.6985,-20.6997, -20.7006,-20.7836,-21.0282,-21.1913, -21.3552,-21.5194,-21.6785,-21.8401, -22.0066,-22.1688,-22.3305,-22.4927, -22.6553,-22.818,-23.0619,-23.2242, -23.3866,-23.6303,-23.7927,-24.0362, -24.1987,-24.3609,-24.5235,-24.6869, -24.8487,-25.0111,-25.2544,-25.4164, -25.5761,-25.74,-25.9011,-26.1435, -26.3855,-26.5469,-26.7079,-26.8692, -27.0327,-27.2,-27.3665,-27.5329, -27.6988,-27.8654,-28.032,-28.1974, -28.3642,-28.6139,-28.7798,-28.9011)
FOOTPRINT_POINT_LONGITUDE = (8.78804,8.57147,8.22944,8.05855, 7.80762,7.70248,7.70714,7.71267,7.71633 ,7.72026,7.72412,7.728,7.73379,7.73761, 7.74147,7.74612,7.75132,7.75416,7.75868 ,7.76193,7.76445,7.76648,7.76981, 7.77391,7.77693,7.77945,7.78207,7.78459 ,7.78713,7.78881,7.79137,7.79372, 7.79612,7.79842,7.80168,7.80381,7.80593 ,7.80763,7.81087,7.81287,7.81485, 7.81773,7.82059,7.82313,7.82541,7.82669 ,7.82759,7.8285,7.91283,8.1518,8.35916, 8.58727,8.79435,8.94264,8.94234,8.94211 ,8.94149,8.9407,8.94233,8.94275,8.94081 ,8.94088,8.94121,8.94124,8.9411,8.94086 ,8.94051,8.94046,8.94025,8.93993, 8.93969,8.93931,8.93897,8.93873,8.93828 ,8.93737,8.93728,8.93683,8.93624, 8.93586,8.93666,8.9353,8.93531,8.93491, 8.93459,8.93434,8.9342,8.93389,8.93343, 8.93301,8.93297,8.93294,8.93311,8.93291 ,8.93261,8.93291,8.93247,8.93194, 8.93183,8.78804)
ORBIT_NUMBER = 4207
ORBITAL_ECCENTRICITY = 0.571
ORBITAL_INCLINATION = 86.68
ORBITAL_SEMIMAJOR_AXIS = 8610.92
PERIAPSIS_ALTITUDE = 298.92
PERIAPSIS_ARGUMENT_ANGLE = 337.0
PERIAPSIS_TIME = 2007-04-15T16:47:01.000Z
SPACECRAFT_ORIENTATION = (0.0,1.0,0.0)
^MEX_ORIENTATION_DESC = "MEX_ORIENTATION_DESC.TXT"
SPACECRAFT_POINTING_MODE = NADIR
^MEX_POINTING_DESC = "MEX_POINTING_DESC.TXT"
RIGHT_ASCENSION = -1e+32
DECLINATION = -1e+32
OFFSET_ANGLE = -1e+32
SPACECRAFT_SOLAR_DISTANCE = 2.09275e+08
TARGET_NAME = MARS
/* CAMERA DATA ELEMENTS */
DETECTOR_TEMPERATURE = 18.7783
FOCAL_PLANE_TEMPERATURE = 9.3989
INST_CMPRS_NAME = "DISCRETE COSINE TRANSFORMATION (DCT)"
INST_CMPRS_RATIO = 7.26359
INST_CMPRS_QUALITY = 0
INST_CMPRS_QUANTZ_TBL_ID = 0
INSTRUMENT_TEMPERATURE = 11.6418
LENS_TEMPERATURE = 9.6028
MACROPIXEL_SIZE = 4
MISSING_FRAMES = 0
PIXEL_SUBSAMPLING_FLAG = N
SIGNAL_CHAIN_ID = 3
/* RADIOMETRIC DATA ELEMENTS */
BANDWIDTH = 177.0
CENTER_FILTER_WAVELENGTH = 676.5
RADIANCE_OFFSET = 4.38291
RADIANCE_SCALING_FACTOR = 0.0145571
REFLECTANCE_SCALING_FACTOR = 0.000338038
MEX:REFLECTANCE_OFFSET = 0.101778
/* IMAGE OBJECT DEFINITIONS */
OBJECT = IMAGE
  INTERCHANGE_FORMAT = BINARY
  LINES = 9719
  LINE_SAMPLES = 1432
  SAMPLE_TYPE = UNSIGNED_INTEGER
  SAMPLE_BITS = 8
  BANDS = 1
  BAND_STORAGE_TYPE = BAND_SEQUENTIAL
  MAXIMUM = 255
  MEAN = 144.09
  MINIMUM = 1
  STANDARD_DEVIATION = 24.0517
END_OBJECT = IMAGE
/* MAP OBJECT DEFINITIONS */
OBJECT = IMAGE_MAP_PROJECTION
  ^DATA_SET_MAP_PROJECTION_CATALOG= "DSMAP.CAT"
  A_AXIS_RADIUS = 3396.0
  B_AXIS_RADIUS = 3396.0
  C_AXIS_RADIUS = 3396.0
  CENTER_LATITUDE = 0.0
  CENTER_LONGITUDE = 8.0
  COORDINATE_SYSTEM_NAME = PLANETOGRAPHIC
  COORDINATE_SYSTEM_TYPE = "BODY-FIXED ROTATING"
  EASTERNMOST_LONGITUDE = 8.94275
  FIRST_STANDARD_PARALLEL = "N/A"
  LINE_FIRST_PIXEL = 1
  LINE_LAST_PIXEL = 9719
  LINE_PROJECTION_OFFSET = -24515.375
  MAP_PROJECTION_ROTATION = 0.0
  MAP_PROJECTION_TYPE = SINUSOIDAL
  MAP_RESOLUTION = 1185.42760773333
  MAP_SCALE = 0.05
  MAXIMUM_LATITUDE = -20.6942
  MINIMUM_LATITUDE = -28.9011
  POSITIVE_LONGITUDE_DIRECTION = EAST
  REFERENCE_LATITUDE = "N/A"
  REFERENCE_LONGITUDE = "N/A"
  SAMPLE_FIRST_PIXEL = 1
  SAMPLE_LAST_PIXEL = 1432
  SAMPLE_PROJECTION_OFFSET = 342.625
  SECOND_STANDARD_PARALLEL = "N/A"
  WESTERNMOST_LONGITUDE = 7.70248
END_OBJECT = IMAGE_MAP_PROJECTION
/* The JPEG2000 image data file associated with this label. */
OBJECT = COMPRESSED_FILE
  FILE_NAME = "H4207_0000_P23.JP2"
  RECORD_TYPE = UNDEFINED
  FILE_RECORDS = UNK
  ENCODING_TYPE = "JP2"
  INTERCHANGE_FORMAT = BINARY
  UNCOMPRESSED_FILE_NAME = "H4207_0000_P23.IMG"
  REQUIRED_STORAGE_BYTES = "13936224"
  ^DESCRIPTION = "JP2INFO.TXT"
END_OBJECT = COMPRESSED_FILE
END
