PDS_VERSION_ID = PDS3
/* FILE DATA ELEMENTS */
RECORD_TYPE = STREAM
/* POINTERS TO DATA OBJECTS */
^COMPRESSED_FILE = "H4207_0000_S23.JP2"
/* IDENTIFICATION DATA ELEMENTS */
DATA_SET_ID = "MEX-M-HRSC-5-REFDR-MAPPROJECTED-V3.0"
DATA_SET_NAME = "MARS EXPRESS HRSC MAP PROJECTED REFDR V3.0"
DETECTOR_ID = MEX_HRSC_S2
EVENT_TYPE = "MARS-REGIONAL-MAPPING-Im"
INSTRUMENT_HOST_ID = MEX
INSTRUMENT_HOST_NAME = "MARS EXPRESS"
INSTRUMENT_ID = HRSC
INSTRUMENT_NAME = "HIGH RESOLUTION STEREO CAMERA"
MISSION_NAME = "MARS EXPRESS"
MISSION_PHASE_NAME = ME_Phase_7
PROCESSING_LEVEL_ID = 3
PRODUCT_CREATION_TIME = 2016-04-21T04:35:46.000Z
PRODUCT_ID = "H4207_0000_S23.JP2"
RELEASE_ID = 0048
REVISION_ID = 0000
/* QUALITY DATA ELEMENTS */
DATA_QUALITY_ID = 2
DATA_QUALITY_DESC = "Data calculated based on photogrammetrically improved orbit and attitude data"
/* TIME DATA ELEMENTS */
SPACECRAFT_CLOCK_START_COUNT = "1/0124735499.08424"
SPACECRAFT_CLOCK_STOP_COUNT = "1/0124735679.25775"
START_TIME = 2007-04-15T16:45:03.306Z
STOP_TIME = 2007-04-15T16:47:08.796Z
/* ORBITAL DATA ELEMENTS */
ASCENDING_NODE_LONGITUDE = 140.17
MAXIMUM_RESOLUTION = 25.3
FOOTPRINT_POINT_LATITUDE = (-28.9092,-28.9075,-28.9032,-28.9001, -28.876,-28.7107,-28.5458,-28.3819, -28.1316,-27.9648,-27.7989,-27.6329, -27.4671,-27.2184,-26.9698,-26.8054, -26.6418,-26.475,-26.3088,-26.1474, -25.9869,-25.8241,-25.6599,-25.4987, -25.3409,-25.1813,-25.0195,-24.7763, -24.5333,-24.3686,-24.1219,-23.9597, -23.7976,-23.6354,-23.4729,-23.3102, -23.1476,-22.9851,-22.8213,-22.5782, -22.4157,-22.2527,-22.0906,-21.9311, -21.6865,-21.4412,-21.2771,-21.1117, -20.9471,-20.7007,-20.6869,-20.6889, -20.692,-20.6933,-20.777,-21.0225, -21.1861,-21.3509,-21.5162,-21.6738, -21.9182,-22.0848,-22.2459,-22.4083, -22.5711,-22.7342,-22.9786,-23.2223, -23.3851,-23.6289,-23.7914,-23.9539, -24.1166,-24.2789,-24.4418,-24.606, -24.7676,-24.9302,-25.1737,-25.3359, -25.5752,-25.7402,-25.9008,-26.0621, -26.3038,-26.4685,-26.6351,-26.8021, -26.9697,-27.2201,-27.385,-27.5502, -27.799,-27.9652,-28.1295,-28.2957, -28.5449,-28.71,-28.8752,-28.9092)
FOOTPRINT_POINT_LONGITUDE = (8.65616,8.46425,8.12862,7.93682, 7.68681,7.69116,7.69561,7.70034,7.70597 ,7.7097,7.71369,7.71762,7.72156,7.72745 ,7.73328,7.73757,7.74205,7.74551, 7.74847,7.75159,7.75493,7.75754,7.75966 ,7.76272,7.76679,7.77028,7.77303, 7.77698,7.78091,7.78268,7.78537,7.7878, 7.79029,7.79267,7.79494,7.79714,7.79933 ,7.8015,7.80326,7.80664,7.80873,7.81063 ,7.81275,7.81569,7.81835,7.82075,7.8221 ,7.82308,7.82424,7.8261,7.9995,8.17295, 8.45438,8.72499,8.94485,8.94467,8.94452 ,8.94399,8.94326,8.945,8.94499,8.94379, 8.94431,8.94443,8.94438,8.94422,8.94401 ,8.94396,8.9438,8.94363,8.94349,8.94335 ,8.94311,8.94296,8.94258,8.94175, 8.94176,8.9414,8.94095,8.94067,8.94149, 8.94021,8.94032,8.94019,8.94002,8.93985 ,8.93981,8.9396,8.93916,8.93879,8.93919 ,8.93941,8.9394,8.9392,8.93962,8.93938, 8.93892,8.93892,8.93885,8.65616)
ORBIT_NUMBER = 4207
ORBITAL_ECCENTRICITY = 0.571
ORBITAL_INCLINATION = 86.68
ORBITAL_SEMIMAJOR_AXIS = 8610.92
PERIAPSIS_ALTITUDE = 298.92
PERIAPSIS_ARGUMENT_ANGLE = 337.0
PERIAPSIS_TIME = 2007-04-15T16:47:01.000Z
SPACECRAFT_ORIENTATION = (0.0,1.0,0.0)
^MEX_ORIENTATION_DESC = "MEX_ORIENTATION_DESC.TXT"
SPACECRAFT_POINTING_MODE = NADIR
^MEX_POINTING_DESC = "MEX_POINTING_DESC.TXT"
RIGHT_ASCENSION = -1e+32
DECLINATION = -1e+32
OFFSET_ANGLE = -1e+32
SPACECRAFT_SOLAR_DISTANCE = 2.09275e+08
TARGET_NAME = MARS
/* CAMERA DATA ELEMENTS */
DETECTOR_TEMPERATURE = 18.7783
FOCAL_PLANE_TEMPERATURE = 9.3989
INST_CMPRS_NAME = "DISCRETE COSINE TRANSFORMATION (DCT)"
INST_CMPRS_RATIO = 9.26298
INST_CMPRS_QUALITY = 0
INST_CMPRS_QUANTZ_TBL_ID = 0
INSTRUMENT_TEMPERATURE = 11.6418
LENS_TEMPERATURE = 9.6028
MACROPIXEL_SIZE = 2
MISSING_FRAMES = 0
PIXEL_SUBSAMPLING_FLAG = N
SIGNAL_CHAIN_ID = 1
/* RADIOMETRIC DATA ELEMENTS */
BANDWIDTH = 178.0
CENTER_FILTER_WAVELENGTH = 679.0
RADIANCE_OFFSET = 4.67676
RADIANCE_SCALING_FACTOR = 0.0147565
REFLECTANCE_SCALING_FACTOR = 0.000342253
MEX:REFLECTANCE_OFFSET = 0.10847
/* IMAGE OBJECT DEFINITIONS */
OBJECT = IMAGE
  INTERCHANGE_FORMAT = BINARY
  LINES = 19438
  LINE_SAMPLES = 2864
  SAMPLE_TYPE = UNSIGNED_INTEGER
  SAMPLE_BITS = 8
  BANDS = 1
  BAND_STORAGE_TYPE = BAND_SEQUENTIAL
  MAXIMUM = 255
  MEAN = 144.735
  MINIMUM = 1
  STANDARD_DEVIATION = 23.9409
END_OBJECT = IMAGE
/* MAP OBJECT DEFINITIONS */
OBJECT = IMAGE_MAP_PROJECTION
  ^DATA_SET_MAP_PROJECTION_CATALOG= "DSMAP.CAT"
  A_AXIS_RADIUS = 3396.0
  B_AXIS_RADIUS = 3396.0
  C_AXIS_RADIUS = 3396.0
  CENTER_LATITUDE = 0.0
  CENTER_LONGITUDE = 8.0
  COORDINATE_SYSTEM_NAME = PLANETOGRAPHIC
  COORDINATE_SYSTEM_TYPE = "BODY-FIXED ROTATING"
  EASTERNMOST_LONGITUDE = 8.945
  FIRST_STANDARD_PARALLEL = "N/A"
  LINE_FIRST_PIXEL = 1
  LINE_LAST_PIXEL = 19438
  LINE_PROJECTION_OFFSET = -49030.25
  MAP_PROJECTION_ROTATION = 0.0
  MAP_PROJECTION_TYPE = SINUSOIDAL
  MAP_RESOLUTION = 2370.85521546667
  MAP_SCALE = 0.025
  MAXIMUM_LATITUDE = -20.6869
  MINIMUM_LATITUDE = -28.9092
  POSITIVE_LONGITUDE_DIRECTION = EAST
  REFERENCE_LATITUDE = "N/A"
  REFERENCE_LONGITUDE = "N/A"
  SAMPLE_FIRST_PIXEL = 1
  SAMPLE_LAST_PIXEL = 2864
  SAMPLE_PROJECTION_OFFSET = 685.75
  SECOND_STANDARD_PARALLEL = "N/A"
  WESTERNMOST_LONGITUDE = 7.68681
END_OBJECT = IMAGE_MAP_PROJECTION
/* The JPEG2000 image data file associated with this label. */
OBJECT = COMPRESSED_FILE
  FILE_NAME = "H4207_0000_S23.JP2"
  RECORD_TYPE = UNDEFINED
  FILE_RECORDS = UNK
  ENCODING_TYPE = "JP2"
  INTERCHANGE_FORMAT = BINARY
  UNCOMPRESSED_FILE_NAME = "H4207_0000_S23.IMG"
  REQUIRED_STORAGE_BYTES = "55693344"
  ^DESCRIPTION = "JP2INFO.TXT"
END_OBJECT = COMPRESSED_FILE
END
