PDS_VERSION_ID = PDS3
/* FILE DATA ELEMENTS */
RECORD_TYPE = STREAM
/* POINTERS TO DATA OBJECTS */
^COMPRESSED_FILE = "H4208_0000_RE3.JP2"
/* IDENTIFICATION DATA ELEMENTS */
DATA_SET_ID = "MEX-M-HRSC-5-REFDR-MAPPROJECTED-V3.0"
DATA_SET_NAME = "MARS EXPRESS HRSC MAP PROJECTED REFDR V3.0"
DETECTOR_ID = MEX_HRSC_RED
EVENT_TYPE = "MARS-LOCAL-STEREO-Te"
INSTRUMENT_HOST_ID = MEX
INSTRUMENT_HOST_NAME = "MARS EXPRESS"
INSTRUMENT_ID = HRSC
INSTRUMENT_NAME = "HIGH RESOLUTION STEREO CAMERA"
MISSION_NAME = "MARS EXPRESS"
MISSION_PHASE_NAME = ME_Phase_7
PROCESSING_LEVEL_ID = 3
PRODUCT_CREATION_TIME = 2016-04-21T04:35:46.000Z
PRODUCT_ID = "H4208_0000_RE3.JP2"
RELEASE_ID = 0048
REVISION_ID = 0000
/* QUALITY DATA ELEMENTS */
DATA_QUALITY_ID = 2
DATA_QUALITY_DESC = "Data calculated based on photogrammetrically improved orbit and attitude data"
/* TIME DATA ELEMENTS */
SPACECRAFT_CLOCK_START_COUNT = "1/0124759909.07275"
SPACECRAFT_CLOCK_STOP_COUNT = "1/0124760161.07672"
START_TIME = 2007-04-15T23:31:58.162Z
STOP_TIME = 2007-04-15T23:34:58.534Z
/* ORBITAL DATA ELEMENTS */
ASCENDING_NODE_LONGITUDE = 140.15
MAXIMUM_RESOLUTION = 100.6
FOOTPRINT_POINT_LATITUDE = (-14.7565,-14.7534,-14.7506,-14.7456, -14.7659,-14.5419,-14.2026,-13.8636, -13.6375,-13.2983,-13.0719,-12.8458, -12.6201,-12.394,-12.1688,-11.8287, -11.6017,-11.3721,-11.0212,-10.7867, -10.4356,-10.0841,-9.73254,-9.49509, -9.26106,-9.01747,-8.66418,-8.42333, -8.18112,-7.93618,-7.68877,-7.45384, -7.07402,-6.82228,-6.56183,-6.31238, -6.07965,-5.82444,-5.5641,-5.33273, -5.08402,-4.82885,-4.58088,-4.34205, -4.09348,-3.84435,-3.59344,-3.3457, -3.09631,-2.75929,-2.7619,-2.76357, -2.76455,-2.76563,-2.76797,-3.01697, -3.26656,-3.64058,-3.88991,-4.25697, -4.61328,-4.86769,-5.11413,-5.47894, -5.75165,-6.0105,-6.24609,-6.49744, -6.73483,-6.99025,-7.37942,-7.74367, -7.98603,-8.22794,-8.47029,-8.71206, -9.06614,-9.30893,-9.54362,-9.77818, -10.0125,-10.3642,-10.5988,-10.8345, -11.0686,-11.2977,-11.5274,-11.753, -11.9801,-12.2106,-12.442,-12.7802, -13.0062,-13.2326,-13.4594,-13.6849, -13.9112,-14.1374,-14.3638,-14.7565)
FOOTPRINT_POINT_LONGITUDE = (270.399,270.112,269.896,269.576, 269.365,269.365,269.365,269.364,269.363 ,269.362,269.362,269.361,269.36,269.359 ,269.358,269.356,269.355,269.353, 269.351,269.349,269.347,269.344,269.341 ,269.337,269.335,269.329,269.33,269.328 ,269.326,269.321,269.316,269.316, 269.304,269.3,269.291,269.288,269.293, 269.287,269.278,269.283,269.279,269.272 ,269.269,269.27,269.266,269.262,269.256 ,269.252,269.247,269.241,269.572, 269.809,269.998,270.187,270.5,270.499, 270.497,270.495,270.493,270.492,270.494 ,270.492,270.491,270.491,270.485, 270.481,270.483,270.482,270.483,270.481 ,270.474,270.472,270.47,270.469,270.468 ,270.467,270.468,270.465,270.464, 270.463,270.462,270.46,270.46,270.458, 270.457,270.458,270.458,270.457,270.456 ,270.454,270.452,270.451,270.451,270.45 ,270.449,270.448,270.448,270.447, 270.446,270.399)
ORBIT_NUMBER = 4208
ORBITAL_ECCENTRICITY = 0.572
ORBITAL_INCLINATION = 86.68
ORBITAL_SEMIMAJOR_AXIS = 8617.53
PERIAPSIS_ALTITUDE = 298.28
PERIAPSIS_ARGUMENT_ANGLE = 336.83
PERIAPSIS_TIME = 2007-04-15T23:30:14.000Z
SPACECRAFT_ORIENTATION = (0.0,1.0,0.0)
^MEX_ORIENTATION_DESC = "MEX_ORIENTATION_DESC.TXT"
SPACECRAFT_POINTING_MODE = ACROSSTRACK
^MEX_POINTING_DESC = "MEX_POINTING_DESC.TXT"
RIGHT_ASCENSION = -1e+32
DECLINATION = -1e+32
OFFSET_ANGLE = 0.2
SPACECRAFT_SOLAR_DISTANCE = 2.09246e+08
TARGET_NAME = MARS
/* CAMERA DATA ELEMENTS */
DETECTOR_TEMPERATURE = 18.7783
FOCAL_PLANE_TEMPERATURE = 8.9911
INST_CMPRS_NAME = "DISCRETE COSINE TRANSFORMATION (DCT)"
INST_CMPRS_RATIO = 9.35211
INST_CMPRS_QUALITY = 0
INST_CMPRS_QUANTZ_TBL_ID = 0
INSTRUMENT_TEMPERATURE = 11.6418
LENS_TEMPERATURE = 9.3989
MACROPIXEL_SIZE = 8
MISSING_FRAMES = 0
PIXEL_SUBSAMPLING_FLAG = N
SIGNAL_CHAIN_ID = 2
/* RADIOMETRIC DATA ELEMENTS */
BANDWIDTH = 48.0
CENTER_FILTER_WAVELENGTH = 748.0
RADIANCE_OFFSET = 0.907962
RADIANCE_SCALING_FACTOR = 0.00987267
REFLECTANCE_SCALING_FACTOR = 0.000986449
MEX:REFLECTANCE_OFFSET = 0.090721
/* IMAGE OBJECT DEFINITIONS */
OBJECT = IMAGE
  INTERCHANGE_FORMAT = BINARY
  LINES = 7128
  LINE_SAMPLES = 836
  SAMPLE_TYPE = UNSIGNED_INTEGER
  SAMPLE_BITS = 8
  BANDS = 1
  BAND_STORAGE_TYPE = BAND_SEQUENTIAL
  MAXIMUM = 255
  MEAN = 93.396
  MINIMUM = 1
  STANDARD_DEVIATION = 29.6144
END_OBJECT = IMAGE
/* MAP OBJECT DEFINITIONS */
OBJECT = IMAGE_MAP_PROJECTION
  ^DATA_SET_MAP_PROJECTION_CATALOG= "DSMAP.CAT"
  A_AXIS_RADIUS = 3396.0
  B_AXIS_RADIUS = 3396.0
  C_AXIS_RADIUS = 3396.0
  CENTER_LATITUDE = 0.0
  CENTER_LONGITUDE = 270.0
  COORDINATE_SYSTEM_NAME = PLANETOGRAPHIC
  COORDINATE_SYSTEM_TYPE = "BODY-FIXED ROTATING"
  EASTERNMOST_LONGITUDE = 270.5
  FIRST_STANDARD_PARALLEL = "N/A"
  LINE_FIRST_PIXEL = 1
  LINE_LAST_PIXEL = 7128
  LINE_PROJECTION_OFFSET = -1627.6875
  MAP_PROJECTION_ROTATION = 0.0
  MAP_PROJECTION_TYPE = SINUSOIDAL
  MAP_RESOLUTION = 592.713803866667
  MAP_SCALE = 0.1
  MAXIMUM_LATITUDE = -2.75929
  MINIMUM_LATITUDE = -14.7659
  POSITIVE_LONGITUDE_DIRECTION = EAST
  REFERENCE_LATITUDE = "N/A"
  REFERENCE_LONGITUDE = "N/A"
  SAMPLE_FIRST_PIXEL = 1
  SAMPLE_LAST_PIXEL = 836
  SAMPLE_PROJECTION_OFFSET = 503.0625
  SECOND_STANDARD_PARALLEL = "N/A"
  WESTERNMOST_LONGITUDE = 269.241
END_OBJECT = IMAGE_MAP_PROJECTION
/* The JPEG2000 image data file associated with this label. */
OBJECT = COMPRESSED_FILE
  FILE_NAME = "H4208_0000_RE3.JP2"
  RECORD_TYPE = UNDEFINED
  FILE_RECORDS = UNK
  ENCODING_TYPE = "JP2"
  INTERCHANGE_FORMAT = BINARY
  UNCOMPRESSED_FILE_NAME = "H4208_0000_RE3.IMG"
  REQUIRED_STORAGE_BYTES = "5977400"
  ^DESCRIPTION = "JP2INFO.TXT"
END_OBJECT = COMPRESSED_FILE
END
