PDS_VERSION_ID = PDS3
/* FILE DATA ELEMENTS */
RECORD_TYPE = STREAM
/* POINTERS TO DATA OBJECTS */
^COMPRESSED_FILE = "H4208_0000_S13.JP2"
/* IDENTIFICATION DATA ELEMENTS */
DATA_SET_ID = "MEX-M-HRSC-5-REFDR-MAPPROJECTED-V3.0"
DATA_SET_NAME = "MARS EXPRESS HRSC MAP PROJECTED REFDR V3.0"
DETECTOR_ID = MEX_HRSC_S1
EVENT_TYPE = "MARS-LOCAL-STEREO-Te"
INSTRUMENT_HOST_ID = MEX
INSTRUMENT_HOST_NAME = "MARS EXPRESS"
INSTRUMENT_ID = HRSC
INSTRUMENT_NAME = "HIGH RESOLUTION STEREO CAMERA"
MISSION_NAME = "MARS EXPRESS"
MISSION_PHASE_NAME = ME_Phase_7
PROCESSING_LEVEL_ID = 3
PRODUCT_CREATION_TIME = 2016-04-21T04:35:46.000Z
PRODUCT_ID = "H4208_0000_S13.JP2"
RELEASE_ID = 0048
REVISION_ID = 0000
/* QUALITY DATA ELEMENTS */
DATA_QUALITY_ID = 2
DATA_QUALITY_DESC = "Data calculated based on photogrammetrically improved orbit and attitude data"
/* TIME DATA ELEMENTS */
SPACECRAFT_CLOCK_START_COUNT = "1/0124759909.07275"
SPACECRAFT_CLOCK_STOP_COUNT = "1/0124760161.07672"
START_TIME = 2007-04-15T23:32:48.397Z
STOP_TIME = 2007-04-15T23:36:03.299Z
/* ORBITAL DATA ELEMENTS */
ASCENDING_NODE_LONGITUDE = 140.15
MAXIMUM_RESOLUTION = 26.5
FOOTPRINT_POINT_LATITUDE = (-14.7649,-14.7696,-14.7745,-14.6327, -14.4075,-14.1828,-13.8458,-13.6215, -13.3971,-13.1738,-12.8388,-12.6153, -12.3885,-12.1575,-11.9271,-11.6971, -11.4693,-11.2399,-11.0117,-10.6696, -10.3171,-10.0823,-9.73038,-9.38352, -9.15011,-8.92534,-8.68477,-8.44738, -8.21496,-7.98461,-7.76517,-7.52681, -7.29086,-7.08546,-6.85362,-6.52487, -6.14292,-5.86306,-5.60739,-5.3182, -5.04703,-4.63903,-4.35972,-4.09131, -3.8235,-3.55936,-3.28993,-3.02432, -2.75926,-2.73965,-2.73269,-2.72822, -2.7239,-2.71926,-2.98463,-3.25004, -3.51697,-3.78457,-4.19837,-4.48884, -4.7512,-5.02587,-5.29249,-5.57438, -5.81388,-6.2369,-6.59229,-6.83322, -7.05266,-7.26619,-7.49387,-7.71942, -8.06681,-8.29901,-8.53161,-8.76513, -9.00924,-9.34988,-9.58341,-9.81791, -10.1705,-10.4055,-10.64,-10.8667, -11.0993,-11.4495,-11.6798,-12.0222, -12.2461,-12.4744,-12.6989,-12.9226, -13.1464,-13.37,-13.5948,-13.9317, -14.269,-14.4942,-14.7198,-14.7649)
FOOTPRINT_POINT_LONGITUDE = (270.163,269.808,269.451,269.337, 269.336,269.335,269.333,269.332,269.331 ,269.329,269.327,269.326,269.324, 269.323,269.321,269.319,269.316,269.315 ,269.312,269.308,269.305,269.302, 269.298,269.292,269.289,269.282,269.282 ,269.281,269.278,269.274,269.265, 269.265,269.263,269.249,269.246,269.234 ,269.233,269.231,269.219,269.221, 269.216,269.209,269.207,269.201,269.195 ,269.188,269.183,269.176,269.17,269.359 ,269.698,269.968,270.197,270.564, 270.561,270.558,270.555,270.552,270.551 ,270.553,270.548,270.546,270.543, 270.543,270.533,270.532,270.53,270.53, 270.526,270.52,270.518,270.515,270.512, 270.51,270.508,270.507,270.507,270.502, 270.501,270.499,270.496,270.495,270.493 ,270.491,270.49,270.489,270.488,270.485 ,270.482,270.48,270.479,270.478,270.477 ,270.475,270.474,270.472,270.47,270.469 ,270.467,270.163)
ORBIT_NUMBER = 4208
ORBITAL_ECCENTRICITY = 0.572
ORBITAL_INCLINATION = 86.68
ORBITAL_SEMIMAJOR_AXIS = 8617.53
PERIAPSIS_ALTITUDE = 298.28
PERIAPSIS_ARGUMENT_ANGLE = 336.83
PERIAPSIS_TIME = 2007-04-15T23:30:14.000Z
SPACECRAFT_ORIENTATION = (0.0,1.0,0.0)
^MEX_ORIENTATION_DESC = "MEX_ORIENTATION_DESC.TXT"
SPACECRAFT_POINTING_MODE = ACROSSTRACK
^MEX_POINTING_DESC = "MEX_POINTING_DESC.TXT"
RIGHT_ASCENSION = -1e+32
DECLINATION = -1e+32
OFFSET_ANGLE = 0.2
SPACECRAFT_SOLAR_DISTANCE = 2.09246e+08
TARGET_NAME = MARS
/* CAMERA DATA ELEMENTS */
DETECTOR_TEMPERATURE = 17.351
FOCAL_PLANE_TEMPERATURE = 8.9911
INST_CMPRS_NAME = "DISCRETE COSINE TRANSFORMATION (DCT)"
INST_CMPRS_RATIO = 9.18928
INST_CMPRS_QUALITY = 0
INST_CMPRS_QUANTZ_TBL_ID = 0
INSTRUMENT_TEMPERATURE = 11.6418
LENS_TEMPERATURE = 9.3989
MACROPIXEL_SIZE = 2
MISSING_FRAMES = 0
PIXEL_SUBSAMPLING_FLAG = N
SIGNAL_CHAIN_ID = 1
/* RADIOMETRIC DATA ELEMENTS */
BANDWIDTH = 180.0
CENTER_FILTER_WAVELENGTH = 677.0
RADIANCE_OFFSET = 3.5814
RADIANCE_SCALING_FACTOR = 0.0364054
REFLECTANCE_SCALING_FACTOR = 0.000831618
MEX:REFLECTANCE_OFFSET = 0.081811
/* IMAGE OBJECT DEFINITIONS */
OBJECT = IMAGE
  INTERCHANGE_FORMAT = BINARY
  LINES = 28512
  LINE_SAMPLES = 3341
  SAMPLE_TYPE = UNSIGNED_INTEGER
  SAMPLE_BITS = 8
  BANDS = 1
  BAND_STORAGE_TYPE = BAND_SEQUENTIAL
  MAXIMUM = 255
  MEAN = 91.1887
  MINIMUM = 1
  STANDARD_DEVIATION = 29.6573
END_OBJECT = IMAGE
/* MAP OBJECT DEFINITIONS */
OBJECT = IMAGE_MAP_PROJECTION
  ^DATA_SET_MAP_PROJECTION_CATALOG= "DSMAP.CAT"
  A_AXIS_RADIUS = 3396.0
  B_AXIS_RADIUS = 3396.0
  C_AXIS_RADIUS = 3396.0
  CENTER_LATITUDE = 0.0
  CENTER_LONGITUDE = 270.0
  COORDINATE_SYSTEM_NAME = PLANETOGRAPHIC
  COORDINATE_SYSTEM_TYPE = "BODY-FIXED ROTATING"
  EASTERNMOST_LONGITUDE = 270.564
  FIRST_STANDARD_PARALLEL = "N/A"
  LINE_FIRST_PIXEL = 1
  LINE_LAST_PIXEL = 28512
  LINE_PROJECTION_OFFSET = -6509.25
  MAP_PROJECTION_ROTATION = 0.0
  MAP_PROJECTION_TYPE = SINUSOIDAL
  MAP_RESOLUTION = 2370.85521546667
  MAP_SCALE = 0.025
  MAXIMUM_LATITUDE = -2.71926
  MINIMUM_LATITUDE = -14.7745
  POSITIVE_LONGITUDE_DIRECTION = EAST
  REFERENCE_LATITUDE = "N/A"
  REFERENCE_LONGITUDE = "N/A"
  SAMPLE_FIRST_PIXEL = 1
  SAMPLE_LAST_PIXEL = 3341
  SAMPLE_PROJECTION_OFFSET = 2013.75
  SECOND_STANDARD_PARALLEL = "N/A"
  WESTERNMOST_LONGITUDE = 269.17
END_OBJECT = IMAGE_MAP_PROJECTION
/* The JPEG2000 image data file associated with this label. */
OBJECT = COMPRESSED_FILE
  FILE_NAME = "H4208_0000_S13.JP2"
  RECORD_TYPE = UNDEFINED
  FILE_RECORDS = UNK
  ENCODING_TYPE = "JP2"
  INTERCHANGE_FORMAT = BINARY
  UNCOMPRESSED_FILE_NAME = "H4208_0000_S13.IMG"
  REQUIRED_STORAGE_BYTES = "95281979"
  ^DESCRIPTION = "JP2INFO.TXT"
END_OBJECT = COMPRESSED_FILE
END
