PDS_VERSION_ID = PDS3
/* FILE DATA ELEMENTS */
RECORD_TYPE = STREAM
/* POINTERS TO DATA OBJECTS */
^COMPRESSED_FILE = "H4209_0000_IR3.JP2"
/* IDENTIFICATION DATA ELEMENTS */
DATA_SET_ID = "MEX-M-HRSC-5-REFDR-MAPPROJECTED-V3.0"
DATA_SET_NAME = "MARS EXPRESS HRSC MAP PROJECTED REFDR V3.0"
DETECTOR_ID = MEX_HRSC_IR
EVENT_TYPE = "MARS-REGIONAL-MAPPING-Im-Fl-Mw"
INSTRUMENT_HOST_ID = MEX
INSTRUMENT_HOST_NAME = "MARS EXPRESS"
INSTRUMENT_ID = HRSC
INSTRUMENT_NAME = "HIGH RESOLUTION STEREO CAMERA"
MISSION_NAME = "MARS EXPRESS"
MISSION_PHASE_NAME = ME_Phase_7
PROCESSING_LEVEL_ID = 3
PRODUCT_CREATION_TIME = 2016-04-21T04:35:46.000Z
PRODUCT_ID = "H4209_0000_IR3.JP2"
RELEASE_ID = 0048
REVISION_ID = 0000
/* QUALITY DATA ELEMENTS */
DATA_QUALITY_ID = 2
DATA_QUALITY_DESC = "Data calculated based on photogrammetrically improved orbit and attitude data"
/* TIME DATA ELEMENTS */
SPACECRAFT_CLOCK_START_COUNT = "1/0124783677.07298"
SPACECRAFT_CLOCK_STOP_COUNT = "1/0124783968.15007"
START_TIME = 2007-04-16T06:09:05.345Z
STOP_TIME = 2007-04-16T06:12:45.716Z
/* ORBITAL DATA ELEMENTS */
ASCENDING_NODE_LONGITUDE = 140.12
MAXIMUM_RESOLUTION = 100.1
FOOTPRINT_POINT_LATITUDE = (-41.6871,-41.6831,-41.6774,-41.6723, -41.6629,-41.531,-41.2213,-41.0642, -40.7506,-40.4403,-40.128,-39.818, -39.5048,-39.036,-38.5662,-38.4093, -38.2524,-37.9398,-37.6296,-37.3313, -36.8737,-36.5617,-36.2649,-35.9667, -35.5231,-35.2295,-34.9354,-34.4941, -34.0546,-33.7606,-33.4671,-33.1802, -32.8965,-32.611,-32.3266,-31.9007, -31.6212,-31.3378,-31.0514,-30.6248, -30.2022,-29.921,-29.648,-29.3749, -29.1019,-28.6918,-28.2824,-27.8744, -27.5997,-27.327,-27.0543,-27.0283, -27.0296,-27.0316,-27.1746,-27.4475, -27.8565,-28.2746,-28.5396,-28.8131, -29.0877,-29.3611,-29.6346,-29.908, -30.1864,-30.4703,-30.896,-31.3219, -31.7483,-32.0327,-32.4596,-32.7444, -33.0286,-33.3132,-33.7526,-34.1949, -34.6365,-34.9308,-35.2249,-35.5187, -35.8121,-36.1143,-36.4179,-36.7218, -37.0252,-37.479,-37.7824,-38.0947, -38.4082,-38.7219,-39.0348,-39.3476, -39.5065,-39.6635,-39.9739,-40.2867, -40.7554,-41.0679,-41.5364,-41.6871)
FOOTPRINT_POINT_LONGITUDE = (172.122,171.891,171.598,171.352, 170.936,170.628,170.648,170.659,170.68, 170.699,170.719,170.736,170.755,170.782 ,170.809,170.817,170.826,170.842, 170.859,170.872,170.896,170.914,170.925 ,170.936,170.955,170.967,170.98,170.998 ,171.015,171.026,171.037,171.047, 171.057,171.067,171.077,171.091,171.098 ,171.106,171.116,171.129,171.139, 171.148,171.155,171.161,171.168,171.178 ,171.187,171.195,171.202,171.207, 171.212,171.419,171.606,172.087,172.379 ,172.379,172.377,172.379,172.374, 172.374,172.373,172.372,172.371,172.37, 172.369,172.368,172.366,172.364,172.362 ,172.361,172.359,172.358,172.357, 172.356,172.354,172.352,172.35,172.348, 172.347,172.345,172.343,172.34,172.338, 172.336,172.334,172.33,172.328,172.325, 172.323,172.321,172.318,172.315,172.315 ,172.314,172.31,172.307,172.302,172.299 ,172.295,172.122)
ORBIT_NUMBER = 4209
ORBITAL_ECCENTRICITY = 0.571
ORBITAL_INCLINATION = 86.69
ORBITAL_SEMIMAJOR_AXIS = 8606.12
PERIAPSIS_ALTITUDE = 298.92
PERIAPSIS_ARGUMENT_ANGLE = 336.67
PERIAPSIS_TIME = 2007-04-16T06:13:21.000Z
SPACECRAFT_ORIENTATION = (0.0,1.0,0.0)
^MEX_ORIENTATION_DESC = "MEX_ORIENTATION_DESC.TXT"
SPACECRAFT_POINTING_MODE = NADIR
^MEX_POINTING_DESC = "MEX_POINTING_DESC.TXT"
RIGHT_ASCENSION = -1e+32
DECLINATION = -1e+32
OFFSET_ANGLE = -1e+32
SPACECRAFT_SOLAR_DISTANCE = 2.09218e+08
TARGET_NAME = MARS
/* CAMERA DATA ELEMENTS */
DETECTOR_TEMPERATURE = 17.7588
FOCAL_PLANE_TEMPERATURE = 8.7872
INST_CMPRS_NAME = "DISCRETE COSINE TRANSFORMATION (DCT)"
INST_CMPRS_RATIO = 7.84257
INST_CMPRS_QUALITY = 0
INST_CMPRS_QUANTZ_TBL_ID = 0
INSTRUMENT_TEMPERATURE = 11.4379
LENS_TEMPERATURE = 9.195
MACROPIXEL_SIZE = 8
MISSING_FRAMES = 0
PIXEL_SUBSAMPLING_FLAG = N
SIGNAL_CHAIN_ID = 2
/* RADIOMETRIC DATA ELEMENTS */
BANDWIDTH = 81.0
CENTER_FILTER_WAVELENGTH = 955.5
RADIANCE_OFFSET = 0.993212
RADIANCE_SCALING_FACTOR = 0.00441659
REFLECTANCE_SCALING_FACTOR = 0.000417075
MEX:REFLECTANCE_OFFSET = 0.0937927
/* IMAGE OBJECT DEFINITIONS */
OBJECT = IMAGE
  INTERCHANGE_FORMAT = BINARY
  LINES = 8723
  LINE_SAMPLES = 866
  SAMPLE_TYPE = UNSIGNED_INTEGER
  SAMPLE_BITS = 8
  BANDS = 1
  BAND_STORAGE_TYPE = BAND_SEQUENTIAL
  MAXIMUM = 255
  MEAN = 88.0333
  MINIMUM = 1
  STANDARD_DEVIATION = 21.6212
END_OBJECT = IMAGE
/* MAP OBJECT DEFINITIONS */
OBJECT = IMAGE_MAP_PROJECTION
  ^DATA_SET_MAP_PROJECTION_CATALOG= "DSMAP.CAT"
  A_AXIS_RADIUS = 3396.0
  B_AXIS_RADIUS = 3396.0
  C_AXIS_RADIUS = 3396.0
  CENTER_LATITUDE = 0.0
  CENTER_LONGITUDE = 172.0
  COORDINATE_SYSTEM_NAME = PLANETOGRAPHIC
  COORDINATE_SYSTEM_TYPE = "BODY-FIXED ROTATING"
  EASTERNMOST_LONGITUDE = 172.379
  FIRST_STANDARD_PARALLEL = "N/A"
  LINE_FIRST_PIXEL = 1
  LINE_LAST_PIXEL = 8723
  LINE_PROJECTION_OFFSET = -16014.9375
  MAP_PROJECTION_ROTATION = 0.0
  MAP_PROJECTION_TYPE = SINUSOIDAL
  MAP_RESOLUTION = 592.713803866667
  MAP_SCALE = 0.1
  MAXIMUM_LATITUDE = -27.0283
  MINIMUM_LATITUDE = -41.6871
  POSITIVE_LONGITUDE_DIRECTION = EAST
  REFERENCE_LATITUDE = "N/A"
  REFERENCE_LONGITUDE = "N/A"
  SAMPLE_FIRST_PIXEL = 1
  SAMPLE_LAST_PIXEL = 866
  SAMPLE_PROJECTION_OFFSET = 642.8125
  SECOND_STANDARD_PARALLEL = "N/A"
  WESTERNMOST_LONGITUDE = 170.628
END_OBJECT = IMAGE_MAP_PROJECTION
/* The JPEG2000 image data file associated with this label. */
OBJECT = COMPRESSED_FILE
  FILE_NAME = "H4209_0000_IR3.JP2"
  RECORD_TYPE = UNDEFINED
  FILE_RECORDS = UNK
  ENCODING_TYPE = "JP2"
  INTERCHANGE_FORMAT = BINARY
  UNCOMPRESSED_FILE_NAME = "H4209_0000_IR3.IMG"
  REQUIRED_STORAGE_BYTES = "7572304"
  ^DESCRIPTION = "JP2INFO.TXT"
END_OBJECT = COMPRESSED_FILE
END
