PDS_VERSION_ID = PDS3
/* FILE DATA ELEMENTS */
RECORD_TYPE = STREAM
/* POINTERS TO DATA OBJECTS */
^COMPRESSED_FILE = "H4209_0000_P13.JP2"
/* IDENTIFICATION DATA ELEMENTS */
DATA_SET_ID = "MEX-M-HRSC-5-REFDR-MAPPROJECTED-V3.0"
DATA_SET_NAME = "MARS EXPRESS HRSC MAP PROJECTED REFDR V3.0"
DETECTOR_ID = MEX_HRSC_P1
EVENT_TYPE = "MARS-REGIONAL-MAPPING-Im-Fl-Mw"
INSTRUMENT_HOST_ID = MEX
INSTRUMENT_HOST_NAME = "MARS EXPRESS"
INSTRUMENT_ID = HRSC
INSTRUMENT_NAME = "HIGH RESOLUTION STEREO CAMERA"
MISSION_NAME = "MARS EXPRESS"
MISSION_PHASE_NAME = ME_Phase_7
PROCESSING_LEVEL_ID = 3
PRODUCT_CREATION_TIME = 2016-04-21T04:35:46.000Z
PRODUCT_ID = "H4209_0000_P13.JP2"
RELEASE_ID = 0048
REVISION_ID = 0000
/* QUALITY DATA ELEMENTS */
DATA_QUALITY_ID = 2
DATA_QUALITY_DESC = "Data calculated based on photogrammetrically improved orbit and attitude data"
/* TIME DATA ELEMENTS */
SPACECRAFT_CLOCK_START_COUNT = "1/0124783677.07298"
SPACECRAFT_CLOCK_STOP_COUNT = "1/0124783968.15007"
START_TIME = 2007-04-16T06:08:59.905Z
STOP_TIME = 2007-04-16T06:12:41.272Z
/* ORBITAL DATA ELEMENTS */
ASCENDING_NODE_LONGITUDE = 140.12
MAXIMUM_RESOLUTION = 24.6
FOOTPRINT_POINT_LATITUDE = (-41.6905,-41.6845,-41.676,-41.6702, -41.6632,-41.5288,-41.2202,-40.9077, -40.4431,-39.9768,-39.6675,-39.3555, -39.0444,-38.7327,-38.4207,-37.9528, -37.4848,-37.1829,-36.8779,-36.5685, -36.2721,-35.973,-35.6715,-35.3726, -35.0796,-34.7853,-34.4924,-34.2, -33.9065,-33.6134,-33.32,-33.0275, -32.7433,-32.317,-32.0333,-31.7497, -31.4694,-31.1859,-30.8989,-30.6158, -30.3342,-30.0507,-29.6279,-29.3547, -29.0814,-28.8085,-28.3983,-27.9896, -27.5778,-27.3047,-27.0316,-27.0223, -27.0243,-27.0285,-27.0293,-27.1686, -27.442,-27.8517,-28.2686,-28.5356, -28.8094,-29.0839,-29.3576,-29.6312, -29.9106,-30.1945,-30.6204,-30.9042, -31.3301,-31.6143,-32.041,-32.467, -32.7513,-33.0353,-33.3282,-33.6225, -33.9167,-34.2111,-34.5048,-34.9456, -35.3858,-35.836,-36.1387,-36.4414, -36.7448,-37.0475,-37.349,-37.6573, -37.9698,-38.2824,-38.5948,-38.9069, -39.3754,-39.6886,-39.9982,-40.3099, -40.7764,-41.0875,-41.5537,-41.6905)
FOOTPRINT_POINT_LONGITUDE = (172.12,171.781,171.362,171.104,170.813 ,170.607,170.627,170.65,170.679,170.709 ,170.726,170.746,170.764,170.781, 170.799,170.824,170.848,170.863,170.879 ,170.898,170.909,170.92,170.933,170.946 ,170.958,170.971,170.983,170.994, 171.006,171.017,171.028,171.038,171.049 ,171.064,171.073,171.082,171.089, 171.098,171.108,171.116,171.123,171.131 ,171.143,171.15,171.156,171.163,171.172 ,171.181,171.191,171.196,171.202, 171.384,171.601,171.966,172.171,172.38, 172.379,172.378,172.38,172.375,172.374, 172.374,172.373,172.372,172.371,172.37, 172.368,172.367,172.365,172.364,172.363 ,172.361,172.36,172.359,172.358,172.357 ,172.356,172.354,172.353,172.351, 172.348,172.345,172.343,172.341,172.339 ,172.337,172.334,172.332,172.33,172.328 ,172.325,172.323,172.319,172.318, 172.314,172.311,172.307,172.304,172.3, 172.12)
ORBIT_NUMBER = 4209
ORBITAL_ECCENTRICITY = 0.571
ORBITAL_INCLINATION = 86.69
ORBITAL_SEMIMAJOR_AXIS = 8606.12
PERIAPSIS_ALTITUDE = 298.92
PERIAPSIS_ARGUMENT_ANGLE = 336.67
PERIAPSIS_TIME = 2007-04-16T06:13:21.000Z
SPACECRAFT_ORIENTATION = (0.0,1.0,0.0)
^MEX_ORIENTATION_DESC = "MEX_ORIENTATION_DESC.TXT"
SPACECRAFT_POINTING_MODE = NADIR
^MEX_POINTING_DESC = "MEX_POINTING_DESC.TXT"
RIGHT_ASCENSION = -1e+32
DECLINATION = -1e+32
OFFSET_ANGLE = -1e+32
SPACECRAFT_SOLAR_DISTANCE = 2.09218e+08
TARGET_NAME = MARS
/* CAMERA DATA ELEMENTS */
DETECTOR_TEMPERATURE = 17.7588
FOCAL_PLANE_TEMPERATURE = 8.7872
INST_CMPRS_NAME = "DISCRETE COSINE TRANSFORMATION (DCT)"
INST_CMPRS_RATIO = 7.53952
INST_CMPRS_QUALITY = 0
INST_CMPRS_QUANTZ_TBL_ID = 0
INSTRUMENT_TEMPERATURE = 11.4379
LENS_TEMPERATURE = 9.195
MACROPIXEL_SIZE = 2
MISSING_FRAMES = 0
PIXEL_SUBSAMPLING_FLAG = N
SIGNAL_CHAIN_ID = 3
/* RADIOMETRIC DATA ELEMENTS */
BANDWIDTH = 174.0
CENTER_FILTER_WAVELENGTH = 675.0
RADIANCE_OFFSET = 4.07211
RADIANCE_SCALING_FACTOR = 0.0165313
REFLECTANCE_SCALING_FACTOR = 0.000389217
MEX:REFLECTANCE_OFFSET = 0.0958746
/* IMAGE OBJECT DEFINITIONS */
OBJECT = IMAGE
  INTERCHANGE_FORMAT = BINARY
  LINES = 34889
  LINE_SAMPLES = 3461
  SAMPLE_TYPE = UNSIGNED_INTEGER
  SAMPLE_BITS = 8
  BANDS = 1
  BAND_STORAGE_TYPE = BAND_SEQUENTIAL
  MAXIMUM = 255
  MEAN = 105.533
  MINIMUM = 1
  STANDARD_DEVIATION = 19.5866
END_OBJECT = IMAGE
/* MAP OBJECT DEFINITIONS */
OBJECT = IMAGE_MAP_PROJECTION
  ^DATA_SET_MAP_PROJECTION_CATALOG= "DSMAP.CAT"
  A_AXIS_RADIUS = 3396.0
  B_AXIS_RADIUS = 3396.0
  C_AXIS_RADIUS = 3396.0
  CENTER_LATITUDE = 0.0
  CENTER_LONGITUDE = 172.0
  COORDINATE_SYSTEM_NAME = PLANETOGRAPHIC
  COORDINATE_SYSTEM_TYPE = "BODY-FIXED ROTATING"
  EASTERNMOST_LONGITUDE = 172.38
  FIRST_STANDARD_PARALLEL = "N/A"
  LINE_FIRST_PIXEL = 1
  LINE_LAST_PIXEL = 34889
  LINE_PROJECTION_OFFSET = -64058.25
  MAP_PROJECTION_ROTATION = 0.0
  MAP_PROJECTION_TYPE = SINUSOIDAL
  MAP_RESOLUTION = 2370.85521546667
  MAP_SCALE = 0.025
  MAXIMUM_LATITUDE = -27.0223
  MINIMUM_LATITUDE = -41.6905
  POSITIVE_LONGITUDE_DIRECTION = EAST
  REFERENCE_LATITUDE = "N/A"
  REFERENCE_LONGITUDE = "N/A"
  SAMPLE_FIRST_PIXEL = 1
  SAMPLE_LAST_PIXEL = 3461
  SAMPLE_PROJECTION_OFFSET = 2572.75
  SECOND_STANDARD_PARALLEL = "N/A"
  WESTERNMOST_LONGITUDE = 170.607
END_OBJECT = IMAGE_MAP_PROJECTION
/* The JPEG2000 image data file associated with this label. */
OBJECT = COMPRESSED_FILE
  FILE_NAME = "H4209_0000_P13.JP2"
  RECORD_TYPE = UNDEFINED
  FILE_RECORDS = UNK
  ENCODING_TYPE = "JP2"
  INTERCHANGE_FORMAT = BINARY
  UNCOMPRESSED_FILE_NAME = "H4209_0000_P13.IMG"
  REQUIRED_STORAGE_BYTES = "120775056"
  ^DESCRIPTION = "JP2INFO.TXT"
END_OBJECT = COMPRESSED_FILE
END
