PDS_VERSION_ID = PDS3
/* FILE DATA ELEMENTS */
RECORD_TYPE = STREAM
/* POINTERS TO DATA OBJECTS */
^COMPRESSED_FILE = "H4210_0003_SR3.JP2"
/* IDENTIFICATION DATA ELEMENTS */
DATA_SET_ID = "MEX-M-HRSC-5-REFDR-MAPPROJECTED-V3.0"
DATA_SET_NAME = "MARS EXPRESS HRSC MAP PROJECTED REFDR V3.0"
DETECTOR_ID = MEX_HRSC_SRC
EVENT_TYPE = "MARS-REGIONAL-MAPPING-Im-La-Ot"
INSTRUMENT_HOST_ID = MEX
INSTRUMENT_HOST_NAME = "MARS EXPRESS"
INSTRUMENT_ID = HRSC
INSTRUMENT_NAME = "HIGH RESOLUTION STEREO CAMERA"
MISSION_NAME = "MARS EXPRESS"
MISSION_PHASE_NAME = ME_Phase_7
PROCESSING_LEVEL_ID = 3
PRODUCT_CREATION_TIME = 2016-04-21T04:35:46.000Z
PRODUCT_ID = "H4210_0003_SR3.JP2"
RELEASE_ID = 0048
REVISION_ID = 0000
/* QUALITY DATA ELEMENTS */
DATA_QUALITY_ID = 1
DATA_QUALITY_DESC = "Data calculated based on original SPICE kernels"
/* TIME DATA ELEMENTS */
SPACECRAFT_CLOCK_START_COUNT = "1/0124808045.07296"
SPACECRAFT_CLOCK_STOP_COUNT = "1/0124808273.07924"
IMAGE_TIME = 2007-04-16T12:55:25.855Z
START_TIME = 2007-04-16T12:55:25.852Z
STOP_TIME = 2007-04-16T12:55:25.857Z
/* ORBITAL DATA ELEMENTS */
ASCENDING_NODE_LONGITUDE = 140.11
MAXIMUM_RESOLUTION = 2.795
FOOTPRINT_POINT_LATITUDE = (-27.503,-27.5014,-27.4991,-27.4971, -27.4956,-27.4938,-27.4914,-27.4898, -27.4881,-27.4857,-27.4831,-27.481, -27.4792,-27.4779,-27.4759,-27.4734, -27.4721,-27.47,-27.4672,-27.4658, -27.4636,-27.4611,-27.4593,-27.4578, -27.4562,-27.4562,-27.4562,-27.4563, -27.4563,-27.4563,-27.4563,-27.4563, -27.4564,-27.4564,-27.4564,-27.4564, -27.4564,-27.4564,-27.4565,-27.4565, -27.4565,-27.4565,-27.4565,-27.4565, -27.4566,-27.4566,-27.4566,-27.4566, -27.4566,-27.4567,-27.4581,-27.4594, -27.4615,-27.4637,-27.4655,-27.4667, -27.468,-27.4696,-27.4721,-27.4737, -27.4755,-27.4768,-27.4786,-27.4803, -27.4828,-27.4856,-27.4875,-27.4892, -27.4917,-27.4931,-27.4948,-27.4972, -27.4989,-27.5014,-27.5038,-27.5042, -27.5042,-27.5042,-27.5042,-27.5042, -27.5042,-27.5042,-27.5041,-27.5041, -27.5041,-27.5041,-27.5041,-27.504, -27.504,-27.504,-27.504,-27.504,-27.504 ,-27.5039,-27.5039,-27.5039,-27.5039, -27.5039,-27.5038,-27.503)
FOOTPRINT_POINT_LONGITUDE = (73.5136,73.5136,73.5136,73.5136, 73.5137,73.5137,73.5137,73.5137,73.5137 ,73.5138,73.5138,73.5138,73.5138, 73.5139,73.5139,73.5139,73.5139,73.5139 ,73.514,73.514,73.514,73.514,73.5141, 73.5141,73.5147,73.5168,73.5189,73.5211 ,73.5237,73.5259,73.528,73.5301,73.5323 ,73.5344,73.536,73.5381,73.5403,73.5424 ,73.5445,73.5467,73.5488,73.5509, 73.5531,73.5552,73.5573,73.5595,73.5616 ,73.5632,73.5653,73.5674,73.5683, 73.5683,73.5682,73.5682,73.5682,73.5682 ,73.5682,73.5681,73.5681,73.5681, 73.5681,73.5681,73.568,73.568,73.568, 73.568,73.568,73.5679,73.5679,73.5679, 73.5679,73.5678,73.5678,73.5678,73.5678 ,73.5656,73.564,73.5619,73.5597,73.5571 ,73.5549,73.5528,73.5512,73.5491, 73.5464,73.5437,73.5416,73.5395,73.5373 ,73.5352,73.5331,73.5309,73.5288, 73.5272,73.5246,73.5224,73.5208,73.5187 ,73.5155,73.5136)
ORBIT_NUMBER = 4210
ORBITAL_ECCENTRICITY = 0.571
ORBITAL_INCLINATION = 86.7
ORBITAL_SEMIMAJOR_AXIS = 8612.94
PERIAPSIS_ALTITUDE = 297.81
PERIAPSIS_ARGUMENT_ANGLE = 336.47
PERIAPSIS_TIME = 2007-04-16T12:56:26.000Z
SPACECRAFT_ORIENTATION = (0.0,1.0,0.0)
^MEX_ORIENTATION_DESC = "MEX_ORIENTATION_DESC.TXT"
SPACECRAFT_POINTING_MODE = NADIR
^MEX_POINTING_DESC = "MEX_POINTING_DESC.TXT"
RIGHT_ASCENSION = -1e+32
DECLINATION = -1e+32
OFFSET_ANGLE = -1e+32
SPACECRAFT_SOLAR_DISTANCE = 2.0919e+08
TARGET_NAME = MARS
/* CAMERA DATA ELEMENTS */
BUFFER_MODE_ID = BUFFER_8
EXPOSURE_DURATION = 5.04
INST_CMPRS_NAME = NONE
INST_CMPRS_RATIO = 1.0
INST_CMPRS_QUALITY = -2147483648
INST_CMPRS_QUANTZ_TBL_ID = -2147483648
INSTRUMENT_TEMPERATURE = 7.93752
MISSING_FRAMES = 0
START_BIT = 0
/* RADIOMETRIC DATA ELEMENTS */
BANDWIDTH = 250.0
CENTER_FILTER_WAVELENGTH = 600.0
RADIANCE_OFFSET = -9.99e+31
RADIANCE_SCALING_FACTOR = -9.99e+31
REFLECTANCE_SCALING_FACTOR = -9.99e+31
MEX:REFLECTANCE_OFFSET = -9.99e+31
/* IMAGE OBJECT DEFINITIONS */
OBJECT = IMAGE
  INTERCHANGE_FORMAT = BINARY
  LINES = 1196
  LINE_SAMPLES = 1202
  SAMPLE_TYPE = UNSIGNED_INTEGER
  SAMPLE_BITS = 8
  BANDS = 1
  BAND_STORAGE_TYPE = BAND_SEQUENTIAL
  MAXIMUM = 247
  MEAN = 158.04
  MINIMUM = 8
  STANDARD_DEVIATION = 17.3996
END_OBJECT = IMAGE
/* MAP OBJECT DEFINITIONS */
OBJECT = IMAGE_MAP_PROJECTION
  ^DATA_SET_MAP_PROJECTION_CATALOG= "DSMAP.CAT"
  A_AXIS_RADIUS = 3396.19
  B_AXIS_RADIUS = 3396.19
  C_AXIS_RADIUS = 3396.19
  CENTER_LATITUDE = 0.0
  CENTER_LONGITUDE = 74.0
  COORDINATE_SYSTEM_NAME = PLANETOGRAPHIC
  COORDINATE_SYSTEM_TYPE = "BODY-FIXED ROTATING"
  EASTERNMOST_LONGITUDE = 73.56829999999999
  FIRST_STANDARD_PARALLEL = "N/A"
  LINE_FIRST_PIXEL = 1
  LINE_LAST_PIXEL = 1196
  LINE_PROJECTION_OFFSET = -650666.0
  MAP_PROJECTION_ROTATION = 0.0
  MAP_PROJECTION_TYPE = SINUSOIDAL
  MAP_RESOLUTION = 23709.8786048756
  MAP_SCALE = 0.0025
  MAXIMUM_LATITUDE = -27.4562
  MINIMUM_LATITUDE = -27.5042
  POSITIVE_LONGITUDE_DIRECTION = EAST
  REFERENCE_LATITUDE = "N/A"
  REFERENCE_LONGITUDE = "N/A"
  SAMPLE_FIRST_PIXEL = 1
  SAMPLE_LAST_PIXEL = 1202
  SAMPLE_PROJECTION_OFFSET = 10243.0
  SECOND_STANDARD_PARALLEL = "N/A"
  WESTERNMOST_LONGITUDE = 73.5136
END_OBJECT = IMAGE_MAP_PROJECTION
/* The JPEG2000 image data file associated with this label. */
OBJECT = COMPRESSED_FILE
  FILE_NAME = "H4210_0003_SR3.JP2"
  RECORD_TYPE = UNDEFINED
  FILE_RECORDS = UNK
  ENCODING_TYPE = "JP2"
  INTERCHANGE_FORMAT = BINARY
  UNCOMPRESSED_FILE_NAME = "H4210_0003_SR3.IMG"
  REQUIRED_STORAGE_BYTES = "1456824"
  ^DESCRIPTION = "JP2INFO.TXT"
END_OBJECT = COMPRESSED_FILE
END
