PDS_VERSION_ID = PDS3
/* FILE DATA ELEMENTS */
RECORD_TYPE = STREAM
/* POINTERS TO DATA OBJECTS */
^COMPRESSED_FILE = "H4221_0000_P13.JP2"
/* IDENTIFICATION DATA ELEMENTS */
DATA_SET_ID = "MEX-M-HRSC-5-REFDR-MAPPROJECTED-V3.0"
DATA_SET_NAME = "MARS EXPRESS HRSC MAP PROJECTED REFDR V3.0"
DETECTOR_ID = MEX_HRSC_P1
EVENT_TYPE = "MARS-REGIONAL-MAPPING-Im-La"
INSTRUMENT_HOST_ID = MEX
INSTRUMENT_HOST_NAME = "MARS EXPRESS"
INSTRUMENT_ID = HRSC
INSTRUMENT_NAME = "HIGH RESOLUTION STEREO CAMERA"
MISSION_NAME = "MARS EXPRESS"
MISSION_PHASE_NAME = ME_Phase_7
PROCESSING_LEVEL_ID = 3
PRODUCT_CREATION_TIME = 2016-04-21T04:35:46.000Z
PRODUCT_ID = "H4221_0000_P13.JP2"
RELEASE_ID = 0048
REVISION_ID = 0000
/* QUALITY DATA ELEMENTS */
DATA_QUALITY_ID = 1
DATA_QUALITY_DESC = "Data calculated based on original SPICE kernels"
/* TIME DATA ELEMENTS */
SPACECRAFT_CLOCK_START_COUNT = "1/0125074146.09076"
SPACECRAFT_CLOCK_STOP_COUNT = "1/0125074387.56927"
START_TIME = 2007-04-19T14:49:55.318Z
STOP_TIME = 2007-04-19T14:53:00.426Z
/* ORBITAL DATA ELEMENTS */
ASCENDING_NODE_LONGITUDE = 139.88
MAXIMUM_RESOLUTION = 24.4
FOOTPRINT_POINT_LATITUDE = (-30.9356,-30.9333,-30.9314,-30.9283, -30.9259,-30.967,-30.5989,-30.3534, -30.1079,-29.8619,-29.6148,-29.3685, -29.1207,-28.7497,-28.5063,-28.2609, -27.8933,-27.6483,-27.2804,-26.9134, -26.4237,-26.1788,-25.9378,-25.6939, -25.4501,-25.0845,-24.7171,-24.4716, -24.2295,-23.8648,-23.4999,-23.2567, -22.8909,-22.6473,-22.2823,-22.039, -21.7939,-21.5523,-21.1919,-20.9509, -20.7097,-20.4685,-20.2276,-19.8633, -19.502,-19.2608,-19.0134,-18.7657, -18.7326,-18.7326,-18.7325,-18.7332, -18.7335,-18.9822,-19.1069,-19.351, -19.5906,-19.956,-20.3145,-20.5549, -20.7991,-21.0442,-21.2898,-21.5362, -21.7772,-22.0209,-22.2629,-22.6192, -22.8604,-23.1053,-23.3477,-23.708, -23.9504,-24.3201,-24.5672,-24.8115, -25.0554,-25.2987,-25.5424,-25.7841, -26.0303,-26.3982,-26.6413,-26.8871, -27.1392,-27.3864,-27.7538,-27.9986, -28.2435,-28.4882,-28.7331,-28.9781, -29.3443,-29.5907,-29.842,-30.0905, -30.3357,-30.5784,-30.826,-30.9356)
FOOTPRINT_POINT_LONGITUDE = (73.0327,72.7863,72.6101,72.3521, 72.1643,71.9119,71.9221,71.9287,71.9353 ,71.9419,71.9491,71.9556,71.9629, 71.9731,71.9775,71.983,71.9907,71.9957, 72.0031,72.0098,72.0186,72.0229,72.025, 72.0286,72.032,72.037,72.0427,72.0468, 72.049,72.0529,72.0568,72.0593,72.0635, 72.0661,72.0696,72.0719,72.0751,72.0764 ,72.0774,72.0783,72.0793,72.0804, 72.0812,72.0838,72.085,72.0859,72.086, 72.0857,72.3488,72.5132,72.6666,72.9955 ,73.2186,73.2174,73.2169,73.2155, 73.2139,73.2144,73.2113,73.2098,73.2101 ,73.2109,73.2117,73.213,73.2114,73.2111 ,73.2098,73.2045,73.2026,73.2026, 73.2013,73.1974,73.1959,73.1965,73.1972 ,73.1964,73.1954,73.1939,73.1926, 73.1903,73.1901,73.1891,73.1873,73.1867 ,73.1894,73.1896,73.1878,73.1866, 73.1853,73.1839,73.1826,73.1812,73.1784 ,73.1777,73.1795,73.1798,73.1783, 73.1755,73.1752,73.0327)
ORBIT_NUMBER = 4221
ORBITAL_ECCENTRICITY = 0.571
ORBITAL_INCLINATION = 86.7
ORBITAL_SEMIMAJOR_AXIS = 8610.3
PERIAPSIS_ALTITUDE = 297.12
PERIAPSIS_ARGUMENT_ANGLE = 334.54
PERIAPSIS_TIME = 2007-04-19T14:51:02.000Z
SPACECRAFT_ORIENTATION = (0.0,1.0,0.0)
^MEX_ORIENTATION_DESC = "MEX_ORIENTATION_DESC.TXT"
SPACECRAFT_POINTING_MODE = NADIR
^MEX_POINTING_DESC = "MEX_POINTING_DESC.TXT"
RIGHT_ASCENSION = -1e+32
DECLINATION = -1e+32
OFFSET_ANGLE = -1e+32
SPACECRAFT_SOLAR_DISTANCE = 2.0889e+08
TARGET_NAME = MARS
/* CAMERA DATA ELEMENTS */
DETECTOR_TEMPERATURE = 18.1666
FOCAL_PLANE_TEMPERATURE = 8.5833
INST_CMPRS_NAME = "DISCRETE COSINE TRANSFORMATION (DCT)"
INST_CMPRS_RATIO = 11.1561
INST_CMPRS_QUALITY = 0
INST_CMPRS_QUANTZ_TBL_ID = 0
INSTRUMENT_TEMPERATURE = 11.4379
LENS_TEMPERATURE = 9.195
MACROPIXEL_SIZE = 2
MISSING_FRAMES = 0
PIXEL_SUBSAMPLING_FLAG = N
SIGNAL_CHAIN_ID = 3
/* RADIOMETRIC DATA ELEMENTS */
BANDWIDTH = 174.0
CENTER_FILTER_WAVELENGTH = 675.0
RADIANCE_OFFSET = 5.55724
RADIANCE_SCALING_FACTOR = 0.0182495
REFLECTANCE_SCALING_FACTOR = 0.000428323
MEX:REFLECTANCE_OFFSET = 0.13043
/* IMAGE OBJECT DEFINITIONS */
OBJECT = IMAGE
  INTERCHANGE_FORMAT = BINARY
  LINES = 29010
  LINE_SAMPLES = 2805
  SAMPLE_TYPE = UNSIGNED_INTEGER
  SAMPLE_BITS = 8
  BANDS = 1
  BAND_STORAGE_TYPE = BAND_SEQUENTIAL
  MAXIMUM = 255
  MEAN = 144.918
  MINIMUM = 1
  STANDARD_DEVIATION = 67.6693
END_OBJECT = IMAGE
/* MAP OBJECT DEFINITIONS */
OBJECT = IMAGE_MAP_PROJECTION
  ^DATA_SET_MAP_PROJECTION_CATALOG= "DSMAP.CAT"
  A_AXIS_RADIUS = 3396.0
  B_AXIS_RADIUS = 3396.0
  C_AXIS_RADIUS = 3396.0
  CENTER_LATITUDE = 0.0
  CENTER_LONGITUDE = 73.0
  COORDINATE_SYSTEM_NAME = PLANETOGRAPHIC
  COORDINATE_SYSTEM_TYPE = "BODY-FIXED ROTATING"
  EASTERNMOST_LONGITUDE = 73.2186
  FIRST_STANDARD_PARALLEL = "N/A"
  LINE_FIRST_PIXEL = 1
  LINE_LAST_PIXEL = 29010
  LINE_PROJECTION_OFFSET = -44400.25
  MAP_PROJECTION_ROTATION = 0.0
  MAP_PROJECTION_TYPE = SINUSOIDAL
  MAP_RESOLUTION = 2370.85521546667
  MAP_SCALE = 0.025
  MAXIMUM_LATITUDE = -18.7325
  MINIMUM_LATITUDE = -30.967
  POSITIVE_LONGITUDE_DIRECTION = EAST
  REFERENCE_LATITUDE = "N/A"
  REFERENCE_LONGITUDE = "N/A"
  SAMPLE_FIRST_PIXEL = 1
  SAMPLE_LAST_PIXEL = 2805
  SAMPLE_PROJECTION_OFFSET = 2248.25
  SECOND_STANDARD_PARALLEL = "N/A"
  WESTERNMOST_LONGITUDE = 71.9119
END_OBJECT = IMAGE_MAP_PROJECTION
/* The JPEG2000 image data file associated with this label. */
OBJECT = COMPRESSED_FILE
  FILE_NAME = "H4221_0000_P13.JP2"
  RECORD_TYPE = UNDEFINED
  FILE_RECORDS = UNK
  ENCODING_TYPE = "JP2"
  INTERCHANGE_FORMAT = BINARY
  UNCOMPRESSED_FILE_NAME = "H4221_0000_P13.IMG"
  REQUIRED_STORAGE_BYTES = "81395490"
  ^DESCRIPTION = "JP2INFO.TXT"
END_OBJECT = COMPRESSED_FILE
END
