PDS_VERSION_ID = PDS3
/* FILE DATA ELEMENTS */
RECORD_TYPE = STREAM
/* POINTERS TO DATA OBJECTS */
^COMPRESSED_FILE = "H4223_0000_P23.JP2"
/* IDENTIFICATION DATA ELEMENTS */
DATA_SET_ID = "MEX-M-HRSC-5-REFDR-MAPPROJECTED-V3.0"
DATA_SET_NAME = "MARS EXPRESS HRSC MAP PROJECTED REFDR V3.0"
DETECTOR_ID = MEX_HRSC_P2
EVENT_TYPE = "MARS-REGIONAL-MAPPING-Vo-Te-Im"
INSTRUMENT_HOST_ID = MEX
INSTRUMENT_HOST_NAME = "MARS EXPRESS"
INSTRUMENT_ID = HRSC
INSTRUMENT_NAME = "HIGH RESOLUTION STEREO CAMERA"
MISSION_NAME = "MARS EXPRESS"
MISSION_PHASE_NAME = ME_Phase_7
PROCESSING_LEVEL_ID = 3
PRODUCT_CREATION_TIME = 2016-04-21T04:35:46.000Z
PRODUCT_ID = "H4223_0000_P23.JP2"
RELEASE_ID = 0048
REVISION_ID = 0000
/* QUALITY DATA ELEMENTS */
DATA_QUALITY_ID = 2
DATA_QUALITY_DESC = "Data calculated based on photogrammetrically improved orbit and attitude data"
/* TIME DATA ELEMENTS */
SPACECRAFT_CLOCK_START_COUNT = "1/0125122251.08370"
SPACECRAFT_CLOCK_STOP_COUNT = "1/0125122474.31175"
START_TIME = 2007-04-20T04:11:09.858Z
STOP_TIME = 2007-04-20T04:13:47.921Z
/* ORBITAL DATA ELEMENTS */
ASCENDING_NODE_LONGITUDE = 139.84
MAXIMUM_RESOLUTION = 55.4
FOOTPRINT_POINT_LATITUDE = (-47.7883,-47.7839,-47.7791,-47.773, -47.7657,-47.7574,-47.7442,-47.493, -47.2859,-47.0799,-46.8732,-46.6657, -46.4596,-46.2572,-46.0523,-45.8488, -45.6464,-45.3396,-45.1351,-44.9305, -44.7252,-44.5197,-44.2114,-44.0057, -43.7999,-43.5926,-43.3856,-43.1784, -42.9715,-42.6615,-42.3512,-42.1442, -41.963,-41.6132,-41.4364,-41.2587, -41.0824,-40.9054,-40.7287,-40.5524, -40.2886,-40.0236,-39.8468,-39.6689, -39.4024,-39.2258,-38.9585,-38.6881, -38.5096,-38.3314,-38.065,-38.0112, -38.0165,-38.0201,-38.1121,-38.291, -38.5574,-38.7361,-38.9147,-39.0932, -39.2712,-39.4491,-39.6271,-39.8053, -39.9822,-40.1596,-40.3368,-40.5139, -40.6907,-40.8675,-41.0441,-41.2205, -41.3965,-41.6606,-42.012,-42.2004, -42.5152,-42.725,-42.9313,-43.1396, -43.453,-43.7581,-43.9675,-44.174, -44.3811,-44.5874,-44.7934,-44.9991, -45.3077,-45.512,-45.7164,-46.0229, -46.2267,-46.4304,-46.6363,-46.8444, -47.0527,-47.2606,-47.4682,-47.7883)
FOOTPRINT_POINT_LONGITUDE = (236.797,236.436,236.137,235.818,235.5, 235.183,234.748,234.673,234.694,234.715 ,234.736,234.757,234.777,234.797, 234.815,234.834,234.853,234.88,234.898, 234.916,234.933,234.95,234.976,234.992, 235.009,235.025,235.041,235.057,235.072 ,235.096,235.119,235.134,235.147, 235.171,235.182,235.193,235.204,235.215 ,235.226,235.237,235.253,235.269,235.28 ,235.29,235.305,235.315,235.33,235.343, 235.353,235.362,235.376,235.725,236.155 ,236.573,236.871,236.871,236.872, 236.871,236.87,236.87,236.869,236.869, 236.868,236.867,236.867,236.867,236.866 ,236.865,236.865,236.864,236.863, 236.863,236.862,236.861,236.859,236.858 ,236.856,236.854,236.855,236.854, 236.851,236.854,236.851,236.85,236.849, 236.848,236.846,236.845,236.843,236.842 ,236.841,236.84,236.838,236.837,236.835 ,236.835,236.833,236.832,236.83, 236.797)
ORBIT_NUMBER = 4223
ORBITAL_ECCENTRICITY = 0.572
ORBITAL_INCLINATION = 86.69
ORBITAL_SEMIMAJOR_AXIS = 8611.8
PERIAPSIS_ALTITUDE = 297.16
PERIAPSIS_ARGUMENT_ANGLE = 334.16
PERIAPSIS_TIME = 2007-04-20T04:17:14.000Z
SPACECRAFT_ORIENTATION = (0.0,1.0,0.0)
^MEX_ORIENTATION_DESC = "MEX_ORIENTATION_DESC.TXT"
SPACECRAFT_POINTING_MODE = ACROSSTRACK
^MEX_POINTING_DESC = "MEX_POINTING_DESC.TXT"
RIGHT_ASCENSION = -1e+32
DECLINATION = -1e+32
OFFSET_ANGLE = -0.2
SPACECRAFT_SOLAR_DISTANCE = 2.08838e+08
TARGET_NAME = MARS
/* CAMERA DATA ELEMENTS */
DETECTOR_TEMPERATURE = 18.5744
FOCAL_PLANE_TEMPERATURE = 8.9911
INST_CMPRS_NAME = "DISCRETE COSINE TRANSFORMATION (DCT)"
INST_CMPRS_RATIO = 9.18339
INST_CMPRS_QUALITY = 0
INST_CMPRS_QUANTZ_TBL_ID = 0
INSTRUMENT_TEMPERATURE = 11.4379
LENS_TEMPERATURE = 9.195
MACROPIXEL_SIZE = 4
MISSING_FRAMES = 0
PIXEL_SUBSAMPLING_FLAG = N
SIGNAL_CHAIN_ID = 3
/* RADIOMETRIC DATA ELEMENTS */
BANDWIDTH = 177.0
CENTER_FILTER_WAVELENGTH = 676.5
RADIANCE_OFFSET = 4.50153
RADIANCE_SCALING_FACTOR = 0.0138039
REFLECTANCE_SCALING_FACTOR = 0.000319211
MEX:REFLECTANCE_OFFSET = 0.104096
/* IMAGE OBJECT DEFINITIONS */
OBJECT = IMAGE
  INTERCHANGE_FORMAT = BINARY
  LINES = 11556
  LINE_SAMPLES = 1894
  SAMPLE_TYPE = UNSIGNED_INTEGER
  SAMPLE_BITS = 8
  BANDS = 1
  BAND_STORAGE_TYPE = BAND_SEQUENTIAL
  MAXIMUM = 255
  MEAN = 94.593
  MINIMUM = 1
  STANDARD_DEVIATION = 21.2275
END_OBJECT = IMAGE
/* MAP OBJECT DEFINITIONS */
OBJECT = IMAGE_MAP_PROJECTION
  ^DATA_SET_MAP_PROJECTION_CATALOG= "DSMAP.CAT"
  A_AXIS_RADIUS = 3396.0
  B_AXIS_RADIUS = 3396.0
  C_AXIS_RADIUS = 3396.0
  CENTER_LATITUDE = 0.0
  CENTER_LONGITUDE = 236.0
  COORDINATE_SYSTEM_NAME = PLANETOGRAPHIC
  COORDINATE_SYSTEM_TYPE = "BODY-FIXED ROTATING"
  EASTERNMOST_LONGITUDE = 236.872
  FIRST_STANDARD_PARALLEL = "N/A"
  LINE_FIRST_PIXEL = 1
  LINE_LAST_PIXEL = 11556
  LINE_PROJECTION_OFFSET = -45045.125
  MAP_PROJECTION_ROTATION = 0.0
  MAP_PROJECTION_TYPE = SINUSOIDAL
  MAP_RESOLUTION = 1185.42760773333
  MAP_SCALE = 0.05
  MAXIMUM_LATITUDE = -38.0112
  MINIMUM_LATITUDE = -47.7883
  POSITIVE_LONGITUDE_DIRECTION = EAST
  REFERENCE_LATITUDE = "N/A"
  REFERENCE_LONGITUDE = "N/A"
  SAMPLE_FIRST_PIXEL = 1
  SAMPLE_LAST_PIXEL = 1894
  SAMPLE_PROJECTION_OFFSET = 1052.625
  SECOND_STANDARD_PARALLEL = "N/A"
  WESTERNMOST_LONGITUDE = 234.673
END_OBJECT = IMAGE_MAP_PROJECTION
/* The JPEG2000 image data file associated with this label. */
OBJECT = COMPRESSED_FILE
  FILE_NAME = "H4223_0000_P23.JP2"
  RECORD_TYPE = UNDEFINED
  FILE_RECORDS = UNK
  ENCODING_TYPE = "JP2"
  INTERCHANGE_FORMAT = BINARY
  UNCOMPRESSED_FILE_NAME = "H4223_0000_P23.IMG"
  REQUIRED_STORAGE_BYTES = "21907898"
  ^DESCRIPTION = "JP2INFO.TXT"
END_OBJECT = COMPRESSED_FILE
END
