PDS_VERSION_ID = PDS3
/* FILE DATA ELEMENTS */
RECORD_TYPE = STREAM
/* POINTERS TO DATA OBJECTS */
^COMPRESSED_FILE = "H4230_0000_ND3.JP2"
/* IDENTIFICATION DATA ELEMENTS */
DATA_SET_ID = "MEX-M-HRSC-5-REFDR-MAPPROJECTED-V3.0"
DATA_SET_NAME = "MARS EXPRESS HRSC MAP PROJECTED REFDR V3.0"
DETECTOR_ID = MEX_HRSC_NADIR
EVENT_TYPE = "MARS-LOCAL-STEREO-Te-Im-La"
INSTRUMENT_HOST_ID = MEX
INSTRUMENT_HOST_NAME = "MARS EXPRESS"
INSTRUMENT_ID = HRSC
INSTRUMENT_NAME = "HIGH RESOLUTION STEREO CAMERA"
MISSION_NAME = "MARS EXPRESS"
MISSION_PHASE_NAME = ME_Phase_7
PROCESSING_LEVEL_ID = 3
PRODUCT_CREATION_TIME = 2016-04-21T04:35:46.000Z
PRODUCT_ID = "H4230_0000_ND3.JP2"
RELEASE_ID = 0048
REVISION_ID = 0000
/* QUALITY DATA ELEMENTS */
DATA_QUALITY_ID = 2
DATA_QUALITY_DESC = "Data calculated based on photogrammetrically improved orbit and attitude data"
/* TIME DATA ELEMENTS */
SPACECRAFT_CLOCK_START_COUNT = "1/0125292109.07288"
SPACECRAFT_CLOCK_STOP_COUNT = "1/0125292274.48539"
START_TIME = 2007-04-22T03:22:21.250Z
STOP_TIME = 2007-04-22T03:24:02.253Z
/* ORBITAL DATA ELEMENTS */
ASCENDING_NODE_LONGITUDE = 139.69
MAXIMUM_RESOLUTION = 12.6
FOOTPRINT_POINT_LATITUDE = (-15.4312,-15.4316,-15.4316,-15.4315, -15.4312,-15.0534,-14.8017,-14.5502, -14.2989,-14.1706,-14.0407,-13.9109, -13.7811,-13.6514,-13.5216,-13.392, -13.2624,-13.1328,-13.0033,-12.8059, -12.6765,-12.5471,-12.4179,-12.2862, -12.1527,-12.0193,-11.886,-11.7527, -11.6195,-11.4863,-11.3532,-11.2201, -11.0871,-10.9542,-10.8213,-10.6883, -10.5555,-10.4227,-10.2238,-10.0912, -9.95876,-9.82637,-9.69403,-9.56176, -9.42957,-9.29744,-9.16536,-9.03335, -8.90151,-8.90094,-8.89999,-8.89935, -8.89857,-8.89791,-8.89697,-9.02899, -9.16101,-9.29313,-9.42536,-9.55766, -9.69004,-9.82248,-9.95498,-10.0876, -10.2202,-10.4193,-10.5522,-10.6852, -10.8182,-10.9512,-11.0842,-11.2174, -11.3505,-11.4837,-11.617,-11.7504, -11.8838,-12.0172,-12.1508,-12.2843, -12.4161,-12.5455,-12.6749,-12.8044, -13.002,-13.1316,-13.2613,-13.391, -13.5207,-13.6506,-13.7804,-13.9103, -14.0403,-14.1703,-14.2986,-14.5501, -14.8019,-15.0537,-15.3058,-15.4312)
FOOTPRINT_POINT_LONGITUDE = (268.677,268.414,268.117,267.922, 267.641,267.639,267.637,267.636,267.634 ,267.633,267.632,267.631,267.63,267.629 ,267.628,267.627,267.626,267.625, 267.623,267.622,267.62,267.619,267.618, 267.616,267.615,267.613,267.612,267.611 ,267.609,267.608,267.606,267.604, 267.603,267.601,267.599,267.594,267.591 ,267.588,267.584,267.582,267.581, 267.579,267.577,267.575,267.573,267.571 ,267.569,267.566,267.689,267.876, 268.138,268.299,268.473,268.609,268.825 ,268.824,268.825,268.825,268.824, 268.823,268.822,268.822,268.821,268.82, 268.819,268.817,268.815,268.812,268.809 ,268.808,268.807,268.806,268.805, 268.805,268.804,268.803,268.802,268.801 ,268.801,268.8,268.799,268.798,268.798, 268.797,268.796,268.795,268.794,268.793 ,268.792,268.792,268.791,268.79,268.79, 268.789,268.788,268.787,268.785,268.784 ,268.783,268.677)
ORBIT_NUMBER = 4230
ORBITAL_ECCENTRICITY = 0.572
ORBITAL_INCLINATION = 86.68
ORBITAL_SEMIMAJOR_AXIS = 8612.07
PERIAPSIS_ALTITUDE = 296.85
PERIAPSIS_ARGUMENT_ANGLE = 332.95
PERIAPSIS_TIME = 2007-04-22T03:19:26.000Z
SPACECRAFT_ORIENTATION = (0.0,1.0,0.0)
^MEX_ORIENTATION_DESC = "MEX_ORIENTATION_DESC.TXT"
SPACECRAFT_POINTING_MODE = NADIR
^MEX_POINTING_DESC = "MEX_POINTING_DESC.TXT"
RIGHT_ASCENSION = -1e+32
DECLINATION = -1e+32
OFFSET_ANGLE = -1e+32
SPACECRAFT_SOLAR_DISTANCE = 2.08658e+08
TARGET_NAME = MARS
/* CAMERA DATA ELEMENTS */
DETECTOR_TEMPERATURE = 18.3705
FOCAL_PLANE_TEMPERATURE = 9.3989
INST_CMPRS_NAME = "DISCRETE COSINE TRANSFORMATION (DCT)"
INST_CMPRS_RATIO = 6.71821
INST_CMPRS_QUALITY = 0
INST_CMPRS_QUANTZ_TBL_ID = 0
INSTRUMENT_TEMPERATURE = 11.6418
LENS_TEMPERATURE = 9.6028
MACROPIXEL_SIZE = 1
MISSING_FRAMES = 2
PIXEL_SUBSAMPLING_FLAG = N
SIGNAL_CHAIN_ID = 0
/* RADIOMETRIC DATA ELEMENTS */
BANDWIDTH = 177.0
CENTER_FILTER_WAVELENGTH = 677.5
RADIANCE_OFFSET = 3.23954
RADIANCE_SCALING_FACTOR = 0.0233224
REFLECTANCE_SCALING_FACTOR = 0.00053942
MEX:REFLECTANCE_OFFSET = 0.0749268
/* IMAGE OBJECT DEFINITIONS */
OBJECT = IMAGE
  INTERCHANGE_FORMAT = BINARY
  LINES = 30988
  LINE_SAMPLES = 6352
  SAMPLE_TYPE = UNSIGNED_INTEGER
  SAMPLE_BITS = 8
  BANDS = 1
  BAND_STORAGE_TYPE = BAND_SEQUENTIAL
  MAXIMUM = 255
  MEAN = 111.953
  MINIMUM = 1
  STANDARD_DEVIATION = 26.9155
END_OBJECT = IMAGE
/* MAP OBJECT DEFINITIONS */
OBJECT = IMAGE_MAP_PROJECTION
  ^DATA_SET_MAP_PROJECTION_CATALOG= "DSMAP.CAT"
  A_AXIS_RADIUS = 3396.0
  B_AXIS_RADIUS = 3396.0
  C_AXIS_RADIUS = 3396.0
  CENTER_LATITUDE = 0.0
  CENTER_LONGITUDE = 268.0
  COORDINATE_SYSTEM_NAME = PLANETOGRAPHIC
  COORDINATE_SYSTEM_TYPE = "BODY-FIXED ROTATING"
  EASTERNMOST_LONGITUDE = 268.825
  FIRST_STANDARD_PARALLEL = "N/A"
  LINE_FIRST_PIXEL = 1
  LINE_LAST_PIXEL = 30988
  LINE_PROJECTION_OFFSET = -42181.0
  MAP_PROJECTION_ROTATION = 0.0
  MAP_PROJECTION_TYPE = SINUSOIDAL
  MAP_RESOLUTION = 4741.71043093333
  MAP_SCALE = 0.0125
  MAXIMUM_LATITUDE = -8.89697
  MINIMUM_LATITUDE = -15.4316
  POSITIVE_LONGITUDE_DIRECTION = EAST
  REFERENCE_LATITUDE = "N/A"
  REFERENCE_LONGITUDE = "N/A"
  SAMPLE_FIRST_PIXEL = 1
  SAMPLE_LAST_PIXEL = 6352
  SAMPLE_PROJECTION_OFFSET = 2244.0
  SECOND_STANDARD_PARALLEL = "N/A"
  WESTERNMOST_LONGITUDE = 267.566
END_OBJECT = IMAGE_MAP_PROJECTION
/* The JPEG2000 image data file associated with this label. */
OBJECT = COMPRESSED_FILE
  FILE_NAME = "H4230_0000_ND3.JP2"
  RECORD_TYPE = UNDEFINED
  FILE_RECORDS = UNK
  ENCODING_TYPE = "JP2"
  INTERCHANGE_FORMAT = BINARY
  UNCOMPRESSED_FILE_NAME = "H4230_0000_ND3.IMG"
  REQUIRED_STORAGE_BYTES = "196867536"
  ^DESCRIPTION = "JP2INFO.TXT"
END_OBJECT = COMPRESSED_FILE
END
