PDS_VERSION_ID = PDS3
/* FILE DATA ELEMENTS */
RECORD_TYPE = STREAM
/* POINTERS TO DATA OBJECTS */
^COMPRESSED_FILE = "H4231_0009_SR3.JP2"
/* IDENTIFICATION DATA ELEMENTS */
DATA_SET_ID = "MEX-M-HRSC-5-REFDR-MAPPROJECTED-V3.0"
DATA_SET_NAME = "MARS EXPRESS HRSC MAP PROJECTED REFDR V3.0"
DETECTOR_ID = MEX_HRSC_SRC
EVENT_TYPE = "MARS-LOCAL-STEREO-Vo-Mw"
INSTRUMENT_HOST_ID = MEX
INSTRUMENT_HOST_NAME = "MARS EXPRESS"
INSTRUMENT_ID = HRSC
INSTRUMENT_NAME = "HIGH RESOLUTION STEREO CAMERA"
MISSION_NAME = "MARS EXPRESS"
MISSION_PHASE_NAME = ME_Phase_7
PROCESSING_LEVEL_ID = 3
PRODUCT_CREATION_TIME = 2016-04-21T04:35:46.000Z
PRODUCT_ID = "H4231_0009_SR3.JP2"
RELEASE_ID = 0048
REVISION_ID = 0000
/* QUALITY DATA ELEMENTS */
DATA_QUALITY_ID = 1
DATA_QUALITY_DESC = "Data calculated based on original SPICE kernels"
/* TIME DATA ELEMENTS */
SPACECRAFT_CLOCK_START_COUNT = "1/0125316389.07307"
SPACECRAFT_CLOCK_STOP_COUNT = "1/0125316670.11581"
IMAGE_TIME = 2007-04-22T10:08:46.527Z
START_TIME = 2007-04-22T10:08:46.525Z
STOP_TIME = 2007-04-22T10:08:46.530Z
/* ORBITAL DATA ELEMENTS */
ASCENDING_NODE_LONGITUDE = 139.67
MAXIMUM_RESOLUTION = 3.849
FOOTPRINT_POINT_LATITUDE = (-3.01524,-3.01342,-3.01147,-3.00854, -3.00672,-3.00373,-3.00029,-2.99625, -2.99365,-2.99164,-2.98917,-2.98605, -2.98384,-2.98104,-2.97922,-2.97688, -2.97376,-2.97149,-2.96882,-2.96531, -2.96258,-2.96069,-2.95822,-2.95627, -2.95294,-2.95292,-2.95289,-2.95287, -2.95284,-2.95282,-2.95279,-2.95277, -2.95274,-2.95272,-2.95269,-2.95267, -2.95264,-2.95261,-2.95259,-2.95256, -2.95254,-2.95251,-2.95249,-2.95246, -2.95244,-2.95241,-2.95239,-2.95236, -2.95234,-2.95381,-2.95687,-2.95889, -2.96182,-2.96429,-2.96702,-2.97112, -2.97321,-2.976,-2.97958,-2.98219, -2.98421,-2.98733,-2.98967,-2.99182, -2.99371,-2.99696,-2.99931,-3.00217, -3.00542,-3.00809,-3.0103,-3.01232, -3.01558,-3.01785,-3.01788,-3.0179, -3.01792,-3.01794,-3.01797,-3.01799, -3.01801,-3.01803,-3.01806,-3.01808, -3.0181,-3.01812,-3.01815,-3.01817, -3.01819,-3.01821,-3.01824,-3.01826, -3.01828,-3.0183,-3.01833,-3.01835, -3.01837,-3.01839,-3.01841,-3.01524)
FOOTPRINT_POINT_LONGITUDE = (170.632,170.632,170.632,170.632, 170.632,170.632,170.632,170.632,170.632 ,170.632,170.631,170.631,170.631, 170.631,170.631,170.631,170.631,170.631 ,170.631,170.631,170.631,170.631, 170.631,170.631,170.633,170.635,170.638 ,170.64,170.643,170.646,170.648,170.651 ,170.654,170.656,170.659,170.661, 170.664,170.667,170.669,170.672,170.675 ,170.677,170.68,170.682,170.685,170.688 ,170.69,170.693,170.696,170.698,170.698 ,170.698,170.698,170.698,170.698, 170.698,170.698,170.698,170.698,170.698 ,170.698,170.698,170.698,170.698, 170.698,170.698,170.698,170.698,170.698 ,170.698,170.698,170.698,170.698, 170.698,170.696,170.693,170.691,170.688 ,170.685,170.683,170.68,170.677,170.675 ,170.672,170.67,170.667,170.664,170.662 ,170.659,170.656,170.654,170.651, 170.649,170.646,170.643,170.641,170.638 ,170.635,170.633,170.632)
ORBIT_NUMBER = 4231
ORBITAL_ECCENTRICITY = 0.571
ORBITAL_INCLINATION = 86.69
ORBITAL_SEMIMAJOR_AXIS = 8601.59
PERIAPSIS_ALTITUDE = 297.55
PERIAPSIS_ARGUMENT_ANGLE = 332.8
PERIAPSIS_TIME = 2007-04-22T10:02:34.000Z
SPACECRAFT_ORIENTATION = (0.0,1.0,0.0)
^MEX_ORIENTATION_DESC = "MEX_ORIENTATION_DESC.TXT"
SPACECRAFT_POINTING_MODE = ACROSSTRACK
^MEX_POINTING_DESC = "MEX_POINTING_DESC.TXT"
RIGHT_ASCENSION = -1e+32
DECLINATION = -1e+32
OFFSET_ANGLE = -0.75
SPACECRAFT_SOLAR_DISTANCE = 2.08633e+08
TARGET_NAME = MARS
/* CAMERA DATA ELEMENTS */
BUFFER_MODE_ID = BUFFER_8
EXPOSURE_DURATION = 5.04
INST_CMPRS_NAME = NONE
INST_CMPRS_RATIO = 1.0
INST_CMPRS_QUALITY = -2147483648
INST_CMPRS_QUANTZ_TBL_ID = -2147483648
INSTRUMENT_TEMPERATURE = 10.6052
MISSING_FRAMES = 0
START_BIT = 0
/* RADIOMETRIC DATA ELEMENTS */
BANDWIDTH = 250.0
CENTER_FILTER_WAVELENGTH = 600.0
RADIANCE_OFFSET = -9.99e+31
RADIANCE_SCALING_FACTOR = -9.99e+31
REFLECTANCE_SCALING_FACTOR = -9.99e+31
MEX:REFLECTANCE_OFFSET = -9.99e+31
/* IMAGE OBJECT DEFINITIONS */
OBJECT = IMAGE
  INTERCHANGE_FORMAT = BINARY
  LINES = 824
  LINE_SAMPLES = 838
  SAMPLE_TYPE = UNSIGNED_INTEGER
  SAMPLE_BITS = 8
  BANDS = 1
  BAND_STORAGE_TYPE = BAND_SEQUENTIAL
  MAXIMUM = 241
  MEAN = 154.699
  MINIMUM = 28
  STANDARD_DEVIATION = 18.365
END_OBJECT = IMAGE
/* MAP OBJECT DEFINITIONS */
OBJECT = IMAGE_MAP_PROJECTION
  ^DATA_SET_MAP_PROJECTION_CATALOG= "DSMAP.CAT"
  A_AXIS_RADIUS = 3396.19
  B_AXIS_RADIUS = 3396.19
  C_AXIS_RADIUS = 3396.19
  CENTER_LATITUDE = 0.0
  CENTER_LONGITUDE = 171.0
  COORDINATE_SYSTEM_NAME = PLANETOGRAPHIC
  COORDINATE_SYSTEM_TYPE = "BODY-FIXED ROTATING"
  EASTERNMOST_LONGITUDE = 170.698
  FIRST_STANDARD_PARALLEL = "N/A"
  LINE_FIRST_PIXEL = 1
  LINE_LAST_PIXEL = 824
  LINE_PROJECTION_OFFSET = -34980.0
  MAP_PROJECTION_ROTATION = 0.0
  MAP_PROJECTION_TYPE = SINUSOIDAL
  MAP_RESOLUTION = 11854.9393024378
  MAP_SCALE = 0.005
  MAXIMUM_LATITUDE = -2.95234
  MINIMUM_LATITUDE = -3.01841
  POSITIVE_LONGITUDE_DIRECTION = EAST
  REFERENCE_LATITUDE = "N/A"
  REFERENCE_LONGITUDE = "N/A"
  SAMPLE_FIRST_PIXEL = 1
  SAMPLE_LAST_PIXEL = 838
  SAMPLE_PROJECTION_OFFSET = 4389.0
  SECOND_STANDARD_PARALLEL = "N/A"
  WESTERNMOST_LONGITUDE = 170.631
END_OBJECT = IMAGE_MAP_PROJECTION
/* The JPEG2000 image data file associated with this label. */
OBJECT = COMPRESSED_FILE
  FILE_NAME = "H4231_0009_SR3.JP2"
  RECORD_TYPE = UNDEFINED
  FILE_RECORDS = UNK
  ENCODING_TYPE = "JP2"
  INTERCHANGE_FORMAT = BINARY
  UNCOMPRESSED_FILE_NAME = "H4231_0009_SR3.IMG"
  REQUIRED_STORAGE_BYTES = "708948"
  ^DESCRIPTION = "JP2INFO.TXT"
END_OBJECT = COMPRESSED_FILE
END
