PDS_VERSION_ID = PDS3
/* FILE DATA ELEMENTS */
RECORD_TYPE = STREAM
/* POINTERS TO DATA OBJECTS */
^COMPRESSED_FILE = "H4232_0000_RE3.JP2"
/* IDENTIFICATION DATA ELEMENTS */
DATA_SET_ID = "MEX-M-HRSC-5-REFDR-MAPPROJECTED-V3.0"
DATA_SET_NAME = "MARS EXPRESS HRSC MAP PROJECTED REFDR V3.0"
DETECTOR_ID = MEX_HRSC_RED
EVENT_TYPE = "MARS-REGIONAL-MAPPING-Im-La"
INSTRUMENT_HOST_ID = MEX
INSTRUMENT_HOST_NAME = "MARS EXPRESS"
INSTRUMENT_ID = HRSC
INSTRUMENT_NAME = "HIGH RESOLUTION STEREO CAMERA"
MISSION_NAME = "MARS EXPRESS"
MISSION_PHASE_NAME = ME_Phase_7
PROCESSING_LEVEL_ID = 3
PRODUCT_CREATION_TIME = 2016-04-21T04:35:46.000Z
PRODUCT_ID = "H4232_0000_RE3.JP2"
RELEASE_ID = 0048
REVISION_ID = 0000
/* QUALITY DATA ELEMENTS */
DATA_QUALITY_ID = 2
DATA_QUALITY_DESC = "Data calculated based on photogrammetrically improved orbit and attitude data"
/* TIME DATA ELEMENTS */
SPACECRAFT_CLOCK_START_COUNT = "1/0125340254.09084"
SPACECRAFT_CLOCK_STOP_COUNT = "1/0125340494.58816"
START_TIME = 2007-04-22T16:44:23.058Z
STOP_TIME = 2007-04-22T16:47:26.816Z
/* ORBITAL DATA ELEMENTS */
ASCENDING_NODE_LONGITUDE = 139.65
MAXIMUM_RESOLUTION = 99.7
FOOTPRINT_POINT_LATITUDE = (-30.9539,-30.9513,-30.9492,-30.946, -30.941,-30.8754,-30.6385,-30.4012, -30.1635,-29.8084,-29.5705,-29.2154, -28.9809,-28.7468,-28.5093,-28.1524, -27.9145,-27.6776,-27.4382,-27.1969, -26.9579,-26.5986,-26.358,-26.1178, -25.758,-25.3966,-25.1557,-24.9157, -24.6743,-24.4331,-24.1922,-23.9504, -23.5883,-23.2269,-22.9851,-22.744, -22.3831,-22.0233,-21.7803,-21.4171, -21.1777,-20.9434,-20.5763,-20.3287, -19.9698,-19.7245,-19.4829,-19.2394, -18.9966,-18.7621,-18.7633,-18.7652, -18.7672,-18.7697,-19.0134,-19.258, -19.4989,-19.741,-19.9842,-20.2226, -20.5863,-20.829,-21.0717,-21.3157, -21.6778,-21.9216,-22.1609,-22.4019, -22.7626,-23.004,-23.3641,-23.6059, -23.9681,-24.2098,-24.4516,-24.6937, -25.0506,-25.2917,-25.5325,-25.7735, -26.0156,-26.3762,-26.6177,-26.8574, -27.0976,-27.3366,-27.5761,-27.9349, -28.1742,-28.4139,-28.6499,-28.8905, -29.1273,-29.4805,-29.7167,-29.952, -30.1906,-30.5459,-30.7835,-30.9539)
FOOTPRINT_POINT_LONGITUDE = (72.1953,71.8896,71.6972,71.4709, 71.1769,70.9669,70.9736,70.9802,70.9865 ,70.9963,71.0023,71.0118,71.0189, 71.0261,71.0318,71.0401,71.0455,71.0512 ,71.0559,71.0598,71.0644,71.071,71.0748 ,71.0788,71.0847,71.0898,71.0931, 71.0967,71.0997,71.1026,71.1056,71.1082 ,71.1121,71.1161,71.1182,71.1207, 71.1243,71.1282,71.1296,71.1319,71.1343 ,71.1385,71.139,71.1381,71.1412,71.1409 ,71.1419,71.1421,71.1425,71.143,71.33, 71.6126,71.9474,72.2574,72.2562,72.2547 ,72.2545,72.2539,72.2528,72.2535, 72.2523,72.2514,72.2504,72.2489,72.2482 ,72.2467,72.2469,72.2465,72.2461, 72.2454,72.2451,72.2441,72.2428,72.2419 ,72.2408,72.2395,72.2401,72.2391, 72.2382,72.2372,72.2356,72.2342,72.2328 ,72.232,72.231,72.2304,72.2295,72.2282, 72.2272,72.226,72.2263,72.2246,72.2243, 72.2247,72.2245,72.2246,72.2233,72.2223 ,72.2211,72.1953)
ORBIT_NUMBER = 4232
ORBITAL_ECCENTRICITY = 0.571
ORBITAL_INCLINATION = 86.7
ORBITAL_SEMIMAJOR_AXIS = 8607.5
PERIAPSIS_ALTITUDE = 296.44
PERIAPSIS_ARGUMENT_ANGLE = 332.6
PERIAPSIS_TIME = 2007-04-22T16:45:40.000Z
SPACECRAFT_ORIENTATION = (0.0,1.0,0.0)
^MEX_ORIENTATION_DESC = "MEX_ORIENTATION_DESC.TXT"
SPACECRAFT_POINTING_MODE = NADIR
^MEX_POINTING_DESC = "MEX_POINTING_DESC.TXT"
RIGHT_ASCENSION = -1e+32
DECLINATION = -1e+32
OFFSET_ANGLE = -1e+32
SPACECRAFT_SOLAR_DISTANCE = 2.08608e+08
TARGET_NAME = MARS
/* CAMERA DATA ELEMENTS */
DETECTOR_TEMPERATURE = 18.7783
FOCAL_PLANE_TEMPERATURE = 9.195
INST_CMPRS_NAME = "DISCRETE COSINE TRANSFORMATION (DCT)"
INST_CMPRS_RATIO = 30.1163
INST_CMPRS_QUALITY = 0
INST_CMPRS_QUANTZ_TBL_ID = 0
INSTRUMENT_TEMPERATURE = 11.4379
LENS_TEMPERATURE = 9.3989
MACROPIXEL_SIZE = 8
MISSING_FRAMES = 0
PIXEL_SUBSAMPLING_FLAG = N
SIGNAL_CHAIN_ID = 2
/* RADIOMETRIC DATA ELEMENTS */
BANDWIDTH = 48.0
CENTER_FILTER_WAVELENGTH = 748.0
RADIANCE_OFFSET = 1.5163
RADIANCE_SCALING_FACTOR = 0.00483135
REFLECTANCE_SCALING_FACTOR = 0.000479795
MEX:REFLECTANCE_OFFSET = 0.150582
/* IMAGE OBJECT DEFINITIONS */
OBJECT = IMAGE
  INTERCHANGE_FORMAT = BINARY
  LINES = 7209
  LINE_SAMPLES = 704
  SAMPLE_TYPE = UNSIGNED_INTEGER
  SAMPLE_BITS = 8
  BANDS = 1
  BAND_STORAGE_TYPE = BAND_SEQUENTIAL
  MAXIMUM = 255
  MEAN = 114.155
  MINIMUM = 1
  STANDARD_DEVIATION = 57.2804
END_OBJECT = IMAGE
/* MAP OBJECT DEFINITIONS */
OBJECT = IMAGE_MAP_PROJECTION
  ^DATA_SET_MAP_PROJECTION_CATALOG= "DSMAP.CAT"
  A_AXIS_RADIUS = 3396.0
  B_AXIS_RADIUS = 3396.0
  C_AXIS_RADIUS = 3396.0
  CENTER_LATITUDE = 0.0
  CENTER_LONGITUDE = 72.0
  COORDINATE_SYSTEM_NAME = PLANETOGRAPHIC
  COORDINATE_SYSTEM_TYPE = "BODY-FIXED ROTATING"
  EASTERNMOST_LONGITUDE = 72.2574
  FIRST_STANDARD_PARALLEL = "N/A"
  LINE_FIRST_PIXEL = 1
  LINE_LAST_PIXEL = 7209
  LINE_PROJECTION_OFFSET = -11128.1875
  MAP_PROJECTION_ROTATION = 0.0
  MAP_PROJECTION_TYPE = SINUSOIDAL
  MAP_RESOLUTION = 592.713803866667
  MAP_SCALE = 0.1
  MAXIMUM_LATITUDE = -18.7621
  MINIMUM_LATITUDE = -30.9539
  POSITIVE_LONGITUDE_DIRECTION = EAST
  REFERENCE_LATITUDE = "N/A"
  REFERENCE_LONGITUDE = "N/A"
  SAMPLE_FIRST_PIXEL = 1
  SAMPLE_LAST_PIXEL = 704
  SAMPLE_PROJECTION_OFFSET = 532.8125
  SECOND_STANDARD_PARALLEL = "N/A"
  WESTERNMOST_LONGITUDE = 70.9669
END_OBJECT = IMAGE_MAP_PROJECTION
/* The JPEG2000 image data file associated with this label. */
OBJECT = COMPRESSED_FILE
  FILE_NAME = "H4232_0000_RE3.JP2"
  RECORD_TYPE = UNDEFINED
  FILE_RECORDS = UNK
  ENCODING_TYPE = "JP2"
  INTERCHANGE_FORMAT = BINARY
  UNCOMPRESSED_FILE_NAME = "H4232_0000_RE3.IMG"
  REQUIRED_STORAGE_BYTES = "5093440"
  ^DESCRIPTION = "JP2INFO.TXT"
END_OBJECT = COMPRESSED_FILE
END
