PDS_VERSION_ID = PDS3
/* FILE DATA ELEMENTS */
RECORD_TYPE = STREAM
/* POINTERS TO DATA OBJECTS */
^COMPRESSED_FILE = "H4234_0000_IR3.JP2"
/* IDENTIFICATION DATA ELEMENTS */
DATA_SET_ID = "MEX-M-HRSC-5-REFDR-MAPPROJECTED-V3.0"
DATA_SET_NAME = "MARS EXPRESS HRSC MAP PROJECTED REFDR V3.0"
DETECTOR_ID = MEX_HRSC_IR
EVENT_TYPE = "MARS-REGIONAL-MAPPING-Vo-Te-Im"
INSTRUMENT_HOST_ID = MEX
INSTRUMENT_HOST_NAME = "MARS EXPRESS"
INSTRUMENT_ID = HRSC
INSTRUMENT_NAME = "HIGH RESOLUTION STEREO CAMERA"
MISSION_NAME = "MARS EXPRESS"
MISSION_PHASE_NAME = ME_Phase_7
PROCESSING_LEVEL_ID = 3
PRODUCT_CREATION_TIME = 2016-04-21T04:35:46.000Z
PRODUCT_ID = "H4234_0000_IR3.JP2"
RELEASE_ID = 0048
REVISION_ID = 0000
/* QUALITY DATA ELEMENTS */
DATA_QUALITY_ID = 2
DATA_QUALITY_DESC = "Data calculated based on photogrammetrically improved orbit and attitude data"
/* TIME DATA ELEMENTS */
SPACECRAFT_CLOCK_START_COUNT = "1/0125388363.08385"
SPACECRAFT_CLOCK_STOP_COUNT = "1/0125388582.08361"
START_TIME = 2007-04-23T06:07:13.715Z
STOP_TIME = 2007-04-23T06:09:39.688Z
/* ORBITAL DATA ELEMENTS */
ASCENDING_NODE_LONGITUDE = 139.61
MAXIMUM_RESOLUTION = 52.3
FOOTPRINT_POINT_LATITUDE = (-47.6203,-47.6153,-47.6091,-47.6024, -47.5951,-47.5874,-47.6156,-47.3825, -47.157,-46.9601,-46.7633,-46.5684, -46.373,-46.1775,-45.9811,-45.7865, -45.5891,-45.2954,-45.0993,-44.8048, -44.6083,-44.4117,-44.2148,-44.0182, -43.7228,-43.5261,-43.3293,-43.1323, -42.9351,-42.6394,-42.3524,-42.1596, -41.9681,-41.7778,-41.5855,-41.3926, -41.2005,-40.9121,-40.7209,-40.5332, -40.35,-40.1658,-39.8893,-39.7045, -39.5206,-39.2435,-39.0585,-38.8729, -38.6883,-38.5034,-38.3189,-38.1401, -37.9147,-37.9191,-37.9267,-37.9291, -38.1112,-38.3801,-38.5655,-38.8433, -39.0292,-39.2139,-39.4006,-39.5847, -39.7694,-39.9553,-40.2341,-40.4202, -40.606,-40.7955,-40.9871,-41.1784, -41.3695,-41.5579,-41.838,-42.0276, -42.2215,-42.4179,-42.6123,-42.812, -43.0111,-43.2081,-43.4058,-43.7018, -43.9977,-44.2949,-44.4923,-44.6882, -44.8858,-45.1815,-45.4771,-45.6742, -45.9698,-46.2647,-46.4585,-46.6571, -46.9533,-47.1498,-47.3655,-47.6203)
FOOTPRINT_POINT_LONGITUDE = (235.122,234.879,234.601,234.322, 234.043,233.764,233.364,233.388,233.411 ,233.431,233.451,233.47,233.488,233.506 ,233.525,233.542,233.56,233.586,233.603 ,233.628,233.645,233.661,233.677, 233.693,233.717,233.732,233.747,233.762 ,233.777,233.799,233.819,233.833, 233.847,233.86,233.873,233.887,233.9, 233.92,233.932,233.944,233.954,233.965, 233.981,233.992,234.002,234.017,234.028 ,234.038,234.048,234.058,234.068, 234.077,234.269,234.58,234.966,235.326, 235.47,235.465,235.463,235.458,235.456, 235.453,235.45,235.447,235.444,235.441, 235.437,235.434,235.431,235.428,235.424 ,235.421,235.417,235.413,235.405,235.4, 235.398,235.396,235.393,235.39,235.387, 235.383,235.379,235.373,235.366,235.36, 235.356,235.351,235.347,235.34,235.333, 235.329,235.322,235.314,235.308,235.304 ,235.297,235.292,235.286,235.122)
ORBIT_NUMBER = 4234
ORBITAL_ECCENTRICITY = 0.572
ORBITAL_INCLINATION = 86.69
ORBITAL_SEMIMAJOR_AXIS = 8608.38
PERIAPSIS_ALTITUDE = 296.44
PERIAPSIS_ARGUMENT_ANGLE = 332.23
PERIAPSIS_TIME = 2007-04-23T06:11:52.000Z
SPACECRAFT_ORIENTATION = (0.0,1.0,0.0)
^MEX_ORIENTATION_DESC = "MEX_ORIENTATION_DESC.TXT"
SPACECRAFT_POINTING_MODE = ACROSSTRACK
^MEX_POINTING_DESC = "MEX_POINTING_DESC.TXT"
RIGHT_ASCENSION = -1e+32
DECLINATION = -1e+32
OFFSET_ANGLE = 0.1
SPACECRAFT_SOLAR_DISTANCE = 2.08559e+08
TARGET_NAME = MARS
/* CAMERA DATA ELEMENTS */
DETECTOR_TEMPERATURE = 17.7588
FOCAL_PLANE_TEMPERATURE = 8.7872
INST_CMPRS_NAME = "DISCRETE COSINE TRANSFORMATION (DCT)"
INST_CMPRS_RATIO = 10.7464
INST_CMPRS_QUALITY = 0
INST_CMPRS_QUANTZ_TBL_ID = 0
INSTRUMENT_TEMPERATURE = 11.234
LENS_TEMPERATURE = 9.195
MACROPIXEL_SIZE = 4
MISSING_FRAMES = 0
PIXEL_SUBSAMPLING_FLAG = N
SIGNAL_CHAIN_ID = 2
/* RADIOMETRIC DATA ELEMENTS */
BANDWIDTH = 81.0
CENTER_FILTER_WAVELENGTH = 955.5
RADIANCE_OFFSET = 1.11802
RADIANCE_SCALING_FACTOR = 0.00356489
REFLECTANCE_SCALING_FACTOR = 0.000334526
MEX:REFLECTANCE_OFFSET = 0.104914
/* IMAGE OBJECT DEFINITIONS */
OBJECT = IMAGE
  INTERCHANGE_FORMAT = BINARY
  LINES = 11567
  LINE_SAMPLES = 1848
  SAMPLE_TYPE = UNSIGNED_INTEGER
  SAMPLE_BITS = 8
  BANDS = 1
  BAND_STORAGE_TYPE = BAND_SEQUENTIAL
  MAXIMUM = 255
  MEAN = 101.611
  MINIMUM = 1
  STANDARD_DEVIATION = 23.2255
END_OBJECT = IMAGE
/* MAP OBJECT DEFINITIONS */
OBJECT = IMAGE_MAP_PROJECTION
  ^DATA_SET_MAP_PROJECTION_CATALOG= "DSMAP.CAT"
  A_AXIS_RADIUS = 3396.0
  B_AXIS_RADIUS = 3396.0
  C_AXIS_RADIUS = 3396.0
  CENTER_LATITUDE = 0.0
  CENTER_LONGITUDE = 235.0
  COORDINATE_SYSTEM_NAME = PLANETOGRAPHIC
  COORDINATE_SYSTEM_TYPE = "BODY-FIXED ROTATING"
  EASTERNMOST_LONGITUDE = 235.47
  FIRST_STANDARD_PARALLEL = "N/A"
  LINE_FIRST_PIXEL = 1
  LINE_LAST_PIXEL = 11567
  LINE_PROJECTION_OFFSET = -44966.625
  MAP_PROJECTION_ROTATION = 0.0
  MAP_PROJECTION_TYPE = SINUSOIDAL
  MAP_RESOLUTION = 1185.42760773333
  MAP_SCALE = 0.05
  MAXIMUM_LATITUDE = -37.9147
  MINIMUM_LATITUDE = -47.6203
  POSITIVE_LONGITUDE_DIRECTION = EAST
  REFERENCE_LATITUDE = "N/A"
  REFERENCE_LONGITUDE = "N/A"
  SAMPLE_FIRST_PIXEL = 1
  SAMPLE_LAST_PIXEL = 1848
  SAMPLE_PROJECTION_OFFSET = 1366.125
  SECOND_STANDARD_PARALLEL = "N/A"
  WESTERNMOST_LONGITUDE = 233.364
END_OBJECT = IMAGE_MAP_PROJECTION
/* The JPEG2000 image data file associated with this label. */
OBJECT = COMPRESSED_FILE
  FILE_NAME = "H4234_0000_IR3.JP2"
  RECORD_TYPE = UNDEFINED
  FILE_RECORDS = UNK
  ENCODING_TYPE = "JP2"
  INTERCHANGE_FORMAT = BINARY
  UNCOMPRESSED_FILE_NAME = "H4234_0000_IR3.IMG"
  REQUIRED_STORAGE_BYTES = "21396144"
  ^DESCRIPTION = "JP2INFO.TXT"
END_OBJECT = COMPRESSED_FILE
END
