PDS_VERSION_ID = PDS3
/* FILE DATA ELEMENTS */
RECORD_TYPE = STREAM
/* POINTERS TO DATA OBJECTS */
^COMPRESSED_FILE = "H4234_0000_P13.JP2"
/* IDENTIFICATION DATA ELEMENTS */
DATA_SET_ID = "MEX-M-HRSC-5-REFDR-MAPPROJECTED-V3.0"
DATA_SET_NAME = "MARS EXPRESS HRSC MAP PROJECTED REFDR V3.0"
DETECTOR_ID = MEX_HRSC_P1
EVENT_TYPE = "MARS-REGIONAL-MAPPING-Vo-Te-Im"
INSTRUMENT_HOST_ID = MEX
INSTRUMENT_HOST_NAME = "MARS EXPRESS"
INSTRUMENT_ID = HRSC
INSTRUMENT_NAME = "HIGH RESOLUTION STEREO CAMERA"
MISSION_NAME = "MARS EXPRESS"
MISSION_PHASE_NAME = ME_Phase_7
PROCESSING_LEVEL_ID = 3
PRODUCT_CREATION_TIME = 2016-04-21T04:35:46.000Z
PRODUCT_ID = "H4234_0000_P13.JP2"
RELEASE_ID = 0048
REVISION_ID = 0000
/* QUALITY DATA ELEMENTS */
DATA_QUALITY_ID = 2
DATA_QUALITY_DESC = "Data calculated based on photogrammetrically improved orbit and attitude data"
/* TIME DATA ELEMENTS */
SPACECRAFT_CLOCK_START_COUNT = "1/0125388363.08385"
SPACECRAFT_CLOCK_STOP_COUNT = "1/0125388582.08361"
START_TIME = 2007-04-23T06:07:08.032Z
STOP_TIME = 2007-04-23T06:09:35.004Z
/* ORBITAL DATA ELEMENTS */
ASCENDING_NODE_LONGITUDE = 139.61
MAXIMUM_RESOLUTION = 51.6
FOOTPRINT_POINT_LATITUDE = (-47.6295,-47.6169,-47.6067,-47.5949, -47.6171,-47.3857,-47.1541,-46.8086, -46.6156,-46.4218,-46.2278,-46.0333, -45.8393,-45.6442,-45.3526,-45.1579, -44.9631,-44.7681,-44.573,-44.3777, -44.0847,-43.7917,-43.5962,-43.4006, -43.205,-43.0093,-42.813,-42.6188, -42.4221,-42.2258,-42.0358,-41.8463, -41.5603,-41.3691,-41.1781,-40.8917, -40.7017,-40.5115,-40.3223,-40.1387, -39.8634,-39.6795,-39.4963,-39.3126, -39.1284,-38.9441,-38.6678,-38.4837, -38.2995,-38.1152,-37.9117,-37.9162, -37.9258,-37.9304,-38.0207,-38.2059, -38.4816,-38.6655,-38.8505,-39.1271, -39.3122,-39.5884,-39.772,-39.9577, -40.1421,-40.3269,-40.6128,-40.8037, -40.9943,-41.1848,-41.3747,-41.5618, -41.8426,-42.0314,-42.3241,-42.5227, -42.7202,-43.017,-43.2126,-43.4089, -43.6051,-43.8992,-44.0953,-44.2921, -44.4881,-44.6828,-44.8786,-45.0746, -45.27,-45.4658,-45.6614,-45.9547, -46.2472,-46.4401,-46.6366,-46.8324, -47.0564,-47.2885,-47.5212,-47.6295)
FOOTPRINT_POINT_LONGITUDE = (234.986,234.444,234.059,233.655, 233.358,233.382,233.406,233.443,233.461 ,233.479,233.497,233.516,233.533, 233.551,233.577,233.594,233.611,233.628 ,233.644,233.661,233.685,233.708, 233.724,233.739,233.754,233.768,233.783 ,233.796,233.811,233.826,233.839, 233.852,233.873,233.886,233.9,233.919, 233.931,233.943,233.954,233.965,233.981 ,233.992,234.002,234.012,234.022, 234.033,234.048,234.058,234.067,234.077 ,234.191,234.463,234.85,235.251,235.472 ,235.47,235.466,235.463,235.46,235.456, 235.453,235.449,235.446,235.443,235.44, 235.437,235.433,235.43,235.427,235.423, 235.42,235.415,235.407,235.403,235.401, 235.398,235.395,235.39,235.386,235.382, 235.378,235.372,235.368,235.364,235.36, 235.355,235.351,235.347,235.342,235.338 ,235.334,235.327,235.32,235.314,235.31, 235.305,235.3,235.294,235.288,234.986)
ORBIT_NUMBER = 4234
ORBITAL_ECCENTRICITY = 0.572
ORBITAL_INCLINATION = 86.69
ORBITAL_SEMIMAJOR_AXIS = 8608.38
PERIAPSIS_ALTITUDE = 296.44
PERIAPSIS_ARGUMENT_ANGLE = 332.23
PERIAPSIS_TIME = 2007-04-23T06:11:52.000Z
SPACECRAFT_ORIENTATION = (0.0,1.0,0.0)
^MEX_ORIENTATION_DESC = "MEX_ORIENTATION_DESC.TXT"
SPACECRAFT_POINTING_MODE = ACROSSTRACK
^MEX_POINTING_DESC = "MEX_POINTING_DESC.TXT"
RIGHT_ASCENSION = -1e+32
DECLINATION = -1e+32
OFFSET_ANGLE = 0.1
SPACECRAFT_SOLAR_DISTANCE = 2.08559e+08
TARGET_NAME = MARS
/* CAMERA DATA ELEMENTS */
DETECTOR_TEMPERATURE = 17.7588
FOCAL_PLANE_TEMPERATURE = 8.7872
INST_CMPRS_NAME = "DISCRETE COSINE TRANSFORMATION (DCT)"
INST_CMPRS_RATIO = 14.2444
INST_CMPRS_QUALITY = 0
INST_CMPRS_QUANTZ_TBL_ID = 0
INSTRUMENT_TEMPERATURE = 11.234
LENS_TEMPERATURE = 9.195
MACROPIXEL_SIZE = 4
MISSING_FRAMES = 0
PIXEL_SUBSAMPLING_FLAG = N
SIGNAL_CHAIN_ID = 3
/* RADIOMETRIC DATA ELEMENTS */
BANDWIDTH = 174.0
CENTER_FILTER_WAVELENGTH = 675.0
RADIANCE_OFFSET = 5.00244
RADIANCE_SCALING_FACTOR = 0.0119057
REFLECTANCE_SCALING_FACTOR = 0.000278548
MEX:REFLECTANCE_OFFSET = 0.117038
/* IMAGE OBJECT DEFINITIONS */
OBJECT = IMAGE
  INTERCHANGE_FORMAT = BINARY
  LINES = 11567
  LINE_SAMPLES = 1848
  SAMPLE_TYPE = UNSIGNED_INTEGER
  SAMPLE_BITS = 8
  BANDS = 1
  BAND_STORAGE_TYPE = BAND_SEQUENTIAL
  MAXIMUM = 255
  MEAN = 113.443
  MINIMUM = 1
  STANDARD_DEVIATION = 21.0098
END_OBJECT = IMAGE
/* MAP OBJECT DEFINITIONS */
OBJECT = IMAGE_MAP_PROJECTION
  ^DATA_SET_MAP_PROJECTION_CATALOG= "DSMAP.CAT"
  A_AXIS_RADIUS = 3396.0
  B_AXIS_RADIUS = 3396.0
  C_AXIS_RADIUS = 3396.0
  CENTER_LATITUDE = 0.0
  CENTER_LONGITUDE = 235.0
  COORDINATE_SYSTEM_NAME = PLANETOGRAPHIC
  COORDINATE_SYSTEM_TYPE = "BODY-FIXED ROTATING"
  EASTERNMOST_LONGITUDE = 235.472
  FIRST_STANDARD_PARALLEL = "N/A"
  LINE_FIRST_PIXEL = 1
  LINE_LAST_PIXEL = 11567
  LINE_PROJECTION_OFFSET = -44966.625
  MAP_PROJECTION_ROTATION = 0.0
  MAP_PROJECTION_TYPE = SINUSOIDAL
  MAP_RESOLUTION = 1185.42760773333
  MAP_SCALE = 0.05
  MAXIMUM_LATITUDE = -37.9117
  MINIMUM_LATITUDE = -47.6295
  POSITIVE_LONGITUDE_DIRECTION = EAST
  REFERENCE_LATITUDE = "N/A"
  REFERENCE_LONGITUDE = "N/A"
  SAMPLE_FIRST_PIXEL = 1
  SAMPLE_LAST_PIXEL = 1848
  SAMPLE_PROJECTION_OFFSET = 1366.125
  SECOND_STANDARD_PARALLEL = "N/A"
  WESTERNMOST_LONGITUDE = 233.358
END_OBJECT = IMAGE_MAP_PROJECTION
/* The JPEG2000 image data file associated with this label. */
OBJECT = COMPRESSED_FILE
  FILE_NAME = "H4234_0000_P13.JP2"
  RECORD_TYPE = UNDEFINED
  FILE_RECORDS = UNK
  ENCODING_TYPE = "JP2"
  INTERCHANGE_FORMAT = BINARY
  UNCOMPRESSED_FILE_NAME = "H4234_0000_P13.IMG"
  REQUIRED_STORAGE_BYTES = "21396144"
  ^DESCRIPTION = "JP2INFO.TXT"
END_OBJECT = COMPRESSED_FILE
END
