PDS_VERSION_ID = PDS3
/* FILE DATA ELEMENTS */
RECORD_TYPE = STREAM
/* POINTERS TO DATA OBJECTS */
^COMPRESSED_FILE = "H4235_0000_IR3.JP2"
/* IDENTIFICATION DATA ELEMENTS */
DATA_SET_ID = "MEX-M-HRSC-5-REFDR-MAPPROJECTED-V3.0"
DATA_SET_NAME = "MARS EXPRESS HRSC MAP PROJECTED REFDR V3.0"
DETECTOR_ID = MEX_HRSC_IR
EVENT_TYPE = "MARS-REGIONAL-MAPPING-Im-Eo"
INSTRUMENT_HOST_ID = MEX
INSTRUMENT_HOST_NAME = "MARS EXPRESS"
INSTRUMENT_ID = HRSC
INSTRUMENT_NAME = "HIGH RESOLUTION STEREO CAMERA"
MISSION_NAME = "MARS EXPRESS"
MISSION_PHASE_NAME = ME_Phase_7
PROCESSING_LEVEL_ID = 3
PRODUCT_CREATION_TIME = 2016-04-21T04:35:46.000Z
PRODUCT_ID = "H4235_0000_IR3.JP2"
RELEASE_ID = 0048
REVISION_ID = 0000
/* QUALITY DATA ELEMENTS */
DATA_QUALITY_ID = 2
DATA_QUALITY_DESC = "Data calculated based on photogrammetrically improved orbit and attitude data"
/* TIME DATA ELEMENTS */
SPACECRAFT_CLOCK_START_COUNT = "1/0125412668.08230"
SPACECRAFT_CLOCK_STOP_COUNT = "1/0125412924.07842"
START_TIME = 2007-04-23T12:52:08.650Z
STOP_TIME = 2007-04-23T12:55:21.871Z
/* ORBITAL DATA ELEMENTS */
ASCENDING_NODE_LONGITUDE = 139.59
MAXIMUM_RESOLUTION = 98.5
FOOTPRINT_POINT_LATITUDE = (-41.0455,-41.0388,-41.0246,-41.0094, -40.893,-40.6239,-40.3524,-40.0847, -39.8139,-39.4073,-39.1414,-38.8739, -38.4753,-38.2053,-37.9513,-37.6868, -37.2968,-37.0387,-36.7801,-36.3914, -36.1324,-35.8739,-35.6161,-35.3578, -35.0988,-34.841,-34.5912,-34.2164, -33.842,-33.5924,-33.2188,-32.9695, -32.7214,-32.473,-32.2245,-31.9755, -31.6029,-31.3544,-31.1067,-30.8584, -30.6107,-30.3629,-30.115,-29.867, -29.6197,-29.3721,-29.1241,-28.7554, -28.5083,-28.1585,-28.1726,-28.1808, -28.1883,-28.3184,-28.5652,-28.8126, -29.0604,-29.3075,-29.6749,-29.9212, -30.1688,-30.4173,-30.6673,-30.9142, -31.289,-31.5389,-31.9092,-32.1595, -32.4073,-32.657,-32.9104,-33.2864, -33.5355,-33.905,-34.156,-34.5308, -34.7802,-35.0349,-35.2936,-35.6817, -35.9412,-36.1993,-36.458,-36.717, -36.9754,-37.3651,-37.6295,-37.8879, -38.1403,-38.4087,-38.6778,-38.9459, -39.214,-39.482,-39.7498,-40.1518, -40.4198,-40.6937,-40.9706,-41.0455)
FOOTPRINT_POINT_LONGITUDE = (137.52,137.296,136.85,136.408,136.238, 136.251,136.265,136.279,136.293,136.313 ,136.325,136.338,136.355,136.367, 136.377,136.389,136.405,136.415,136.425 ,136.44,136.449,136.458,136.467,136.476 ,136.485,136.493,136.501,136.513, 136.524,136.531,136.541,136.548,136.554 ,136.56,136.567,136.573,136.581,136.587 ,136.592,136.597,136.602,136.607, 136.612,136.616,136.621,136.625,136.629 ,136.635,136.639,136.644,137.011, 137.329,137.616,137.813,137.812,137.811 ,137.81,137.809,137.804,137.802,137.801 ,137.8,137.8,137.798,137.798,137.798, 137.795,137.795,137.793,137.792,137.794 ,137.794,137.793,137.788,137.788, 137.787,137.785,137.785,137.783,137.781 ,137.78,137.778,137.776,137.775,137.773 ,137.772,137.774,137.772,137.765, 137.763,137.762,137.76,137.758,137.756, 137.754,137.751,137.749,137.746,137.744 ,137.52)
ORBIT_NUMBER = 4235
ORBITAL_ECCENTRICITY = 0.571
ORBITAL_INCLINATION = 86.68
ORBITAL_SEMIMAJOR_AXIS = 8605.28
PERIAPSIS_ALTITUDE = 297.22
PERIAPSIS_ARGUMENT_ANGLE = 332.09
PERIAPSIS_TIME = 2007-04-23T12:55:06.000Z
SPACECRAFT_ORIENTATION = (0.0,1.0,0.0)
^MEX_ORIENTATION_DESC = "MEX_ORIENTATION_DESC.TXT"
SPACECRAFT_POINTING_MODE = ACROSSTRACK
^MEX_POINTING_DESC = "MEX_POINTING_DESC.TXT"
RIGHT_ASCENSION = -1e+32
DECLINATION = -1e+32
OFFSET_ANGLE = -0.35
SPACECRAFT_SOLAR_DISTANCE = 2.08534e+08
TARGET_NAME = MARS
/* CAMERA DATA ELEMENTS */
DETECTOR_TEMPERATURE = 17.7588
FOCAL_PLANE_TEMPERATURE = 9.195
INST_CMPRS_NAME = "DISCRETE COSINE TRANSFORMATION (DCT)"
INST_CMPRS_RATIO = 15.1917
INST_CMPRS_QUALITY = 0
INST_CMPRS_QUANTZ_TBL_ID = 0
INSTRUMENT_TEMPERATURE = 11.4379
LENS_TEMPERATURE = 7.9716
MACROPIXEL_SIZE = 8
MISSING_FRAMES = 0
PIXEL_SUBSAMPLING_FLAG = N
SIGNAL_CHAIN_ID = 2
/* RADIOMETRIC DATA ELEMENTS */
BANDWIDTH = 81.0
CENTER_FILTER_WAVELENGTH = 955.5
RADIANCE_OFFSET = 1.0033
RADIANCE_SCALING_FACTOR = 0.00626606
REFLECTANCE_SCALING_FACTOR = 0.000587866
MEX:REFLECTANCE_OFFSET = 0.0941269
/* IMAGE OBJECT DEFINITIONS */
OBJECT = IMAGE
  INTERCHANGE_FORMAT = BINARY
  LINES = 7646
  LINE_SAMPLES = 822
  SAMPLE_TYPE = UNSIGNED_INTEGER
  SAMPLE_BITS = 8
  BANDS = 1
  BAND_STORAGE_TYPE = BAND_SEQUENTIAL
  MAXIMUM = 255
  MEAN = 97.9719
  MINIMUM = 1
  STANDARD_DEVIATION = 49.2472
END_OBJECT = IMAGE
/* MAP OBJECT DEFINITIONS */
OBJECT = IMAGE_MAP_PROJECTION
  ^DATA_SET_MAP_PROJECTION_CATALOG= "DSMAP.CAT"
  A_AXIS_RADIUS = 3396.0
  B_AXIS_RADIUS = 3396.0
  C_AXIS_RADIUS = 3396.0
  CENTER_LATITUDE = 0.0
  CENTER_LONGITUDE = 137.0
  COORDINATE_SYSTEM_NAME = PLANETOGRAPHIC
  COORDINATE_SYSTEM_TYPE = "BODY-FIXED ROTATING"
  EASTERNMOST_LONGITUDE = 137.813
  FIRST_STANDARD_PARALLEL = "N/A"
  LINE_FIRST_PIXEL = 1
  LINE_LAST_PIXEL = 7646
  LINE_PROJECTION_OFFSET = -16713.4375
  MAP_PROJECTION_ROTATION = 0.0
  MAP_PROJECTION_TYPE = SINUSOIDAL
  MAP_RESOLUTION = 592.713803866667
  MAP_SCALE = 0.1
  MAXIMUM_LATITUDE = -28.1585
  MINIMUM_LATITUDE = -41.0455
  POSITIVE_LONGITUDE_DIRECTION = EAST
  REFERENCE_LATITUDE = "N/A"
  REFERENCE_LONGITUDE = "N/A"
  SAMPLE_FIRST_PIXEL = 1
  SAMPLE_LAST_PIXEL = 822
  SAMPLE_PROJECTION_OFFSET = 365.4375
  SECOND_STANDARD_PARALLEL = "N/A"
  WESTERNMOST_LONGITUDE = 136.238
END_OBJECT = IMAGE_MAP_PROJECTION
/* The JPEG2000 image data file associated with this label. */
OBJECT = COMPRESSED_FILE
  FILE_NAME = "H4235_0000_IR3.JP2"
  RECORD_TYPE = UNDEFINED
  FILE_RECORDS = UNK
  ENCODING_TYPE = "JP2"
  INTERCHANGE_FORMAT = BINARY
  UNCOMPRESSED_FILE_NAME = "H4235_0000_IR3.IMG"
  REQUIRED_STORAGE_BYTES = "6303096"
  ^DESCRIPTION = "JP2INFO.TXT"
END_OBJECT = COMPRESSED_FILE
END
