PDS_VERSION_ID = PDS3
/* FILE DATA ELEMENTS */
RECORD_TYPE = STREAM
/* POINTERS TO DATA OBJECTS */
^COMPRESSED_FILE = "H4235_0001_S13.JP2"
/* IDENTIFICATION DATA ELEMENTS */
DATA_SET_ID = "MEX-M-HRSC-5-REFDR-MAPPROJECTED-V3.0"
DATA_SET_NAME = "MARS EXPRESS HRSC MAP PROJECTED REFDR V3.0"
DETECTOR_ID = MEX_HRSC_S1
EVENT_TYPE = "MARS-LOCAL-STEREO-Im-Lc"
INSTRUMENT_HOST_ID = MEX
INSTRUMENT_HOST_NAME = "MARS EXPRESS"
INSTRUMENT_ID = HRSC
INSTRUMENT_NAME = "HIGH RESOLUTION STEREO CAMERA"
MISSION_NAME = "MARS EXPRESS"
MISSION_PHASE_NAME = ME_Phase_7
PROCESSING_LEVEL_ID = 3
PRODUCT_CREATION_TIME = 2016-04-21T04:35:46.000Z
PRODUCT_ID = "H4235_0001_S13.JP2"
RELEASE_ID = 0048
REVISION_ID = 0000
/* QUALITY DATA ELEMENTS */
DATA_QUALITY_ID = 2
DATA_QUALITY_DESC = "Data calculated based on photogrammetrically improved orbit and attitude data"
/* TIME DATA ELEMENTS */
SPACECRAFT_CLOCK_START_COUNT = "1/0125413185.07300"
SPACECRAFT_CLOCK_STOP_COUNT = "1/0125413327.64990"
START_TIME = 2007-04-23T13:00:59.992Z
STOP_TIME = 2007-04-23T13:02:10.139Z
/* ORBITAL DATA ELEMENTS */
ASCENDING_NODE_LONGITUDE = 139.59
MAXIMUM_RESOLUTION = 17.2
FOOTPRINT_POINT_LATITUDE = (-7.1567,-7.15501,-7.15334,-7.15169, -7.15009,-7.14854,-7.14707,-7.14564, -7.14426,-7.14292,-7.14167,-7.14042, -7.13923,-7.02668,-6.91187,-6.75807, -6.56094,-6.48129,-6.32211,-6.20297, -6.04586,-5.92788,-5.81078,-5.65208, -5.57096,-5.48975,-5.40897,-5.25139, -5.09261,-5.01272,-4.93202,-4.81031, -4.72772,-4.64499,-4.56175,-4.47864, -4.3967,-4.31617,-4.15827,-4.07749, -3.99583,-3.91215,-3.82838,-3.7445, -3.6606,-3.57703,-3.49363,-3.41041, -3.32744,-3.24439,-3.09637,-3.09711, -3.09791,-3.09874,-3.099,-3.09721, -3.09835,-3.1033,-3.10484,-3.10643, -3.11315,-3.11228,-3.24403,-3.32529, -3.40558,-3.48897,-3.57276,-3.65635, -3.73968,-3.82297,-3.90606,-4.02955, -4.11086,-4.19461,-4.28293,-4.36913, -4.45269,-4.53525,-4.6165,-4.69677, -4.77635,-4.8941,-5.00487,-5.16251, -5.24642,-5.32956,-5.41129,-5.49444, -5.57775,-5.70479,-5.78579,-5.9438, -6.09886,-6.21443,-6.37062,-6.60113, -6.7135,-6.86712,-7.02488,-7.1567)
FOOTPRINT_POINT_LONGITUDE = (137.915,137.801,137.687,137.573,137.46 ,137.346,137.233,137.12,137.008,136.895 ,136.783,136.671,136.559,136.507, 136.505,136.501,136.496,136.494,136.491 ,136.488,136.484,136.481,136.478, 136.473,136.471,136.469,136.467,136.463 ,136.458,136.456,136.454,136.451, 136.448,136.446,136.444,136.442,136.44, 136.437,136.432,136.43,136.427,136.425, 136.423,136.42,136.418,136.416,136.413, 136.411,136.408,136.406,136.433,136.558 ,136.683,136.808,136.918,137.043, 137.263,137.422,137.532,137.707,137.883 ,137.978,138.002,138.0,137.997,137.996, 137.995,137.994,137.993,137.992,137.991 ,137.988,137.987,137.987,137.988, 137.989,137.989,137.988,137.987,137.985 ,137.983,137.979,137.973,137.969,137.97 ,137.97,137.97,137.97,137.97,137.971, 137.971,137.969,137.966,137.963,137.96, 137.954,137.95,137.947,137.947,137.915)
ORBIT_NUMBER = 4235
ORBITAL_ECCENTRICITY = 0.571
ORBITAL_INCLINATION = 86.68
ORBITAL_SEMIMAJOR_AXIS = 8605.28
PERIAPSIS_ALTITUDE = 297.22
PERIAPSIS_ARGUMENT_ANGLE = 332.09
PERIAPSIS_TIME = 2007-04-23T12:55:06.000Z
SPACECRAFT_ORIENTATION = (0.0,1.0,0.0)
^MEX_ORIENTATION_DESC = "MEX_ORIENTATION_DESC.TXT"
SPACECRAFT_POINTING_MODE = ACROSSTRACK
^MEX_POINTING_DESC = "MEX_POINTING_DESC.TXT"
RIGHT_ASCENSION = -1e+32
DECLINATION = -1e+32
OFFSET_ANGLE = -0.35
SPACECRAFT_SOLAR_DISTANCE = 2.08534e+08
TARGET_NAME = MARS
/* CAMERA DATA ELEMENTS */
DETECTOR_TEMPERATURE = 19.1861
FOCAL_PLANE_TEMPERATURE = 9.3989
INST_CMPRS_NAME = "DISCRETE COSINE TRANSFORMATION (DCT)"
INST_CMPRS_RATIO = 8.18591
INST_CMPRS_QUALITY = 0
INST_CMPRS_QUANTZ_TBL_ID = 0
INSTRUMENT_TEMPERATURE = 13.4769
LENS_TEMPERATURE = 9.6028
MACROPIXEL_SIZE = 1
MISSING_FRAMES = 0
PIXEL_SUBSAMPLING_FLAG = N
SIGNAL_CHAIN_ID = 2
/* RADIOMETRIC DATA ELEMENTS */
BANDWIDTH = 180.0
CENTER_FILTER_WAVELENGTH = 677.0
RADIANCE_OFFSET = 4.4523
RADIANCE_SCALING_FACTOR = 0.0241114
REFLECTANCE_SCALING_FACTOR = 0.000547038
MEX:REFLECTANCE_OFFSET = 0.101013
/* IMAGE OBJECT DEFINITIONS */
OBJECT = IMAGE
  INTERCHANGE_FORMAT = BINARY
  LINES = 19352
  LINE_SAMPLES = 7306
  SAMPLE_TYPE = UNSIGNED_INTEGER
  SAMPLE_BITS = 8
  BANDS = 1
  BAND_STORAGE_TYPE = BAND_SEQUENTIAL
  MAXIMUM = 255
  MEAN = 122.373
  MINIMUM = 1
  STANDARD_DEVIATION = 51.435
END_OBJECT = IMAGE
/* MAP OBJECT DEFINITIONS */
OBJECT = IMAGE_MAP_PROJECTION
  ^DATA_SET_MAP_PROJECTION_CATALOG= "DSMAP.CAT"
  A_AXIS_RADIUS = 3396.0
  B_AXIS_RADIUS = 3396.0
  C_AXIS_RADIUS = 3396.0
  CENTER_LATITUDE = 0.0
  CENTER_LONGITUDE = 137.0
  COORDINATE_SYSTEM_NAME = PLANETOGRAPHIC
  COORDINATE_SYSTEM_TYPE = "BODY-FIXED ROTATING"
  EASTERNMOST_LONGITUDE = 138.002
  FIRST_STANDARD_PARALLEL = "N/A"
  LINE_FIRST_PIXEL = 1
  LINE_LAST_PIXEL = 19352
  LINE_PROJECTION_OFFSET = -14552.0
  MAP_PROJECTION_ROTATION = 0.0
  MAP_PROJECTION_TYPE = SINUSOIDAL
  MAP_RESOLUTION = 4741.71043093333
  MAP_SCALE = 0.0125
  MAXIMUM_LATITUDE = -3.09637
  MINIMUM_LATITUDE = -7.1567
  POSITIVE_LONGITUDE_DIRECTION = EAST
  REFERENCE_LATITUDE = "N/A"
  REFERENCE_LONGITUDE = "N/A"
  SAMPLE_FIRST_PIXEL = 1
  SAMPLE_LAST_PIXEL = 7306
  SAMPLE_PROJECTION_OFFSET = 2626.0
  SECOND_STANDARD_PARALLEL = "N/A"
  WESTERNMOST_LONGITUDE = 136.406
END_OBJECT = IMAGE_MAP_PROJECTION
/* The JPEG2000 image data file associated with this label. */
OBJECT = COMPRESSED_FILE
  FILE_NAME = "H4235_0001_S13.JP2"
  RECORD_TYPE = UNDEFINED
  FILE_RECORDS = UNK
  ENCODING_TYPE = "JP2"
  INTERCHANGE_FORMAT = BINARY
  UNCOMPRESSED_FILE_NAME = "H4235_0001_S13.IMG"
  REQUIRED_STORAGE_BYTES = "141414936"
  ^DESCRIPTION = "JP2INFO.TXT"
END_OBJECT = COMPRESSED_FILE
END
