PDS_VERSION_ID = PDS3
/* FILE DATA ELEMENTS */
RECORD_TYPE = STREAM
/* POINTERS TO DATA OBJECTS */
^COMPRESSED_FILE = "H4238_0000_P13.JP2"
/* IDENTIFICATION DATA ELEMENTS */
DATA_SET_ID = "MEX-M-HRSC-5-REFDR-MAPPROJECTED-V3.0"
DATA_SET_NAME = "MARS EXPRESS HRSC MAP PROJECTED REFDR V3.0"
DETECTOR_ID = MEX_HRSC_P1
EVENT_TYPE = "MARS-REGIONAL-MAPPING-Te-Im"
INSTRUMENT_HOST_ID = MEX
INSTRUMENT_HOST_NAME = "MARS EXPRESS"
INSTRUMENT_ID = HRSC
INSTRUMENT_NAME = "HIGH RESOLUTION STEREO CAMERA"
MISSION_NAME = "MARS EXPRESS"
MISSION_PHASE_NAME = ME_Phase_7
PROCESSING_LEVEL_ID = 3
PRODUCT_CREATION_TIME = 2016-04-21T04:35:46.000Z
PRODUCT_ID = "H4238_0000_P13.JP2"
RELEASE_ID = 0048
REVISION_ID = 0000
/* QUALITY DATA ELEMENTS */
DATA_QUALITY_ID = 2
DATA_QUALITY_DESC = "Data calculated based on photogrammetrically improved orbit and attitude data"
/* TIME DATA ELEMENTS */
SPACECRAFT_CLOCK_START_COUNT = "1/0125485439.08414"
SPACECRAFT_CLOCK_STOP_COUNT = "1/0125485666.40326"
START_TIME = 2007-04-24T09:04:46.785Z
STOP_TIME = 2007-04-24T09:07:38.674Z
/* ORBITAL DATA ELEMENTS */
ASCENDING_NODE_LONGITUDE = 139.53
MAXIMUM_RESOLUTION = 48.4
FOOTPRINT_POINT_LATITUDE = (-28.5245,-28.5221,-28.518,-28.5187, -28.1848,-27.8518,-27.6297,-27.4077, -27.0753,-26.8533,-26.6316,-26.4104, -26.1893,-25.9675,-25.7461,-25.4146, -25.1935,-24.973,-24.7525,-24.5323, -24.3123,-24.092,-23.8726,-23.6529, -23.4328,-23.1042,-22.8852,-22.6656, -22.4457,-22.226,-22.0119,-21.7842, -21.556,-21.2146,-20.9874,-20.7616, -20.5371,-20.3155,-20.0899,-19.8642, -19.6396,-19.4147,-19.1898,-18.8475, -18.6088,-18.3777,-18.1458,-17.9144, -17.5688,-17.3379,-17.3223,-17.3227, -17.324,-17.3244,-17.3266,-17.5568, -17.7903,-18.1395,-18.3705,-18.5979, -18.8321,-19.0621,-19.2867,-19.6244, -19.8502,-20.0764,-20.3024,-20.6424, -20.9815,-21.3216,-21.5489,-21.8897, -22.1118,-22.331,-22.5505,-22.8798, -23.0995,-23.4291,-23.7597,-23.9802, -24.2003,-24.4209,-24.6414,-24.8624, -25.0833,-25.3043,-25.6359,-25.9674, -26.1891,-26.4106,-26.6317,-26.8534, -27.1858,-27.4083,-27.6318,-27.8546, -28.0762,-28.2959,-28.5197,-28.5245)
FOOTPRINT_POINT_LONGITUDE = (202.519,202.335,202.043,201.584, 201.589,201.594,201.598,201.601,201.605 ,201.608,201.611,201.614,201.616, 201.619,201.621,201.625,201.627,201.629 ,201.631,201.632,201.634,201.635, 201.636,201.638,201.639,201.64,201.641, 201.642,201.643,201.644,201.643,201.645 ,201.646,201.647,201.648,201.648, 201.647,201.645,201.645,201.645,201.645 ,201.644,201.644,201.643,201.645, 201.644,201.643,201.642,201.639,201.638 ,201.924,202.1,202.399,202.643,202.825, 202.823,202.822,202.821,202.819,202.814 ,202.814,202.813,202.811,202.809, 202.808,202.807,202.806,202.805,202.802 ,202.8,202.799,202.798,202.796,202.795, 202.794,202.792,202.79,202.788,202.786, 202.785,202.784,202.782,202.781,202.779 ,202.778,202.777,202.774,202.772, 202.771,202.769,202.767,202.766,202.763 ,202.762,202.761,202.76,202.758,202.755 ,202.754,202.519)
ORBIT_NUMBER = 4238
ORBITAL_ECCENTRICITY = 0.571
ORBITAL_INCLINATION = 86.69
ORBITAL_SEMIMAJOR_AXIS = 8600.65
PERIAPSIS_ALTITUDE = 296.7
PERIAPSIS_ARGUMENT_ANGLE = 331.55
PERIAPSIS_TIME = 2007-04-24T09:04:32.000Z
SPACECRAFT_ORIENTATION = (0.0,1.0,0.0)
^MEX_ORIENTATION_DESC = "MEX_ORIENTATION_DESC.TXT"
SPACECRAFT_POINTING_MODE = ACROSSTRACK
^MEX_POINTING_DESC = "MEX_POINTING_DESC.TXT"
RIGHT_ASCENSION = -1e+32
DECLINATION = -1e+32
OFFSET_ANGLE = -0.13
SPACECRAFT_SOLAR_DISTANCE = 2.08462e+08
TARGET_NAME = MARS
/* CAMERA DATA ELEMENTS */
DETECTOR_TEMPERATURE = 17.7588
FOCAL_PLANE_TEMPERATURE = 10.2145
INST_CMPRS_NAME = "DISCRETE COSINE TRANSFORMATION (DCT)"
INST_CMPRS_RATIO = 8.74775
INST_CMPRS_QUALITY = 0
INST_CMPRS_QUANTZ_TBL_ID = 0
INSTRUMENT_TEMPERATURE = 11.4379
LENS_TEMPERATURE = 9.8067
MACROPIXEL_SIZE = 4
MISSING_FRAMES = 0
PIXEL_SUBSAMPLING_FLAG = N
SIGNAL_CHAIN_ID = 3
/* RADIOMETRIC DATA ELEMENTS */
BANDWIDTH = 174.0
CENTER_FILTER_WAVELENGTH = 675.0
RADIANCE_OFFSET = 4.97375
RADIANCE_SCALING_FACTOR = 0.0248558
REFLECTANCE_SCALING_FACTOR = 0.000580986
MEX:REFLECTANCE_OFFSET = 0.116258
/* IMAGE OBJECT DEFINITIONS */
OBJECT = IMAGE
  INTERCHANGE_FORMAT = BINARY
  LINES = 13292
  LINE_SAMPLES = 1443
  SAMPLE_TYPE = UNSIGNED_INTEGER
  SAMPLE_BITS = 8
  BANDS = 1
  BAND_STORAGE_TYPE = BAND_SEQUENTIAL
  MAXIMUM = 255
  MEAN = 128.837
  MINIMUM = 1
  STANDARD_DEVIATION = 38.452
END_OBJECT = IMAGE
/* MAP OBJECT DEFINITIONS */
OBJECT = IMAGE_MAP_PROJECTION
  ^DATA_SET_MAP_PROJECTION_CATALOG= "DSMAP.CAT"
  A_AXIS_RADIUS = 3396.0
  B_AXIS_RADIUS = 3396.0
  C_AXIS_RADIUS = 3396.0
  CENTER_LATITUDE = 0.0
  CENTER_LONGITUDE = 202.0
  COORDINATE_SYSTEM_NAME = PLANETOGRAPHIC
  COORDINATE_SYSTEM_TYPE = "BODY-FIXED ROTATING"
  EASTERNMOST_LONGITUDE = 202.825
  FIRST_STANDARD_PARALLEL = "N/A"
  LINE_FIRST_PIXEL = 1
  LINE_LAST_PIXEL = 13292
  LINE_PROJECTION_OFFSET = -20539.875
  MAP_PROJECTION_ROTATION = 0.0
  MAP_PROJECTION_TYPE = SINUSOIDAL
  MAP_RESOLUTION = 1185.42760773333
  MAP_SCALE = 0.05
  MAXIMUM_LATITUDE = -17.3223
  MINIMUM_LATITUDE = -28.5245
  POSITIVE_LONGITUDE_DIRECTION = EAST
  REFERENCE_LATITUDE = "N/A"
  REFERENCE_LONGITUDE = "N/A"
  SAMPLE_FIRST_PIXEL = 1
  SAMPLE_LAST_PIXEL = 1443
  SAMPLE_PROJECTION_OFFSET = 468.625
  SECOND_STANDARD_PARALLEL = "N/A"
  WESTERNMOST_LONGITUDE = 201.584
END_OBJECT = IMAGE_MAP_PROJECTION
/* The JPEG2000 image data file associated with this label. */
OBJECT = COMPRESSED_FILE
  FILE_NAME = "H4238_0000_P13.JP2"
  RECORD_TYPE = UNDEFINED
  FILE_RECORDS = UNK
  ENCODING_TYPE = "JP2"
  INTERCHANGE_FORMAT = BINARY
  UNCOMPRESSED_FILE_NAME = "H4238_0000_P13.IMG"
  REQUIRED_STORAGE_BYTES = "19200558"
  ^DESCRIPTION = "JP2INFO.TXT"
END_OBJECT = COMPRESSED_FILE
END
