PDS_VERSION_ID = PDS3
/* FILE DATA ELEMENTS */
RECORD_TYPE = STREAM
/* POINTERS TO DATA OBJECTS */
^COMPRESSED_FILE = "H4238_0000_P23.JP2"
/* IDENTIFICATION DATA ELEMENTS */
DATA_SET_ID = "MEX-M-HRSC-5-REFDR-MAPPROJECTED-V3.0"
DATA_SET_NAME = "MARS EXPRESS HRSC MAP PROJECTED REFDR V3.0"
DETECTOR_ID = MEX_HRSC_P2
EVENT_TYPE = "MARS-REGIONAL-MAPPING-Te-Im"
INSTRUMENT_HOST_ID = MEX
INSTRUMENT_HOST_NAME = "MARS EXPRESS"
INSTRUMENT_ID = HRSC
INSTRUMENT_NAME = "HIGH RESOLUTION STEREO CAMERA"
MISSION_NAME = "MARS EXPRESS"
MISSION_PHASE_NAME = ME_Phase_7
PROCESSING_LEVEL_ID = 3
PRODUCT_CREATION_TIME = 2016-04-21T04:35:46.000Z
PRODUCT_ID = "H4238_0000_P23.JP2"
RELEASE_ID = 0048
REVISION_ID = 0000
/* QUALITY DATA ELEMENTS */
DATA_QUALITY_ID = 2
DATA_QUALITY_DESC = "Data calculated based on photogrammetrically improved orbit and attitude data"
/* TIME DATA ELEMENTS */
SPACECRAFT_CLOCK_START_COUNT = "1/0125485439.08414"
SPACECRAFT_CLOCK_STOP_COUNT = "1/0125485666.40326"
START_TIME = 2007-04-24T09:04:12.407Z
STOP_TIME = 2007-04-24T09:07:01.279Z
/* ORBITAL DATA ELEMENTS */
ASCENDING_NODE_LONGITUDE = 139.53
MAXIMUM_RESOLUTION = 48.5
FOOTPRINT_POINT_LATITUDE = (-28.5565,-28.5566,-28.5564,-28.5558, -28.5537,-28.4302,-28.2112,-27.9903, -27.7696,-27.5487,-27.3273,-27.1063, -26.8855,-26.5534,-26.3319,-26.0, -25.7788,-25.4462,-25.1136,-24.8918, -24.6699,-24.4472,-24.2252,-24.0028, -23.6693,-23.4479,-23.2246,-23.0015, -22.7793,-22.5577,-22.3363,-22.1115, -21.7782,-21.4487,-21.1152,-20.893, -20.6696,-20.4427,-20.2193,-19.9972, -19.7745,-19.434,-19.2037,-18.9734, -18.75,-18.5187,-18.2881,-17.9415, -17.7099,-17.4792,-17.3236,-17.3236, -17.3219,-17.321,-17.32,-17.5516, -17.894,-18.2404,-18.4739,-18.7057, -19.0522,-19.2832,-19.6295,-19.9624, -20.2956,-20.5177,-20.7409,-21.0739, -21.2965,-21.5182,-21.7404,-21.9627, -22.1851,-22.4077,-22.6299,-22.8524, -23.0745,-23.2969,-23.6307,-23.8525, -24.0748,-24.4081,-24.6304,-24.8522, -25.0743,-25.2962,-25.6293,-25.8514, -26.0735,-26.2947,-26.517,-26.7389, -27.0712,-27.2933,-27.5129,-27.7328, -27.9539,-28.1772,-28.399,-28.5565)
FOOTPRINT_POINT_LONGITUDE = (202.682,202.508,202.333,202.149, 201.813,201.581,201.586,201.59,201.593, 201.597,201.6,201.604,201.607,201.612, 201.615,201.62,201.622,201.626,201.63, 201.632,201.635,201.636,201.638,201.64, 201.643,201.645,201.646,201.647,201.648 ,201.65,201.652,201.652,201.653,201.656 ,201.657,201.658,201.658,201.657, 201.657,201.657,201.657,201.657,201.657 ,201.657,201.659,201.659,201.658, 201.657,201.656,201.656,201.836,202.135 ,202.424,202.639,202.804,202.803, 202.803,202.802,202.799,202.798,202.796 ,202.795,202.793,202.792,202.791, 202.791,202.79,202.789,202.788,202.787, 202.787,202.786,202.785,202.784,202.783 ,202.782,202.781,202.78,202.779,202.778 ,202.777,202.775,202.774,202.773, 202.772,202.771,202.77,202.768,202.767, 202.766,202.765,202.764,202.762,202.76, 202.76,202.76,202.759,202.756,202.754, 202.682)
ORBIT_NUMBER = 4238
ORBITAL_ECCENTRICITY = 0.571
ORBITAL_INCLINATION = 86.69
ORBITAL_SEMIMAJOR_AXIS = 8600.65
PERIAPSIS_ALTITUDE = 296.7
PERIAPSIS_ARGUMENT_ANGLE = 331.55
PERIAPSIS_TIME = 2007-04-24T09:04:32.000Z
SPACECRAFT_ORIENTATION = (0.0,1.0,0.0)
^MEX_ORIENTATION_DESC = "MEX_ORIENTATION_DESC.TXT"
SPACECRAFT_POINTING_MODE = ACROSSTRACK
^MEX_POINTING_DESC = "MEX_POINTING_DESC.TXT"
RIGHT_ASCENSION = -1e+32
DECLINATION = -1e+32
OFFSET_ANGLE = -0.13
SPACECRAFT_SOLAR_DISTANCE = 2.08462e+08
TARGET_NAME = MARS
/* CAMERA DATA ELEMENTS */
DETECTOR_TEMPERATURE = 18.7783
FOCAL_PLANE_TEMPERATURE = 10.2145
INST_CMPRS_NAME = "DISCRETE COSINE TRANSFORMATION (DCT)"
INST_CMPRS_RATIO = 7.21863
INST_CMPRS_QUALITY = 0
INST_CMPRS_QUANTZ_TBL_ID = 0
INSTRUMENT_TEMPERATURE = 11.4379
LENS_TEMPERATURE = 9.8067
MACROPIXEL_SIZE = 4
MISSING_FRAMES = 0
PIXEL_SUBSAMPLING_FLAG = N
SIGNAL_CHAIN_ID = 3
/* RADIOMETRIC DATA ELEMENTS */
BANDWIDTH = 177.0
CENTER_FILTER_WAVELENGTH = 676.5
RADIANCE_OFFSET = 4.96432
RADIANCE_SCALING_FACTOR = 0.0254311
REFLECTANCE_SCALING_FACTOR = 0.000585971
MEX:REFLECTANCE_OFFSET = 0.114386
/* IMAGE OBJECT DEFINITIONS */
OBJECT = IMAGE
  INTERCHANGE_FORMAT = BINARY
  LINES = 13292
  LINE_SAMPLES = 1443
  SAMPLE_TYPE = UNSIGNED_INTEGER
  SAMPLE_BITS = 8
  BANDS = 1
  BAND_STORAGE_TYPE = BAND_SEQUENTIAL
  MAXIMUM = 255
  MEAN = 126.577
  MINIMUM = 1
  STANDARD_DEVIATION = 37.9594
END_OBJECT = IMAGE
/* MAP OBJECT DEFINITIONS */
OBJECT = IMAGE_MAP_PROJECTION
  ^DATA_SET_MAP_PROJECTION_CATALOG= "DSMAP.CAT"
  A_AXIS_RADIUS = 3396.0
  B_AXIS_RADIUS = 3396.0
  C_AXIS_RADIUS = 3396.0
  CENTER_LATITUDE = 0.0
  CENTER_LONGITUDE = 202.0
  COORDINATE_SYSTEM_NAME = PLANETOGRAPHIC
  COORDINATE_SYSTEM_TYPE = "BODY-FIXED ROTATING"
  EASTERNMOST_LONGITUDE = 202.804
  FIRST_STANDARD_PARALLEL = "N/A"
  LINE_FIRST_PIXEL = 1
  LINE_LAST_PIXEL = 13292
  LINE_PROJECTION_OFFSET = -20539.875
  MAP_PROJECTION_ROTATION = 0.0
  MAP_PROJECTION_TYPE = SINUSOIDAL
  MAP_RESOLUTION = 1185.42760773333
  MAP_SCALE = 0.05
  MAXIMUM_LATITUDE = -17.32
  MINIMUM_LATITUDE = -28.5566
  POSITIVE_LONGITUDE_DIRECTION = EAST
  REFERENCE_LATITUDE = "N/A"
  REFERENCE_LONGITUDE = "N/A"
  SAMPLE_FIRST_PIXEL = 1
  SAMPLE_LAST_PIXEL = 1443
  SAMPLE_PROJECTION_OFFSET = 468.625
  SECOND_STANDARD_PARALLEL = "N/A"
  WESTERNMOST_LONGITUDE = 201.581
END_OBJECT = IMAGE_MAP_PROJECTION
/* The JPEG2000 image data file associated with this label. */
OBJECT = COMPRESSED_FILE
  FILE_NAME = "H4238_0000_P23.JP2"
  RECORD_TYPE = UNDEFINED
  FILE_RECORDS = UNK
  ENCODING_TYPE = "JP2"
  INTERCHANGE_FORMAT = BINARY
  UNCOMPRESSED_FILE_NAME = "H4238_0000_P23.IMG"
  REQUIRED_STORAGE_BYTES = "19200558"
  ^DESCRIPTION = "JP2INFO.TXT"
END_OBJECT = COMPRESSED_FILE
END
