PDS_VERSION_ID = PDS3
/* FILE DATA ELEMENTS */
RECORD_TYPE = STREAM
/* POINTERS TO DATA OBJECTS */
^COMPRESSED_FILE = "H4241_0000_S13.JP2"
/* IDENTIFICATION DATA ELEMENTS */
DATA_SET_ID = "MEX-M-HRSC-5-REFDR-MAPPROJECTED-V3.0"
DATA_SET_NAME = "MARS EXPRESS HRSC MAP PROJECTED REFDR V3.0"
DETECTOR_ID = MEX_HRSC_S1
EVENT_TYPE = "MARS-REGIONAL-MAPPING-Vo-Im-Pf"
INSTRUMENT_HOST_ID = MEX
INSTRUMENT_HOST_NAME = "MARS EXPRESS"
INSTRUMENT_ID = HRSC
INSTRUMENT_NAME = "HIGH RESOLUTION STEREO CAMERA"
MISSION_NAME = "MARS EXPRESS"
MISSION_PHASE_NAME = ME_Phase_7
PROCESSING_LEVEL_ID = 3
PRODUCT_CREATION_TIME = 2016-04-21T04:35:46.000Z
PRODUCT_ID = "H4241_0000_S13.JP2"
RELEASE_ID = 0048
REVISION_ID = 0000
/* QUALITY DATA ELEMENTS */
DATA_QUALITY_ID = 2
DATA_QUALITY_DESC = "Data calculated based on photogrammetrically improved orbit and attitude data"
/* TIME DATA ELEMENTS */
SPACECRAFT_CLOCK_START_COUNT = "1/0125558052.08236"
SPACECRAFT_CLOCK_STOP_COUNT = "1/0125558300.57598"
START_TIME = 2007-04-25T05:15:08.668Z
STOP_TIME = 2007-04-25T05:18:23.037Z
/* ORBITAL DATA ELEMENTS */
ASCENDING_NODE_LONGITUDE = 139.46
MAXIMUM_RESOLUTION = 25
FOOTPRINT_POINT_LATITUDE = (-26.4249,-26.4226,-26.4206,-26.2942, -26.0544,-25.8142,-25.4555,-25.2163, -24.8576,-24.6187,-24.38,-24.1413, -23.903,-23.6651,-23.4274,-23.1898, -22.9523,-22.7097,-22.4639,-22.2185, -21.9733,-21.7286,-21.3615,-21.1175, -20.8737,-20.5082,-20.2645,-20.0211, -19.6453,-19.3945,-19.1441,-18.7688, -18.519,-18.2695,-17.8952,-17.513, -17.2564,-17.0001,-16.616,-16.3607, -16.1058,-15.7154,-15.4528,-15.1908, -14.9295,-14.6685,-14.408,-14.1479, -14.0019,-14.0018,-14.0016,-14.0018, -14.0024,-14.2624,-14.5227,-14.7836, -15.1762,-15.4385,-15.701,-15.9638, -16.2195,-16.4747,-16.7304,-17.1144, -17.3709,-17.6283,-17.8833,-18.1325, -18.3819,-18.632,-18.8823,-19.1329, -19.3841,-19.6352,-20.0113,-20.254, -20.4975,-20.7419,-20.9861,-21.2303, -21.5975,-21.8424,-22.0875,-22.456, -22.702,-22.9452,-23.1829,-23.42, -23.6581,-23.8962,-24.135,-24.3736, -24.6125,-24.8515,-25.0908,-25.4503, -25.69,-26.0499,-26.4105,-26.4249)
FOOTPRINT_POINT_LONGITUDE = (267.318,267.016,266.781,266.625, 266.628,266.63,266.634,266.637,266.64, 266.643,266.645,266.647,266.649,266.651 ,266.652,266.654,266.655,266.656, 266.658,266.659,266.66,266.661,266.662, 266.662,266.663,266.663,266.663,266.663 ,266.663,266.663,266.663,266.662, 266.661,266.66,266.659,266.657,266.656, 266.655,266.652,266.651,266.649,266.646 ,266.644,266.641,266.639,266.636, 266.634,266.631,266.882,267.134,267.327 ,267.628,267.873,267.871,267.869, 267.867,267.863,267.861,267.859,267.857 ,267.855,267.853,267.851,267.848, 267.846,267.844,267.842,267.84,267.838, 267.836,267.834,267.832,267.831,267.829 ,267.826,267.824,267.822,267.82,267.818 ,267.816,267.814,267.812,267.81,267.807 ,267.805,267.803,267.801,267.799, 267.797,267.795,267.794,267.792,267.79, 267.788,267.786,267.783,267.781,267.778 ,267.775,267.318)
ORBIT_NUMBER = 4241
ORBITAL_ECCENTRICITY = 0.572
ORBITAL_INCLINATION = 86.68
ORBITAL_SEMIMAJOR_AXIS = 8609.08
PERIAPSIS_ALTITUDE = 296.17
PERIAPSIS_ARGUMENT_ANGLE = 331.01
PERIAPSIS_TIME = 2007-04-25T05:14:05.000Z
SPACECRAFT_ORIENTATION = (0.0,1.0,0.0)
^MEX_ORIENTATION_DESC = "MEX_ORIENTATION_DESC.TXT"
SPACECRAFT_POINTING_MODE = NADIR
^MEX_POINTING_DESC = "MEX_POINTING_DESC.TXT"
RIGHT_ASCENSION = -1e+32
DECLINATION = -1e+32
OFFSET_ANGLE = -1e+32
SPACECRAFT_SOLAR_DISTANCE = 2.08391e+08
TARGET_NAME = MARS
/* CAMERA DATA ELEMENTS */
DETECTOR_TEMPERATURE = 17.7588
FOCAL_PLANE_TEMPERATURE = 8.7872
INST_CMPRS_NAME = "DISCRETE COSINE TRANSFORMATION (DCT)"
INST_CMPRS_RATIO = 7.95038
INST_CMPRS_QUALITY = 0
INST_CMPRS_QUANTZ_TBL_ID = 0
INSTRUMENT_TEMPERATURE = 11.8457
LENS_TEMPERATURE = 9.3989
MACROPIXEL_SIZE = 2
MISSING_FRAMES = 0
PIXEL_SUBSAMPLING_FLAG = N
SIGNAL_CHAIN_ID = 1
/* RADIOMETRIC DATA ELEMENTS */
BANDWIDTH = 180.0
CENTER_FILTER_WAVELENGTH = 677.0
RADIANCE_OFFSET = 4.47675
RADIANCE_SCALING_FACTOR = 0.0219911
REFLECTANCE_SCALING_FACTOR = 0.000498246
MEX:REFLECTANCE_OFFSET = 0.101429
/* IMAGE OBJECT DEFINITIONS */
OBJECT = IMAGE
  INTERCHANGE_FORMAT = BINARY
  LINES = 29432
  LINE_SAMPLES = 2958
  SAMPLE_TYPE = UNSIGNED_INTEGER
  SAMPLE_BITS = 8
  BANDS = 1
  BAND_STORAGE_TYPE = BAND_SEQUENTIAL
  MAXIMUM = 255
  MEAN = 102.505
  MINIMUM = 1
  STANDARD_DEVIATION = 21.6706
END_OBJECT = IMAGE
/* MAP OBJECT DEFINITIONS */
OBJECT = IMAGE_MAP_PROJECTION
  ^DATA_SET_MAP_PROJECTION_CATALOG= "DSMAP.CAT"
  A_AXIS_RADIUS = 3396.0
  B_AXIS_RADIUS = 3396.0
  C_AXIS_RADIUS = 3396.0
  CENTER_LATITUDE = 0.0
  CENTER_LONGITUDE = 267.0
  COORDINATE_SYSTEM_NAME = PLANETOGRAPHIC
  COORDINATE_SYSTEM_TYPE = "BODY-FIXED ROTATING"
  EASTERNMOST_LONGITUDE = 267.873
  FIRST_STANDARD_PARALLEL = "N/A"
  LINE_FIRST_PIXEL = 1
  LINE_LAST_PIXEL = 29432
  LINE_PROJECTION_OFFSET = -33299.25
  MAP_PROJECTION_ROTATION = 0.0
  MAP_PROJECTION_TYPE = SINUSOIDAL
  MAP_RESOLUTION = 2370.85521546667
  MAP_SCALE = 0.025
  MAXIMUM_LATITUDE = -14.0016
  MINIMUM_LATITUDE = -26.4249
  POSITIVE_LONGITUDE_DIRECTION = EAST
  REFERENCE_LATITUDE = "N/A"
  REFERENCE_LONGITUDE = "N/A"
  SAMPLE_FIRST_PIXEL = 1
  SAMPLE_LAST_PIXEL = 2958
  SAMPLE_PROJECTION_OFFSET = 902.75
  SECOND_STANDARD_PARALLEL = "N/A"
  WESTERNMOST_LONGITUDE = 266.625
END_OBJECT = IMAGE_MAP_PROJECTION
/* The JPEG2000 image data file associated with this label. */
OBJECT = COMPRESSED_FILE
  FILE_NAME = "H4241_0000_S13.JP2"
  RECORD_TYPE = UNDEFINED
  FILE_RECORDS = UNK
  ENCODING_TYPE = "JP2"
  INTERCHANGE_FORMAT = BINARY
  UNCOMPRESSED_FILE_NAME = "H4241_0000_S13.IMG"
  REQUIRED_STORAGE_BYTES = "87083520"
  ^DESCRIPTION = "JP2INFO.TXT"
END_OBJECT = COMPRESSED_FILE
END
