PDS_VERSION_ID = PDS3
/* FILE DATA ELEMENTS */
RECORD_TYPE = STREAM
/* POINTERS TO DATA OBJECTS */
^COMPRESSED_FILE = "H4245_0000_P13.JP2"
/* IDENTIFICATION DATA ELEMENTS */
DATA_SET_ID = "MEX-M-HRSC-5-REFDR-MAPPROJECTED-V3.0"
DATA_SET_NAME = "MARS EXPRESS HRSC MAP PROJECTED REFDR V3.0"
DETECTOR_ID = MEX_HRSC_P1
EVENT_TYPE = "MARS-REGIONAL-MAPPING-Vo-Te-Im"
INSTRUMENT_HOST_ID = MEX
INSTRUMENT_HOST_NAME = "MARS EXPRESS"
INSTRUMENT_ID = HRSC
INSTRUMENT_NAME = "HIGH RESOLUTION STEREO CAMERA"
MISSION_NAME = "MARS EXPRESS"
MISSION_PHASE_NAME = ME_Phase_7
PROCESSING_LEVEL_ID = 3
PRODUCT_CREATION_TIME = 2016-04-21T04:35:46.000Z
PRODUCT_ID = "H4245_0000_P13.JP2"
RELEASE_ID = 0048
REVISION_ID = 0000
/* QUALITY DATA ELEMENTS */
DATA_QUALITY_ID = 2
DATA_QUALITY_DESC = "Data calculated based on photogrammetrically improved orbit and attitude data"
/* TIME DATA ELEMENTS */
SPACECRAFT_CLOCK_START_COUNT = "1/0125654478.09077"
SPACECRAFT_CLOCK_STOP_COUNT = "1/0125654692.17389"
START_TIME = 2007-04-26T08:02:19.848Z
STOP_TIME = 2007-04-26T08:04:45.137Z
/* ORBITAL DATA ELEMENTS */
ASCENDING_NODE_LONGITUDE = 139.39
MAXIMUM_RESOLUTION = 50.3
FOOTPRINT_POINT_LATITUDE = (-47.4733,-47.4679,-47.4616,-47.4549, -47.4476,-47.4714,-47.268,-47.0716, -46.8733,-46.6751,-46.4771,-46.1796, -45.8819,-45.6833,-45.4846,-45.2856, -44.987,-44.6881,-44.4889,-44.2896, -44.0908,-43.8013,-43.6082,-43.4149, -43.1248,-42.8346,-42.6412,-42.3511, -42.1588,-41.9701,-41.6899,-41.5026, -41.3143,-41.1252,-40.8436,-40.6562, -40.4693,-40.2826,-40.0948,-39.9097, -39.6404,-39.4596,-39.2776,-39.0946, -38.8214,-38.6401,-38.3681,-38.1868, -38.0061,-37.8483,-37.8522,-37.8574, -37.8594,-37.8631,-38.0447,-38.2266, -38.4992,-38.681,-38.8625,-39.0442, -39.2254,-39.4973,-39.7686,-39.9509, -40.1385,-40.3257,-40.5146,-40.7977, -40.9855,-41.1724,-41.3587,-41.5484, -41.7361,-41.9248,-42.1123,-42.305, -42.4991,-42.6933,-42.8872,-43.0812, -43.275,-43.5656,-43.7595,-43.9532, -44.2472,-44.4471,-44.747,-45.0468, -45.2464,-45.446,-45.7454,-45.9443, -46.144,-46.343,-46.5425,-46.7423, -46.9416,-47.2405,-47.4396,-47.4733)
FOOTPRINT_POINT_LONGITUDE = (233.574,233.323,233.056,232.788, 232.519,232.208,232.235,232.254,232.274 ,232.294,232.313,232.342,232.37,232.388 ,232.406,232.424,232.451,232.477, 232.494,232.511,232.528,232.551,232.567 ,232.582,232.605,232.628,232.642, 232.663,232.677,232.692,232.712,232.724 ,232.738,232.753,232.772,232.784, 232.795,232.806,232.818,232.827,232.841 ,232.852,232.863,232.875,232.892, 232.902,232.917,232.927,232.936,233.033 ,233.313,233.73,233.944,234.298,234.295 ,234.292,234.286,234.283,234.279, 234.275,234.272,234.266,234.26,234.256, 234.252,234.247,234.243,234.237,234.233 ,234.229,234.224,234.22,234.215,234.211 ,234.207,234.203,234.198,234.193, 234.188,234.183,234.178,234.17,234.165, 234.16,234.152,234.146,234.137,234.129, 234.123,234.117,234.108,234.101,234.095 ,234.089,234.082,234.076,234.07,234.06, 234.053,233.574)
ORBIT_NUMBER = 4245
ORBITAL_ECCENTRICITY = 0.572
ORBITAL_INCLINATION = 86.69
ORBITAL_SEMIMAJOR_AXIS = 8604.92
PERIAPSIS_ALTITUDE = 295.79
PERIAPSIS_ARGUMENT_ANGLE = 330.29
PERIAPSIS_TIME = 2007-04-26T08:06:32.000Z
SPACECRAFT_ORIENTATION = (0.0,1.0,0.0)
^MEX_ORIENTATION_DESC = "MEX_ORIENTATION_DESC.TXT"
SPACECRAFT_POINTING_MODE = ACROSSTRACK
^MEX_POINTING_DESC = "MEX_POINTING_DESC.TXT"
RIGHT_ASCENSION = -1e+32
DECLINATION = -1e+32
OFFSET_ANGLE = 0.25
SPACECRAFT_SOLAR_DISTANCE = 2.08298e+08
TARGET_NAME = MARS
/* CAMERA DATA ELEMENTS */
DETECTOR_TEMPERATURE = 17.351
FOCAL_PLANE_TEMPERATURE = 8.3794
INST_CMPRS_NAME = "DISCRETE COSINE TRANSFORMATION (DCT)"
INST_CMPRS_RATIO = 17.0018
INST_CMPRS_QUALITY = 0
INST_CMPRS_QUANTZ_TBL_ID = 0
INSTRUMENT_TEMPERATURE = 11.4379
LENS_TEMPERATURE = 8.7872
MACROPIXEL_SIZE = 4
MISSING_FRAMES = 0
PIXEL_SUBSAMPLING_FLAG = N
SIGNAL_CHAIN_ID = 3
/* RADIOMETRIC DATA ELEMENTS */
BANDWIDTH = 174.0
CENTER_FILTER_WAVELENGTH = 675.0
RADIANCE_OFFSET = 5.39408
RADIANCE_SCALING_FACTOR = 0.0103344
REFLECTANCE_SCALING_FACTOR = 0.00024118
MEX:REFLECTANCE_OFFSET = 0.125885
/* IMAGE OBJECT DEFINITIONS */
OBJECT = IMAGE
  INTERCHANGE_FORMAT = BINARY
  LINES = 11493
  LINE_SAMPLES = 1918
  SAMPLE_TYPE = UNSIGNED_INTEGER
  SAMPLE_BITS = 8
  BANDS = 1
  BAND_STORAGE_TYPE = BAND_SEQUENTIAL
  MAXIMUM = 255
  MEAN = 126.026
  MINIMUM = 1
  STANDARD_DEVIATION = 17.9795
END_OBJECT = IMAGE
/* MAP OBJECT DEFINITIONS */
OBJECT = IMAGE_MAP_PROJECTION
  ^DATA_SET_MAP_PROJECTION_CATALOG= "DSMAP.CAT"
  A_AXIS_RADIUS = 3396.0
  B_AXIS_RADIUS = 3396.0
  C_AXIS_RADIUS = 3396.0
  CENTER_LATITUDE = 0.0
  CENTER_LONGITUDE = 233.0
  COORDINATE_SYSTEM_NAME = PLANETOGRAPHIC
  COORDINATE_SYSTEM_TYPE = "BODY-FIXED ROTATING"
  EASTERNMOST_LONGITUDE = 234.298
  FIRST_STANDARD_PARALLEL = "N/A"
  LINE_FIRST_PIXEL = 1
  LINE_LAST_PIXEL = 11493
  LINE_PROJECTION_OFFSET = -44869.875
  MAP_PROJECTION_ROTATION = 0.0
  MAP_PROJECTION_TYPE = SINUSOIDAL
  MAP_RESOLUTION = 1185.42760773333
  MAP_SCALE = 0.05
  MAXIMUM_LATITUDE = -37.8483
  MINIMUM_LATITUDE = -47.4733
  POSITIVE_LONGITUDE_DIRECTION = EAST
  REFERENCE_LATITUDE = "N/A"
  REFERENCE_LONGITUDE = "N/A"
  SAMPLE_FIRST_PIXEL = 1
  SAMPLE_LAST_PIXEL = 1918
  SAMPLE_PROJECTION_OFFSET = 677.875
  SECOND_STANDARD_PARALLEL = "N/A"
  WESTERNMOST_LONGITUDE = 232.208
END_OBJECT = IMAGE_MAP_PROJECTION
/* The JPEG2000 image data file associated with this label. */
OBJECT = COMPRESSED_FILE
  FILE_NAME = "H4245_0000_P13.JP2"
  RECORD_TYPE = UNDEFINED
  FILE_RECORDS = UNK
  ENCODING_TYPE = "JP2"
  INTERCHANGE_FORMAT = BINARY
  UNCOMPRESSED_FILE_NAME = "H4245_0000_P13.IMG"
  REQUIRED_STORAGE_BYTES = "22062754"
  ^DESCRIPTION = "JP2INFO.TXT"
END_OBJECT = COMPRESSED_FILE
END
